{"text_format":"1","workbook":"xlsx","n_sheets":18,"sheets":["事業認定申請書","【印刷】事業認定申請書","事業変更申請書","【印刷】事業変更申請書","交付金交付請求書","【印刷】交付金交付請求書","実績報告","【印刷】実績報告","金額確認一覧","バージョン","金額確認一覧計算用","事業一覧","科目一覧","区分一覧","郵便番号一覧","地区緑推一覧","市町村一覧","申請区分"],"not_rendered":{"charts":0,"images":0,"macros":1,"external_links":0,"defined_names":2239,"comments":4,"pivot_tables":0},"unopened":[],"bounds":{"document_bytes":16777216,"sheet_cells":100000,"rows_first":2000,"rows_last":500,"rows_between":2000,"halvings":0,"cell_chars":16384,"cell_head_chars":4096},"cells_cut":0,"cells_raw":0,"read":"whole","date_system":"1900"}

{"sheet":"事業認定申請書","index":0,"n_rows":156,"n_cols":32,"rows_kept":156,"cut":false,"hidden":false,"merged":[[155,1,155,3],[155,4,155,9],[155,11,155,13],[155,15,155,20],[155,22,155,24],[109,10,110,12],[44,2,45,10],[44,11,45,14],[54,10,55,12],[153,1,153,3],[153,4,153,14],[153,15,153,25],[154,1,154,3],[154,4,154,5],[154,6,154,7],[154,9,154,10],[154,12,154,13],[154,15,154,16],[154,17,154,18],[154,20,154,21],[154,23,154,24],[137,3,137,7],[137,9,137,26],[138,3,138,7],[138,9,138,26],[140,3,140,26],[142,3,142,26],[144,3,144,26],[149,2,149,26],[152,1,152,3],[152,4,152,14],[152,15,152,25],[123,2,123,9],[123,10,123,12],[130,3,130,8],[134,3,134,7],[134,9,134,26],[135,3,135,7],[135,9,135,26],[136,3,136,7],[136,9,136,26],[120,2,120,4],[120,5,120,9],[120,10,120,12],[120,13,120,20],[120,21,120,22],[120,23,120,24],[120,25,120,26],[121,2,121,9],[121,10,121,12],[118,2,118,4],[118,5,118,9],[118,10,118,12],[118,13,118,20],[118,21,118,22],[118,23,118,24],[118,25,118,26],[119,2,119,4],[119,5,119,9],[119,10,119,12],[119,13,119,20],[119,21,119,22],[119,23,119,24],[119,25,119,26],[116,2,116,4],[116,5,116,9],[116,10,116,12],[116,13,116,20],[116,21,116,22],[116,23,116,24],[116,25,116,26],[117,2,117,4],[117,5,117,9],[117,10,117,12],[117,13,117,20],[117,21,117,22],[117,23,117,24],[117,25,117,26],[114,2,114,4],[114,5,114,9],[114,10,114,12],[114,13,114,20],[114,21,114,22],[114,23,114,24],[114,25,114,26],[115,2,115,4],[115,5,115,9],[115,10,115,12],[115,13,115,20],[115,21,115,22],[115,23,115,24],[115,25,115,26],[112,2,112,4],[112,5,112,9],[112,10,112,12],[112,13,112,20],[112,21,112,22],[112,23,112,24],[112,25,112,26],[113,2,113,4],[113,5,113,9],[113,10,113,12],[113,13,113,20],[113,21,113,22],[113,23,113,24],[113,25,113,26],[109,2,109,9],[109,13,109,26],[110,2,110,4],[110,5,110,9],[110,13,110,20],[110,21,110,22],[110,23,110,24],[110,25,110,26],[111,2,111,4],[111,5,111,9],[111,10,111,12],[111,13,111,20],[111,21,111,22],[111,23,111,24],[111,25,111,26],[105,2,105,4],[105,5,105,9],[105,10,105,12],[105,13,105,20],[105,21,105,22],[105,23,105,24],[105,25,105,26],[106,2,106,9],[106,10,106,12],[103,2,103,4],[103,5,103,9],[103,10,103,12],[103,13,103,20],[103,21,103,22],[103,23,103,24],[103,25,103,26],[104,2,104,4],[104,5,104,9],[104,10,104,12],[104,13,104,20],[104,21,104,22],[104,23,104,24],[104,25,104,26],[101,2,101,4],[101,5,101,9],[101,10,101,12],[101,13,101,20],[101,21,101,22],[101,23,101,24],[101,25,101,26],[102,2,102,4],[102,5,102,9],[102,10,102,12],[102,13,102,20],[102,21,102,22],[102,23,102,24],[102,25,102,26],[99,2,99,4],[99,5,99,9],[99,10,99,12],[99,13,99,20],[99,21,99,22],[99,23,99,24],[99,25,99,26],[100,2,100,4],[100,5,100,9],[100,10,100,12],[100,13,100,20],[100,21,100,22],[100,23,100,24],[100,25,100,26],[97,2,97,4],[97,5,97,9],[97,10,97,12],[97,13,97,20],[97,21,97,22],[97,23,97,24],[97,25,97,26],[98,2,98,4],[98,5,98,9],[98,10,98,12],[98,13,98,20],[98,21,98,22],[98,23,98,24],[98,25,98,26],[95,2,95,4],[95,5,95,9],[95,10,95,12],[95,13,95,20],[95,21,95,22],[95,23,95,24],[95,25,95,26],[96,2,96,4],[96,5,96,9],[96,10,96,12],[96,13,96,20],[96,21,96,22],[96,23,96,24],[96,25,96,26],[93,2,93,4],[93,5,93,9],[93,10,93,12],[93,13,93,20],[93,21,93,22],[93,23,93,24],[93,25,93,26],[94,2,94,4],[94,5,94,9],[94,10,94,12],[94,13,94,20],[94,21,94,22],[94,23,94,24],[94,25,94,26],[91,2,91,4],[91,5,91,9],[91,10,91,12],[91,13,91,20],[91,21,91,22],[91,23,91,24],[91,25,91,26],[92,2,92,4],[92,5,92,9],[92,10,92,12],[92,13,92,20],[92,21,92,22],[92,23,92,24],[92,25,92,26],[89,2,89,4],[89,5,89,9],[89,10,89,12],[89,13,89,20],[89,21,89,22],[89,23,89,24],[89,25,89,26],[90,2,90,4],[90,5,90,9],[90,10,90,12],[90,13,90,20],[90,21,90,22],[90,23,90,24],[90,25,90,26],[87,2,87,4],[87,5,87,9],[87,10,87,12],[87,13,87,20],[87,21,87,22],[87,23,87,24],[87,25,87,26],[88,2,88,4],[88,5,88,9],[88,10,88,12],[88,13,88,20],[88,21,88,22],[88,23,88,24],[88,25,88,26],[85,2,85,4],[85,5,85,9],[85,10,85,12],[85,13,85,20],[85,21,85,22],[85,23,85,24],[85,25,85,26],[86,2,86,4],[86,5,86,9],[86,10,86,12],[86,13,86,20],[86,21,86,22],[86,23,86,24],[86,25,86,26],[83,2,83,4],[83,5,83,9],[83,10,83,12],[83,13,83,20],[83,21,83,22],[83,23,83,24],[83,25,83,26],[84,2,84,4],[84,5,84,9],[84,10,84,12],[84,13,84,20],[84,21,84,22],[84,23,84,24],[84,25,84,26],[81,2,81,4],[81,5,81,9],[81,10,81,12],[81,13,81,20],[81,21,81,22],[81,23,81,24],[81,25,81,26],[82,2,82,4],[82,5,82,9],[82,10,82,12],[82,13,82,20],[82,21,82,22],[82,23,82,24],[82,25,82,26],[79,2,79,4],[79,5,79,9],[79,10,79,12],[79,13,79,20],[79,21,79,22],[79,23,79,24],[79,25,79,26],[80,2,80,4],[80,5,80,9],[80,10,80,12],[80,13,80,20],[80,21,80,22],[80,23,80,24],[80,25,80,26],[77,2,77,4],[77,5,77,9],[77,10,77,12],[77,13,77,20],[77,21,77,22],[77,23,77,24],[77,25,77,26],[78,2,78,4],[78,5,78,9],[78,10,78,12],[78,13,78,20],[78,21,78,22],[78,23,78,24],[78,25,78,26],[75,2,75,4],[75,5,75,9],[75,10,75,12],[75,13,75,20],[75,21,75,22],[75,23,75,24],[75,25,75,26],[76,2,76,4],[76,5,76,9],[76,10,76,12],[76,13,76,20],[76,21,76,22],[76,23,76,24],[76,25,76,26],[73,2,73,4],[73,5,73,9],[73,10,73,12],[73,13,73,20],[73,21,73,22],[73,23,73,24],[73,25,73,26],[74,2,74,4],[74,5,74,9],[74,10,74,12],[74,13,74,20],[74,21,74,22],[74,23,74,24],[74,25,74,26],[71,2,71,4],[71,5,71,9],[71,10,71,12],[71,13,71,20],[71,21,71,22],[71,23,71,24],[71,25,71,26],[72,2,72,4],[72,5,72,9],[72,10,72,12],[72,13,72,20],[72,21,72,22],[72,23,72,24],[72,25,72,26],[69,2,69,4],[69,5,69,9],[69,10,69,12],[69,13,69,20],[69,21,69,22],[69,23,69,24],[69,25,69,26],[70,2,70,4],[70,5,70,9],[70,10,70,12],[70,13,70,20],[70,21,70,22],[70,23,70,24],[70,25,70,26],[67,2,67,4],[67,5,67,9],[67,10,67,12],[67,13,67,20],[67,21,67,22],[67,23,67,24],[67,25,67,26],[68,2,68,4],[68,5,68,9],[68,10,68,12],[68,13,68,20],[68,21,68,22],[68,23,68,24],[68,25,68,26],[65,2,65,4],[65,5,65,9],[65,10,65,12],[65,13,65,20],[65,21,65,22],[65,23,65,24],[65,25,65,26],[66,2,66,4],[66,5,66,9],[66,10,66,12],[66,13,66,20],[66,21,66,22],[66,23,66,24],[66,25,66,26],[63,2,63,4],[63,5,63,9],[63,10,63,12],[63,13,63,20],[63,21,63,22],[63,23,63,24],[63,25,63,26],[64,2,64,4],[64,5,64,9],[64,10,64,12],[64,13,64,20],[64,21,64,22],[64,23,64,24],[64,25,64,26],[61,2,61,4],[61,5,61,9],[61,10,61,12],[61,13,61,20],[61,21,61,22],[61,23,61,24],[61,25,61,26],[62,2,62,4],[62,5,62,9],[62,10,62,12],[62,13,62,20],[62,21,62,22],[62,23,62,24],[62,25,62,26],[59,2,59,4],[59,5,59,9],[59,10,59,12],[59,13,59,20],[59,21,59,22],[59,23,59,24],[59,25,59,26],[60,2,60,4],[60,5,60,9],[60,10,60,12],[60,13,60,20],[60,21,60,22],[60,23,60,24],[60,25,60,26],[57,2,57,4],[57,5,57,9],[57,10,57,12],[57,13,57,20],[57,21,57,22],[57,23,57,24],[57,25,57,26],[58,2,58,4],[58,5,58,9],[58,10,58,12],[58,13,58,20],[58,21,58,22],[58,23,58,24],[58,25,58,26],[54,2,54,9],[54,13,54,26],[55,2,55,4],[55,5,55,9],[55,13,55,20],[55,21,55,22],[55,23,55,24],[55,25,55,26],[56,2,56,4],[56,5,56,9],[56,10,56,12],[56,13,56,20],[56,21,56,22],[56,23,56,24],[56,25,56,26],[49,2,49,10],[49,11,49,14],[49,15,49,18],[49,19,49,22],[49,23,49,26],[50,2,50,10],[50,11,50,14],[50,15,50,18],[50,19,50,22],[50,23,50,26],[47,2,47,10],[47,11,47,14],[47,15,47,18],[47,19,47,22],[47,23,47,26],[48,2,48,10],[48,11,48,14],[48,15,48,18],[48,19,48,22],[48,23,48,26],[40,2,40,26],[44,15,44,26],[45,15,45,18],[45,19,45,22],[45,23,45,26],[46,2,46,10],[46,11,46,14],[46,15,46,18],[46,19,46,22],[46,23,46,26],[20,2,20,14],[20,17,20,25],[23,2,23,26],[27,3,27,26],[29,3,29,26],[31,3,31,26],[33,3,33,26],[35,3,35,26],[37,3,37,26],[7,1,7,2],[7,3,7,7],[9,17,9,18],[9,20,9,22],[10,16,10,26],[11,16,11,26],[12,16,12,26],[14,1,14,26],[16,1,16,26],[2,31,2,35],[2,36,2,57],[3,16,3,20],[3,22,3,25],[4,16,4,17],[4,18,4,19],[4,21,4,22],[4,24,4,25],[5,1,5,26]]}
[]
[]
["様式1",null,null,null,null,null,null,null,null,null,null,null,null,null,null,null,null,null,null,null,null,null,null,null,null,null,null,null,null,null,null,"前年度ファイル"]
[null,null,null,null,null,null,null,null,null,null,null,null,null,null,null,null,null,null,null,null,null,"第",null,null,null,null,"号"]
[null,null,null,null,null,null,null,null,null,null,null,null,null,null,null,null,"令和",null,null,null,"年",null,null,"月",null,null,"日"]
[null,"（公財）山梨県緑化推進機構"]
[]
[null,"代表理事",null,"鷹野　裕司",null,null,null,null,"殿"]
[null,null,null,null,null,null,null,null,null,null,null,null,null,null,null,"（申請者）"]
[null,null,null,null,null,null,null,null,null,null,null,null,null,null,null,null,"〒",null,null,"－"]
[null,null,null,null,null,null,null,null,null,null,null,null,null,null,null,null,"[住所]"]
[null,null,null,null,null,null,null,null,null,null,null,null,null,null,null,null,"[法人・団体の名称]"]
[null,null,null,null,null,null,null,null,null,null,null,null,null,null,null,null,"[代表者役職名・氏名]"]
[]
[null,"令和８年度緑の募金事業認定（交付金交付）申請書"]
[]
[null,"　令和８年度の緑の募金事業として、次の事業を実施したいので、関係書類を添えて認定を申請します。"]
[]
[null,"１　事業名"]
[null,null,"（注）事業名ごとに申請書を作成してください。"]
[]
[]
[null,"２　事業目的"]
[]
[]
[null,"３　事業計画"]
[null,null,"（１）事業の内容"]
[]
[null,null,"（２）実施場所　（位置図添付）"]
[]
[null,null,"（３）事業量　（面積、延長、本数等）"]
[]
[null,null,"（４）事業スケジュール"]
[]
[null,null,"（５）現地の状況　（可能な限り写真添付）"]
[]
[null,null,"（６）事業参加人数　（見込み数）"]
[]
[]
[null,"４　事業完了後の維持管理の方法"]
[]
[]
[null,"５　資金計画"]
[null,null,"（収入の部）"]
[null,null,"区　　分",null,null,null,null,null,null,null,null,"予算額（円）",null,null,null,"収　入　区　分　（円）"]
[null,null,null,null,null,null,null,null,null,null,null,null,null,null,null,"緑の募金交付金",null,null,null,"その他助成金",null,null,null,"自 己 資 金"]
[null,null,{"$f":"IF($C$21<>\"\",VLOOKUP($C$21,事業一覧!A:C,3,FALSE),\"\")","v":""},null,null,null,null,null,null,null,null,{"$f":"SUM(P47:AA47)","v":0}]
[null,null,null,null,null,null,null,null,null,null,null,{"$f":"SUM(P48:AA48)","v":0}]
[null,null,null,null,null,null,null,null,null,null,null,{"$f":"SUM(P49:AA49)","v":0}]
[null,null,null,null,null,null,null,null,null,null,null,0]
[null,null,"計",null,null,null,null,null,null,null,null,{"$f":"SUM(L47:O50)","v":0},null,null,null,{"$f":"SUM(P47:S50)","v":0},null,null,null,{"$f":"SUM(T47:W50)","v":0},null,null,null,{"$f":"SUM(X47:AA50)","v":0}]
[null,null,"（注）　・区分欄は事業内容の異なるごとに区分して記載する。"]
[]
[null,null,"（支出の部）　交付対象経費"]
[null,null,"経　費　区　分",null,null,null,null,null,null,null,"予算額（円）",null,null,"支　出　内　容　（円）"]
[null,null,"科　目",null,null,"区　　分",null,null,null,null,null,null,null,"内容名",null,null,null,null,null,null,null,"単価",null,"数量",null,"単位"]
[null,null,null,null,null,null,null,null,null,null,{"$f":"V57*X57","v":0}]
[null,null,null,null,null,null,null,null,null,null,{"$f":"V58*X58","v":0}]
[null,null,null,null,null,null,null,null,null,null,0]
[null,null,null,null,null,null,null,null,null,null,0]
[null,null,null,null,null,null,null,null,null,null,0]
[null,null,null,null,null,null,null,null,null,null,0]
[null,null,null,null,null,null,null,null,null,null,0]
[null,null,null,null,null,null,null,null,null,null,0]
[null,null,null,null,null,null,null,null,null,null,0]
[null,null,null,null,null,null,null,null,null,null,0]
[null,null,null,null,null,null,null,null,null,null,0]
[null,null,null,null,null,null,null,null,null,null,0]
[null,null,null,null,null,null,null,null,null,null,0]
[null,null,null,null,null,null,null,null,null,null,0]
[null,null,null,null,null,null,null,null,null,null,0]
[null,null,null,null,null,null,null,null,null,null,0]
[null,null,null,null,null,null,null,null,null,null,0]
[null,null,null,null,null,null,null,null,null,null,0]
[null,null,null,null,null,null,null,null,null,null,0]
[null,null,null,null,null,null,null,null,null,null,0]
[null,null,null,null,null,null,null,null,null,null,0]
[null,null,null,null,null,null,null,null,null,null,0]
[null,null,null,null,null,null,null,null,null,null,0]
[null,null,null,null,null,null,null,null,null,null,0]
[null,null,null,null,null,null,null,null,null,null,0]
[null,null,null,null,null,null,null,null,null,null,0]
[null,null,null,null,null,null,null,null,null,null,0]
[null,null,null,null,null,null,null,null,null,null,0]
[null,null,null,null,null,null,null,null,null,null,0]
[null,null,null,null,null,null,null,null,null,null,0]
[null,null,null,null,null,null,null,null,null,null,{"$f":"V87*X87","v":0}]
[null,null,null,null,null,null,null,null,null,null,0]
[null,null,null,null,null,null,null,null,null,null,0]
[null,null,null,null,null,null,null,null,null,null,0]
[null,null,null,null,null,null,null,null,null,null,0]
[null,null,null,null,null,null,null,null,null,null,0]
[null,null,null,null,null,null,null,null,null,null,0]
[null,null,null,null,null,null,null,null,null,null,0]
[null,null,null,null,null,null,null,null,null,null,0]
[null,null,null,null,null,null,null,null,null,null,0]
[null,null,null,null,null,null,null,null,null,null,{"$f":"V97*X97","v":0}]
[null,null,null,null,null,null,null,null,null,null,0]
[null,null,null,null,null,null,null,null,null,null,0]
[null,null,null,null,null,null,null,null,null,null,0]
[null,null,null,null,null,null,null,null,null,null,0]
[null,null,null,null,null,null,null,null,null,null,0]
[null,null,null,null,null,null,null,null,null,null,0]
[null,null,null,null,null,null,null,null,null,null,0]
[null,null,null,null,null,null,null,null,null,null,0]
[null,null,null,null,null,null,null,null,null,null,0]
[null,null,"小計",null,null,null,null,null,null,null,{"$f":"SUM(K57:M106)","v":0}]
[]
[null,null,"（支出の部）　対象外経費"]
[null,null,"経　費　区　分",null,null,null,null,null,null,null,"予算額（円）",null,null,"支　出　内　容　（円）"]
[null,null,"科　目",null,null,"区　　分",null,null,null,null,null,null,null,"内容名",null,null,null,null,null,null,null,"単価",null,"数量",null,"単位"]
[null,null,null,null,null,null,null,null,null,null,{"$f":"V112*X112","v":0}]
[null,null,null,null,null,null,null,null,null,null,{"$f":"V113*X113","v":0}]
[null,null,null,null,null,null,null,null,null,null,0]
[null,null,null,null,null,null,null,null,null,null,0]
[null,null,null,null,null,null,null,null,null,null,0]
[null,null,null,null,null,null,null,null,null,null,0]
[null,null,null,null,null,null,null,null,null,null,0]
[null,null,null,null,null,null,null,null,null,null,0]
[null,null,null,null,null,null,null,null,null,null,0]
[null,null,null,null,null,null,null,null,null,null,0]
[null,null,"小計",null,null,null,null,null,null,null,{"$f":"SUM(K112:M121)","v":0}]
[]
[null,null,"支出の部合計",null,null,null,null,null,null,null,{"$f":"K107+K122","v":0},null,null,null,{"$f":"IF(L51<>K124,\"※「収入の部計」と「支出の部計」の値が異なっています\",\"\")","v":""}]
[]
[null,null,"（注）　・経費区分欄は、交付対象経費、対象外経費に分けて記載する。ただし、交付対象外経"]
[null,null,"　　　　　費のない場合は交付対象外経費欄を省略して差し支えない。"]
[null,null,"　　　　・支出内容は数量、規模、単価等の積算根拠等を記載する。"]
[]
[null,"６　交付金交付申請額"]
[null,null,"金",{"$f":"$P$51","v":0},null,null,null,null,null,"円"]
[]
[null,"７　申請者の概要"]
[null,null,"（１）法人・団体"]
[null,null,null,"名称"]
[null,null,null,"設立年月日"]
[null,null,null,"電話番号"]
[null,null,null,"FAX番号"]
[null,null,null,"メールアドレス"]
[null,null,"（２）会員数"]
[]
[null,null,"（３）活動目的"]
[]
[null,null,"（４）主な活動内容"]
[]
[]
[null,"８　添付資料"]
[null,null,"（事業概要図、設計書、パンフレット等内容のわかる資料を添付する。）"]
[null,null,"（以下に添付ファイル名を記入する。）"]
[]
[]
[null,"※以下事務局使用欄（申請者には入力不要です）"]
[null,null,null,null,"地区緑推\n経由",null,null,null,null,null,null,null,null,null,null,"市町村進達"]
[null,"名称"]
[null,"年月日",null,null,"令和",null,null,null,"年",null,null,"月",null,null,"日","令和",null,null,null,"年",null,null,"月",null,null,"日"]
[null,"文書番号",null,null,{"$f":"IF(E154<>\"\",VLOOKUP(E154,地区緑推一覧!A:C,3,FALSE),\"\")","v":""},null,null,null,null,null,"第",null,null,null,"号",null,null,null,null,null,null,"第",null,null,null,"号"]

{"sheet":"【印刷】事業認定申請書","index":1,"n_rows":156,"n_cols":31,"rows_kept":156,"cut":false,"hidden":false,"merged":[[155,1,155,3],[155,4,155,9],[155,11,155,13],[155,15,155,20],[155,22,155,24],[109,10,110,12],[54,10,55,12],[44,2,45,10],[44,11,45,14],[149,2,149,26],[152,1,152,3],[152,4,152,14],[152,15,152,25],[153,1,153,3],[153,4,153,14],[153,15,153,25],[154,1,154,3],[154,4,154,5],[154,6,154,7],[154,9,154,10],[154,12,154,13],[154,15,154,16],[154,17,154,18],[154,20,154,21],[154,23,154,24],[136,3,136,7],[136,9,136,26],[137,3,137,7],[137,9,137,26],[138,3,138,7],[138,9,138,26],[140,3,140,26],[142,3,142,26],[144,3,144,26],[121,2,121,9],[121,10,121,12],[121,13,121,26],[123,2,123,9],[123,10,123,12],[130,3,130,8],[134,3,134,7],[134,9,134,26],[135,3,135,7],[135,9,135,26],[119,2,119,4],[119,5,119,9],[119,10,119,12],[119,13,119,20],[119,21,119,22],[119,23,119,24],[119,25,119,26],[120,2,120,4],[120,5,120,9],[120,10,120,12],[120,13,120,20],[120,21,120,22],[120,23,120,24],[120,25,120,26],[117,2,117,4],[117,5,117,9],[117,10,117,12],[117,13,117,20],[117,21,117,22],[117,23,117,24],[117,25,117,26],[118,2,118,4],[118,5,118,9],[118,10,118,12],[118,13,118,20],[118,21,118,22],[118,23,118,24],[118,25,118,26],[115,2,115,4],[115,5,115,9],[115,10,115,12],[115,13,115,20],[115,21,115,22],[115,23,115,24],[115,25,115,26],[116,2,116,4],[116,5,116,9],[116,10,116,12],[116,13,116,20],[116,21,116,22],[116,23,116,24],[116,25,116,26],[113,2,113,4],[113,5,113,9],[113,10,113,12],[113,13,113,20],[113,21,113,22],[113,23,113,24],[113,25,113,26],[114,2,114,4],[114,5,114,9],[114,10,114,12],[114,13,114,20],[114,21,114,22],[114,23,114,24],[114,25,114,26],[111,2,111,4],[111,5,111,9],[111,10,111,12],[111,13,111,20],[111,21,111,22],[111,23,111,24],[111,25,111,26],[112,2,112,4],[112,5,112,9],[112,10,112,12],[112,13,112,20],[112,21,112,22],[112,23,112,24],[112,25,112,26],[106,2,106,9],[106,10,106,12],[106,13,106,26],[109,2,109,9],[109,13,109,26],[110,2,110,4],[110,5,110,9],[110,13,110,20],[110,21,110,22],[110,23,110,24],[110,25,110,26],[104,2,104,4],[104,5,104,9],[104,10,104,12],[104,13,104,20],[104,21,104,22],[104,23,104,24],[104,25,104,26],[105,2,105,4],[105,5,105,9],[105,10,105,12],[105,13,105,20],[105,21,105,22],[105,23,105,24],[105,25,105,26],[102,2,102,4],[102,5,102,9],[102,10,102,12],[102,13,102,20],[102,21,102,22],[102,23,102,24],[102,25,102,26],[103,2,103,4],[103,5,103,9],[103,10,103,12],[103,13,103,20],[103,21,103,22],[103,23,103,24],[103,25,103,26],[100,2,100,4],[100,5,100,9],[100,10,100,12],[100,13,100,20],[100,21,100,22],[100,23,100,24],[100,25,100,26],[101,2,101,4],[101,5,101,9],[101,10,101,12],[101,13,101,20],[101,21,101,22],[101,23,101,24],[101,25,101,26],[98,2,98,4],[98,5,98,9],[98,10,98,12],[98,13,98,20],[98,21,98,22],[98,23,98,24],[98,25,98,26],[99,2,99,4],[99,5,99,9],[99,10,99,12],[99,13,99,20],[99,21,99,22],[99,23,99,24],[99,25,99,26],[96,2,96,4],[96,5,96,9],[96,10,96,12],[96,13,96,20],[96,21,96,22],[96,23,96,24],[96,25,96,26],[97,2,97,4],[97,5,97,9],[97,10,97,12],[97,13,97,20],[97,21,97,22],[97,23,97,24],[97,25,97,26],[94,2,94,4],[94,5,94,9],[94,10,94,12],[94,13,94,20],[94,21,94,22],[94,23,94,24],[94,25,94,26],[95,2,95,4],[95,5,95,9],[95,10,95,12],[95,13,95,20],[95,21,95,22],[95,23,95,24],[95,25,95,26],[92,2,92,4],[92,5,92,9],[92,10,92,12],[92,13,92,20],[92,21,92,22],[92,23,92,24],[92,25,92,26],[93,2,93,4],[93,5,93,9],[93,10,93,12],[93,13,93,20],[93,21,93,22],[93,23,93,24],[93,25,93,26],[90,2,90,4],[90,5,90,9],[90,10,90,12],[90,13,90,20],[90,21,90,22],[90,23,90,24],[90,25,90,26],[91,2,91,4],[91,5,91,9],[91,10,91,12],[91,13,91,20],[91,21,91,22],[91,23,91,24],[91,25,91,26],[88,2,88,4],[88,5,88,9],[88,10,88,12],[88,13,88,20],[88,21,88,22],[88,23,88,24],[88,25,88,26],[89,2,89,4],[89,5,89,9],[89,10,89,12],[89,13,89,20],[89,21,89,22],[89,23,89,24],[89,25,89,26],[86,2,86,4],[86,5,86,9],[86,10,86,12],[86,13,86,20],[86,21,86,22],[86,23,86,24],[86,25,86,26],[87,2,87,4],[87,5,87,9],[87,10,87,12],[87,13,87,20],[87,21,87,22],[87,23,87,24],[87,25,87,26],[84,2,84,4],[84,5,84,9],[84,10,84,12],[84,13,84,20],[84,21,84,22],[84,23,84,24],[84,25,84,26],[85,2,85,4],[85,5,85,9],[85,10,85,12],[85,13,85,20],[85,21,85,22],[85,23,85,24],[85,25,85,26],[82,2,82,4],[82,5,82,9],[82,10,82,12],[82,13,82,20],[82,21,82,22],[82,23,82,24],[82,25,82,26],[83,2,83,4],[83,5,83,9],[83,10,83,12],[83,13,83,20],[83,21,83,22],[83,23,83,24],[83,25,83,26],[80,2,80,4],[80,5,80,9],[80,10,80,12],[80,13,80,20],[80,21,80,22],[80,23,80,24],[80,25,80,26],[81,2,81,4],[81,5,81,9],[81,10,81,12],[81,13,81,20],[81,21,81,22],[81,23,81,24],[81,25,81,26],[78,2,78,4],[78,5,78,9],[78,10,78,12],[78,13,78,20],[78,21,78,22],[78,23,78,24],[78,25,78,26],[79,2,79,4],[79,5,79,9],[79,10,79,12],[79,13,79,20],[79,21,79,22],[79,23,79,24],[79,25,79,26],[76,2,76,4],[76,5,76,9],[76,10,76,12],[76,13,76,20],[76,21,76,22],[76,23,76,24],[76,25,76,26],[77,2,77,4],[77,5,77,9],[77,10,77,12],[77,13,77,20],[77,21,77,22],[77,23,77,24],[77,25,77,26],[74,2,74,4],[74,5,74,9],[74,10,74,12],[74,13,74,20],[74,21,74,22],[74,23,74,24],[74,25,74,26],[75,2,75,4],[75,5,75,9],[75,10,75,12],[75,13,75,20],[75,21,75,22],[75,23,75,24],[75,25,75,26],[72,2,72,4],[72,5,72,9],[72,10,72,12],[72,13,72,20],[72,21,72,22],[72,23,72,24],[72,25,72,26],[73,2,73,4],[73,5,73,9],[73,10,73,12],[73,13,73,20],[73,21,73,22],[73,23,73,24],[73,25,73,26],[70,2,70,4],[70,5,70,9],[70,10,70,12],[70,13,70,20],[70,21,70,22],[70,23,70,24],[70,25,70,26],[71,2,71,4],[71,5,71,9],[71,10,71,12],[71,13,71,20],[71,21,71,22],[71,23,71,24],[71,25,71,26],[68,2,68,4],[68,5,68,9],[68,10,68,12],[68,13,68,20],[68,21,68,22],[68,23,68,24],[68,25,68,26],[69,2,69,4],[69,5,69,9],[69,10,69,12],[69,13,69,20],[69,21,69,22],[69,23,69,24],[69,25,69,26],[66,2,66,4],[66,5,66,9],[66,10,66,12],[66,13,66,20],[66,21,66,22],[66,23,66,24],[66,25,66,26],[67,2,67,4],[67,5,67,9],[67,10,67,12],[67,13,67,20],[67,21,67,22],[67,23,67,24],[67,25,67,26],[64,2,64,4],[64,5,64,9],[64,10,64,12],[64,13,64,20],[64,21,64,22],[64,23,64,24],[64,25,64,26],[65,2,65,4],[65,5,65,9],[65,10,65,12],[65,13,65,20],[65,21,65,22],[65,23,65,24],[65,25,65,26],[62,2,62,4],[62,5,62,9],[62,10,62,12],[62,13,62,20],[62,21,62,22],[62,23,62,24],[62,25,62,26],[63,2,63,4],[63,5,63,9],[63,10,63,12],[63,13,63,20],[63,21,63,22],[63,23,63,24],[63,25,63,26],[60,2,60,4],[60,5,60,9],[60,10,60,12],[60,13,60,20],[60,21,60,22],[60,23,60,24],[60,25,60,26],[61,2,61,4],[61,5,61,9],[61,10,61,12],[61,13,61,20],[61,21,61,22],[61,23,61,24],[61,25,61,26],[58,2,58,4],[58,5,58,9],[58,10,58,12],[58,13,58,20],[58,21,58,22],[58,23,58,24],[58,25,58,26],[59,2,59,4],[59,5,59,9],[59,10,59,12],[59,13,59,20],[59,21,59,22],[59,23,59,24],[59,25,59,26],[56,2,56,4],[56,5,56,9],[56,10,56,12],[56,13,56,20],[56,21,56,22],[56,23,56,24],[56,25,56,26],[57,2,57,4],[57,5,57,9],[57,10,57,12],[57,13,57,20],[57,21,57,22],[57,23,57,24],[57,25,57,26],[50,2,50,10],[50,11,50,14],[50,15,50,18],[50,19,50,22],[50,23,50,26],[54,2,54,9],[54,13,54,26],[55,2,55,4],[55,5,55,9],[55,13,55,20],[55,21,55,22],[55,23,55,24],[55,25,55,26],[48,2,48,10],[48,11,48,14],[48,15,48,18],[48,19,48,22],[48,23,48,26],[49,2,49,10],[49,11,49,14],[49,15,49,18],[49,19,49,22],[49,23,49,26],[45,15,45,18],[45,19,45,22],[45,23,45,26],[46,2,46,10],[46,11,46,14],[46,15,46,18],[46,19,46,22],[46,23,46,26],[47,2,47,10],[47,11,47,14],[47,15,47,18],[47,19,47,22],[47,23,47,26],[23,2,23,26],[27,3,27,26],[29,3,29,26],[31,3,31,26],[33,3,33,26],[35,3,35,26],[37,3,37,26],[40,2,40,26],[44,15,44,26],[9,17,9,18],[9,20,9,22],[10,16,10,26],[11,16,11,26],[12,16,12,26],[14,1,14,26],[16,1,16,26],[20,2,20,14],[20,17,20,25],[3,16,3,20],[3,22,3,25],[4,16,4,17],[4,18,4,19],[4,21,4,22],[4,24,4,25],[5,1,5,26],[7,1,7,2],[7,3,7,7]]}
[]
[]
["様式1"]
[null,null,null,null,null,null,null,null,null,null,null,null,null,null,null,null,{"$f":"IF(事業認定申請書!Q4<>\"\",事業認定申請書!Q4,\"\")","v":""},null,null,null,null,{"$f":"IF(事業認定申請書!V4<>\"\",事業認定申請書!V4,\"\")","v":"第"},{"$f":"IF(事業認定申請書!W4<>\"\",事業認定申請書!W4,\"\")","v":""},null,null,null,"号"]
[null,null,null,null,null,null,null,null,null,null,null,null,null,null,null,null,"令和",null,{"$f":"IF(事業認定申請書!S5<>\"\",事業認定申請書!S5,\"\")","v":""},null,"年",{"$f":"IF(事業認定申請書!V5<>\"\",事業認定申請書!V5,\"\")","v":""},null,"月",{"$f":"IF(事業認定申請書!Y5<>\"\",事業認定申請書!Y5,\"\")","v":""},null,"日"]
[null,"（公財）山梨県緑化推進機構"]
[]
[null,"代表理事",null,{"$f":"IF(事業認定申請書!D8<>\"\",事業認定申請書!D8,\"\")","v":"鷹野　裕司"},null,null,null,null,"殿"]
[null,null,null,null,null,null,null,null,null,null,null,null,null,null,null,"（申請者）"]
[null,null,null,null,null,null,null,null,null,null,null,null,null,null,null,null,"〒",{"$f":"IF(事業認定申請書!R10<>\"\",事業認定申請書!R10,\"\")","v":""},null,"－",{"$f":"IF(事業認定申請書!U10<>\"\",事業認定申請書!U10,\"\")","v":""}]
[null,null,null,null,null,null,null,null,null,null,null,null,null,null,null,null,{"$f":"IF(事業認定申請書!Q11<>\"\",事業認定申請書!Q11,\"\")","v":"[住所]"}]
[null,null,null,null,null,null,null,null,null,null,null,null,null,null,null,null,{"$f":"IF(事業認定申請書!Q12<>\"\",事業認定申請書!Q12,\"\")","v":"[法人・団体の名称]"}]
[null,null,null,null,null,null,null,null,null,null,null,null,null,null,null,null,{"$f":"IF(事業認定申請書!Q13<>\"\",事業認定申請書!Q13,\"\")","v":"[代表者役職名・氏名]"}]
[]
[null,"令和８年度緑の募金事業認定（交付金交付）申請書"]
[]
[null,"　令和８年度の緑の募金事業として、次の事業を実施したいので、関係書類を添えて認定を申請します。"]
[]
[null,"１　事業名"]
[null,null,"（注）事業名ごとに申請書を作成してください。"]
[null,null,{"$f":"IF(事業認定申請書!C21<>\"\",事業認定申請書!C21,\"\")","v":""},null,null,null,null,null,null,null,null,null,null,null,null,null,null,{"$f":"IF(事業認定申請書!R21<>\"\",事業認定申請書!R21,\"\")","v":""}]
[]
[null,"２　事業目的"]
[null,null,{"$f":"IF(事業認定申請書!C24<>\"\",事業認定申請書!C24,\"\")","v":""}]
[]
[null,"３　事業計画"]
[null,null,"（１）事業の内容"]
[null,null,null,{"$f":"IF(事業認定申請書!D28<>\"\",事業認定申請書!D28,\"\")","v":""}]
[null,null,"（２）実施場所　（位置図添付）"]
[null,null,null,{"$f":"IF(事業認定申請書!D30<>\"\",事業認定申請書!D30,\"\")","v":""}]
[null,null,"（３）事業量　（面積、延長、本数等）"]
[null,null,null,{"$f":"IF(事業認定申請書!D32<>\"\",事業認定申請書!D32,\"\")","v":""}]
[null,null,"（４）事業スケジュール"]
[null,null,null,{"$f":"IF(事業認定申請書!D34<>\"\",事業認定申請書!D34,\"\")","v":""}]
[null,null,"（５）現地の状況　（可能な限り写真添付）"]
[null,null,null,{"$f":"IF(事業認定申請書!D36<>\"\",事業認定申請書!D36,\"\")","v":""}]
[null,null,"（６）事業参加人数　（見込み数）"]
[null,null,null,{"$f":"IF(事業認定申請書!D38<>\"\",事業認定申請書!D38,\"\")","v":""}]
[]
[null,"４　事業完了後の維持管理の方法"]
[null,null,{"$f":"IF(事業認定申請書!C41<>\"\",事業認定申請書!C41,\"\")","v":""}]
[]
[null,"５　資金計画"]
[null,null,"（収入の部）"]
[null,null,"区　　分",null,null,null,null,null,null,null,null,"予算額（円）",null,null,null,"収　入　区　分　（円）"]
[null,null,null,null,null,null,null,null,null,null,null,null,null,null,null,"緑の募金交付金",null,null,null,"その他助成金",null,null,null,"自 己 資 金"]
[null,null,{"$f":"IF(事業認定申請書!C47<>\"\",事業認定申請書!C47,\"\")","v":""},null,null,null,null,null,null,null,null,{"$f":"IF(事業認定申請書!L47<>\"\",事業認定申請書!L47,\"\")","v":0},null,null,null,{"$f":"IF(事業認定申請書!P47<>\"\",事業認定申請書!P47,\"\")","v":""},null,null,null,{"$f":"IF(事業認定申請書!T47<>\"\",事業認定申請書!T47,\"\")","v":""},null,null,null,{"$f":"IF(事業認定申請書!X47<>\"\",事業認定申請書!X47,\"\")","v":""}]
[null,null,{"$f":"IF(事業認定申請書!C48<>\"\",事業認定申請書!C48,\"\")","v":""},null,null,null,null,null,null,null,null,{"$f":"IF(事業認定申請書!L48<>\"\",事業認定申請書!L48,\"\")","v":0},null,null,null,{"$f":"IF(事業認定申請書!P48<>\"\",事業認定申請書!P48,\"\")","v":""},null,null,null,{"$f":"IF(事業認定申請書!T48<>\"\",事業認定申請書!T48,\"\")","v":""},null,null,null,{"$f":"IF(事業認定申請書!X48<>\"\",事業認定申請書!X48,\"\")","v":""},null,null,null,null,null,null,{"$f":"IF(AND(P48=\"\",T48=\"\",X48=\"\"),0,1)","v":0}]
[null,null,{"$f":"IF(事業認定申請書!C49<>\"\",事業認定申請書!C49,\"\")","v":""},null,null,null,null,null,null,null,null,{"$f":"IF(事業認定申請書!L49<>\"\",事業認定申請書!L49,\"\")","v":0},null,null,null,{"$f":"IF(事業認定申請書!P49<>\"\",事業認定申請書!P49,\"\")","v":""},null,null,null,{"$f":"IF(事業認定申請書!T49<>\"\",事業認定申請書!T49,\"\")","v":""},null,null,null,{"$f":"IF(事業認定申請書!X49<>\"\",事業認定申請書!X49,\"\")","v":""},null,null,null,null,null,null,{"$f":"IF(AND(P49=\"\",T49=\"\",X49=\"\"),0,1)","v":0}]
[null,null,{"$f":"IF(事業認定申請書!C50<>\"\",事業認定申請書!C50,\"\")","v":""},null,null,null,null,null,null,null,null,{"$f":"IF(事業認定申請書!L50<>\"\",事業認定申請書!L50,\"\")","v":0},null,null,null,{"$f":"IF(事業認定申請書!P50<>\"\",事業認定申請書!P50,\"\")","v":""},null,null,null,{"$f":"IF(事業認定申請書!T50<>\"\",事業認定申請書!T50,\"\")","v":""},null,null,null,{"$f":"IF(事業認定申請書!X50<>\"\",事業認定申請書!X50,\"\")","v":""},null,null,null,null,null,null,0]
[null,null,"計",null,null,null,null,null,null,null,null,{"$f":"IF(事業認定申請書!L51<>\"\",事業認定申請書!L51,\"\")","v":0},null,null,null,{"$f":"IF(事業認定申請書!P51<>\"\",事業認定申請書!P51,\"\")","v":0},null,null,null,{"$f":"IF(事業認定申請書!T51<>\"\",事業認定申請書!T51,\"\")","v":0},null,null,null,{"$f":"IF(事業認定申請書!X51<>\"\",事業認定申請書!X51,\"\")","v":0},null,null,null,null,null,null,2]
[null,null,"（注）　・区分欄は事業内容の異なるごとに区分して記載する。"]
[]
[null,null,"（支出の部）　交付対象経費"]
[null,null,"経　費　区　分",null,null,null,null,null,null,null,"予算額（円）",null,null,"支　出　内　容　（円）"]
[null,null,"科　目",null,null,"区　　分",null,null,null,null,null,null,null,"内容名",null,null,null,null,null,null,null,"単価",null,"数量",null,"単位"]
[null,null,{"$f":"IF(事業認定申請書!C57<>\"\",事業認定申請書!C57,\"\")","v":""},null,null,{"$f":"IF(事業認定申請書!F57<>\"\",事業認定申請書!F57,\"\")","v":""},null,null,null,null,{"$f":"IF(事業認定申請書!K57<>\"\",事業認定申請書!K57,\"\")","v":0},null,null,{"$f":"IF(事業認定申請書!N57<>\"\",事業認定申請書!N57,\"\")","v":""},null,null,null,null,null,null,null,{"$f":"IF(事業認定申請書!V57<>\"\",事業認定申請書!V57,\"\")","v":""},null,{"$f":"IF(事業認定申請書!X57<>\"\",事業認定申請書!X57,\"\")","v":""},null,{"$f":"IF(事業認定申請書!Z57<>\"\",事業認定申請書!Z57,\"\")","v":""},null,null,null,null,{"$f":"IF(AND(C57=\"\",F57=\"\",N57=\"\",V57=\"\",X57=\"\",Z57=\"\"),0,1)","v":0}]
[null,null,{"$f":"IF(事業認定申請書!C58<>\"\",事業認定申請書!C58,\"\")","v":""},null,null,{"$f":"IF(事業認定申請書!F58<>\"\",事業認定申請書!F58,\"\")","v":""},null,null,null,null,{"$f":"IF(事業認定申請書!K58<>\"\",事業認定申請書!K58,\"\")","v":0},null,null,{"$f":"IF(事業認定申請書!N58<>\"\",事業認定申請書!N58,\"\")","v":""},null,null,null,null,null,null,null,{"$f":"IF(事業認定申請書!V58<>\"\",事業認定申請書!V58,\"\")","v":""},null,{"$f":"IF(事業認定申請書!X58<>\"\",事業認定申請書!X58,\"\")","v":""},null,{"$f":"IF(事業認定申請書!Z58<>\"\",事業認定申請書!Z58,\"\")","v":""},null,null,null,null,{"$f":"IF(AND(C58=\"\",F58=\"\",N58=\"\",V58=\"\",X58=\"\",Z58=\"\"),0,1)","v":0}]
[null,null,{"$f":"IF(事業認定申請書!C59<>\"\",事業認定申請書!C59,\"\")","v":""},null,null,{"$f":"IF(事業認定申請書!F59<>\"\",事業認定申請書!F59,\"\")","v":""},null,null,null,null,{"$f":"IF(事業認定申請書!K59<>\"\",事業認定申請書!K59,\"\")","v":0},null,null,{"$f":"IF(事業認定申請書!N59<>\"\",事業認定申請書!N59,\"\")","v":""},null,null,null,null,null,null,null,{"$f":"IF(事業認定申請書!V59<>\"\",事業認定申請書!V59,\"\")","v":""},null,{"$f":"IF(事業認定申請書!X59<>\"\",事業認定申請書!X59,\"\")","v":""},null,{"$f":"IF(事業認定申請書!Z59<>\"\",事業認定申請書!Z59,\"\")","v":""},null,null,null,null,0]
[null,null,{"$f":"IF(事業認定申請書!C60<>\"\",事業認定申請書!C60,\"\")","v":""},null,null,{"$f":"IF(事業認定申請書!F60<>\"\",事業認定申請書!F60,\"\")","v":""},null,null,null,null,{"$f":"IF(事業認定申請書!K60<>\"\",事業認定申請書!K60,\"\")","v":0},null,null,{"$f":"IF(事業認定申請書!N60<>\"\",事業認定申請書!N60,\"\")","v":""},null,null,null,null,null,null,null,{"$f":"IF(事業認定申請書!V60<>\"\",事業認定申請書!V60,\"\")","v":""},null,{"$f":"IF(事業認定申請書!X60<>\"\",事業認定申請書!X60,\"\")","v":""},null,{"$f":"IF(事業認定申請書!Z60<>\"\",事業認定申請書!Z60,\"\")","v":""},null,null,null,null,0]
[null,null,{"$f":"IF(事業認定申請書!C61<>\"\",事業認定申請書!C61,\"\")","v":""},null,null,{"$f":"IF(事業認定申請書!F61<>\"\",事業認定申請書!F61,\"\")","v":""},null,null,null,null,{"$f":"IF(事業認定申請書!K61<>\"\",事業認定申請書!K61,\"\")","v":0},null,null,{"$f":"IF(事業認定申請書!N61<>\"\",事業認定申請書!N61,\"\")","v":""},null,null,null,null,null,null,null,{"$f":"IF(事業認定申請書!V61<>\"\",事業認定申請書!V61,\"\")","v":""},null,{"$f":"IF(事業認定申請書!X61<>\"\",事業認定申請書!X61,\"\")","v":""},null,{"$f":"IF(事業認定申請書!Z61<>\"\",事業認定申請書!Z61,\"\")","v":""},null,null,null,null,0]
[null,null,{"$f":"IF(事業認定申請書!C62<>\"\",事業認定申請書!C62,\"\")","v":""},null,null,{"$f":"IF(事業認定申請書!F62<>\"\",事業認定申請書!F62,\"\")","v":""},null,null,null,null,{"$f":"IF(事業認定申請書!K62<>\"\",事業認定申請書!K62,\"\")","v":0},null,null,{"$f":"IF(事業認定申請書!N62<>\"\",事業認定申請書!N62,\"\")","v":""},null,null,null,null,null,null,null,{"$f":"IF(事業認定申請書!V62<>\"\",事業認定申請書!V62,\"\")","v":""},null,{"$f":"IF(事業認定申請書!X62<>\"\",事業認定申請書!X62,\"\")","v":""},null,{"$f":"IF(事業認定申請書!Z62<>\"\",事業認定申請書!Z62,\"\")","v":""},null,null,null,null,0]
[null,null,{"$f":"IF(事業認定申請書!C63<>\"\",事業認定申請書!C63,\"\")","v":""},null,null,{"$f":"IF(事業認定申請書!F63<>\"\",事業認定申請書!F63,\"\")","v":""},null,null,null,null,{"$f":"IF(事業認定申請書!K63<>\"\",事業認定申請書!K63,\"\")","v":0},null,null,{"$f":"IF(事業認定申請書!N63<>\"\",事業認定申請書!N63,\"\")","v":""},null,null,null,null,null,null,null,{"$f":"IF(事業認定申請書!V63<>\"\",事業認定申請書!V63,\"\")","v":""},null,{"$f":"IF(事業認定申請書!X63<>\"\",事業認定申請書!X63,\"\")","v":""},null,{"$f":"IF(事業認定申請書!Z63<>\"\",事業認定申請書!Z63,\"\")","v":""},null,null,null,null,0]
[null,null,{"$f":"IF(事業認定申請書!C64<>\"\",事業認定申請書!C64,\"\")","v":""},null,null,{"$f":"IF(事業認定申請書!F64<>\"\",事業認定申請書!F64,\"\")","v":""},null,null,null,null,{"$f":"IF(事業認定申請書!K64<>\"\",事業認定申請書!K64,\"\")","v":0},null,null,{"$f":"IF(事業認定申請書!N64<>\"\",事業認定申請書!N64,\"\")","v":""},null,null,null,null,null,null,null,{"$f":"IF(事業認定申請書!V64<>\"\",事業認定申請書!V64,\"\")","v":""},null,{"$f":"IF(事業認定申請書!X64<>\"\",事業認定申請書!X64,\"\")","v":""},null,{"$f":"IF(事業認定申請書!Z64<>\"\",事業認定申請書!Z64,\"\")","v":""},null,null,null,null,0]
[null,null,{"$f":"IF(事業認定申請書!C65<>\"\",事業認定申請書!C65,\"\")","v":""},null,null,{"$f":"IF(事業認定申請書!F65<>\"\",事業認定申請書!F65,\"\")","v":""},null,null,null,null,{"$f":"IF(事業認定申請書!K65<>\"\",事業認定申請書!K65,\"\")","v":0},null,null,{"$f":"IF(事業認定申請書!N65<>\"\",事業認定申請書!N65,\"\")","v":""},null,null,null,null,null,null,null,{"$f":"IF(事業認定申請書!V65<>\"\",事業認定申請書!V65,\"\")","v":""},null,{"$f":"IF(事業認定申請書!X65<>\"\",事業認定申請書!X65,\"\")","v":""},null,{"$f":"IF(事業認定申請書!Z65<>\"\",事業認定申請書!Z65,\"\")","v":""},null,null,null,null,0]
[null,null,{"$f":"IF(事業認定申請書!C66<>\"\",事業認定申請書!C66,\"\")","v":""},null,null,{"$f":"IF(事業認定申請書!F66<>\"\",事業認定申請書!F66,\"\")","v":""},null,null,null,null,{"$f":"IF(事業認定申請書!K66<>\"\",事業認定申請書!K66,\"\")","v":0},null,null,{"$f":"IF(事業認定申請書!N66<>\"\",事業認定申請書!N66,\"\")","v":""},null,null,null,null,null,null,null,{"$f":"IF(事業認定申請書!V66<>\"\",事業認定申請書!V66,\"\")","v":""},null,{"$f":"IF(事業認定申請書!X66<>\"\",事業認定申請書!X66,\"\")","v":""},null,{"$f":"IF(事業認定申請書!Z66<>\"\",事業認定申請書!Z66,\"\")","v":""},null,null,null,null,0]
[null,null,{"$f":"IF(事業認定申請書!C67<>\"\",事業認定申請書!C67,\"\")","v":""},null,null,{"$f":"IF(事業認定申請書!F67<>\"\",事業認定申請書!F67,\"\")","v":""},null,null,null,null,{"$f":"IF(事業認定申請書!K67<>\"\",事業認定申請書!K67,\"\")","v":0},null,null,{"$f":"IF(事業認定申請書!N67<>\"\",事業認定申請書!N67,\"\")","v":""},null,null,null,null,null,null,null,{"$f":"IF(事業認定申請書!V67<>\"\",事業認定申請書!V67,\"\")","v":""},null,{"$f":"IF(事業認定申請書!X67<>\"\",事業認定申請書!X67,\"\")","v":""},null,{"$f":"IF(事業認定申請書!Z67<>\"\",事業認定申請書!Z67,\"\")","v":""},null,null,null,null,0]
[null,null,{"$f":"IF(事業認定申請書!C68<>\"\",事業認定申請書!C68,\"\")","v":""},null,null,{"$f":"IF(事業認定申請書!F68<>\"\",事業認定申請書!F68,\"\")","v":""},null,null,null,null,{"$f":"IF(事業認定申請書!K68<>\"\",事業認定申請書!K68,\"\")","v":0},null,null,{"$f":"IF(事業認定申請書!N68<>\"\",事業認定申請書!N68,\"\")","v":""},null,null,null,null,null,null,null,{"$f":"IF(事業認定申請書!V68<>\"\",事業認定申請書!V68,\"\")","v":""},null,{"$f":"IF(事業認定申請書!X68<>\"\",事業認定申請書!X68,\"\")","v":""},null,{"$f":"IF(事業認定申請書!Z68<>\"\",事業認定申請書!Z68,\"\")","v":""},null,null,null,null,0]
[null,null,{"$f":"IF(事業認定申請書!C69<>\"\",事業認定申請書!C69,\"\")","v":""},null,null,{"$f":"IF(事業認定申請書!F69<>\"\",事業認定申請書!F69,\"\")","v":""},null,null,null,null,{"$f":"IF(事業認定申請書!K69<>\"\",事業認定申請書!K69,\"\")","v":0},null,null,{"$f":"IF(事業認定申請書!N69<>\"\",事業認定申請書!N69,\"\")","v":""},null,null,null,null,null,null,null,{"$f":"IF(事業認定申請書!V69<>\"\",事業認定申請書!V69,\"\")","v":""},null,{"$f":"IF(事業認定申請書!X69<>\"\",事業認定申請書!X69,\"\")","v":""},null,{"$f":"IF(事業認定申請書!Z69<>\"\",事業認定申請書!Z69,\"\")","v":""},null,null,null,null,0]
[null,null,{"$f":"IF(事業認定申請書!C70<>\"\",事業認定申請書!C70,\"\")","v":""},null,null,{"$f":"IF(事業認定申請書!F70<>\"\",事業認定申請書!F70,\"\")","v":""},null,null,null,null,{"$f":"IF(事業認定申請書!K70<>\"\",事業認定申請書!K70,\"\")","v":0},null,null,{"$f":"IF(事業認定申請書!N70<>\"\",事業認定申請書!N70,\"\")","v":""},null,null,null,null,null,null,null,{"$f":"IF(事業認定申請書!V70<>\"\",事業認定申請書!V70,\"\")","v":""},null,{"$f":"IF(事業認定申請書!X70<>\"\",事業認定申請書!X70,\"\")","v":""},null,{"$f":"IF(事業認定申請書!Z70<>\"\",事業認定申請書!Z70,\"\")","v":""},null,null,null,null,0]
[null,null,{"$f":"IF(事業認定申請書!C71<>\"\",事業認定申請書!C71,\"\")","v":""},null,null,{"$f":"IF(事業認定申請書!F71<>\"\",事業認定申請書!F71,\"\")","v":""},null,null,null,null,{"$f":"IF(事業認定申請書!K71<>\"\",事業認定申請書!K71,\"\")","v":0},null,null,{"$f":"IF(事業認定申請書!N71<>\"\",事業認定申請書!N71,\"\")","v":""},null,null,null,null,null,null,null,{"$f":"IF(事業認定申請書!V71<>\"\",事業認定申請書!V71,\"\")","v":""},null,{"$f":"IF(事業認定申請書!X71<>\"\",事業認定申請書!X71,\"\")","v":""},null,{"$f":"IF(事業認定申請書!Z71<>\"\",事業認定申請書!Z71,\"\")","v":""},null,null,null,null,0]
[null,null,{"$f":"IF(事業認定申請書!C72<>\"\",事業認定申請書!C72,\"\")","v":""},null,null,{"$f":"IF(事業認定申請書!F72<>\"\",事業認定申請書!F72,\"\")","v":""},null,null,null,null,{"$f":"IF(事業認定申請書!K72<>\"\",事業認定申請書!K72,\"\")","v":0},null,null,{"$f":"IF(事業認定申請書!N72<>\"\",事業認定申請書!N72,\"\")","v":""},null,null,null,null,null,null,null,{"$f":"IF(事業認定申請書!V72<>\"\",事業認定申請書!V72,\"\")","v":""},null,{"$f":"IF(事業認定申請書!X72<>\"\",事業認定申請書!X72,\"\")","v":""},null,{"$f":"IF(事業認定申請書!Z72<>\"\",事業認定申請書!Z72,\"\")","v":""},null,null,null,null,0]
[null,null,{"$f":"IF(事業認定申請書!C73<>\"\",事業認定申請書!C73,\"\")","v":""},null,null,{"$f":"IF(事業認定申請書!F73<>\"\",事業認定申請書!F73,\"\")","v":""},null,null,null,null,{"$f":"IF(事業認定申請書!K73<>\"\",事業認定申請書!K73,\"\")","v":0},null,null,{"$f":"IF(事業認定申請書!N73<>\"\",事業認定申請書!N73,\"\")","v":""},null,null,null,null,null,null,null,{"$f":"IF(事業認定申請書!V73<>\"\",事業認定申請書!V73,\"\")","v":""},null,{"$f":"IF(事業認定申請書!X73<>\"\",事業認定申請書!X73,\"\")","v":""},null,{"$f":"IF(事業認定申請書!Z73<>\"\",事業認定申請書!Z73,\"\")","v":""},null,null,null,null,0]
[null,null,{"$f":"IF(事業認定申請書!C74<>\"\",事業認定申請書!C74,\"\")","v":""},null,null,{"$f":"IF(事業認定申請書!F74<>\"\",事業認定申請書!F74,\"\")","v":""},null,null,null,null,{"$f":"IF(事業認定申請書!K74<>\"\",事業認定申請書!K74,\"\")","v":0},null,null,{"$f":"IF(事業認定申請書!N74<>\"\",事業認定申請書!N74,\"\")","v":""},null,null,null,null,null,null,null,{"$f":"IF(事業認定申請書!V74<>\"\",事業認定申請書!V74,\"\")","v":""},null,{"$f":"IF(事業認定申請書!X74<>\"\",事業認定申請書!X74,\"\")","v":""},null,{"$f":"IF(事業認定申請書!Z74<>\"\",事業認定申請書!Z74,\"\")","v":""},null,null,null,null,0]
[null,null,{"$f":"IF(事業認定申請書!C75<>\"\",事業認定申請書!C75,\"\")","v":""},null,null,{"$f":"IF(事業認定申請書!F75<>\"\",事業認定申請書!F75,\"\")","v":""},null,null,null,null,{"$f":"IF(事業認定申請書!K75<>\"\",事業認定申請書!K75,\"\")","v":0},null,null,{"$f":"IF(事業認定申請書!N75<>\"\",事業認定申請書!N75,\"\")","v":""},null,null,null,null,null,null,null,{"$f":"IF(事業認定申請書!V75<>\"\",事業認定申請書!V75,\"\")","v":""},null,{"$f":"IF(事業認定申請書!X75<>\"\",事業認定申請書!X75,\"\")","v":""},null,{"$f":"IF(事業認定申請書!Z75<>\"\",事業認定申請書!Z75,\"\")","v":""},null,null,null,null,0]
[null,null,{"$f":"IF(事業認定申請書!C76<>\"\",事業認定申請書!C76,\"\")","v":""},null,null,{"$f":"IF(事業認定申請書!F76<>\"\",事業認定申請書!F76,\"\")","v":""},null,null,null,null,{"$f":"IF(事業認定申請書!K76<>\"\",事業認定申請書!K76,\"\")","v":0},null,null,{"$f":"IF(事業認定申請書!N76<>\"\",事業認定申請書!N76,\"\")","v":""},null,null,null,null,null,null,null,{"$f":"IF(事業認定申請書!V76<>\"\",事業認定申請書!V76,\"\")","v":""},null,{"$f":"IF(事業認定申請書!X76<>\"\",事業認定申請書!X76,\"\")","v":""},null,{"$f":"IF(事業認定申請書!Z76<>\"\",事業認定申請書!Z76,\"\")","v":""},null,null,null,null,0]
[null,null,{"$f":"IF(事業認定申請書!C77<>\"\",事業認定申請書!C77,\"\")","v":""},null,null,{"$f":"IF(事業認定申請書!F77<>\"\",事業認定申請書!F77,\"\")","v":""},null,null,null,null,{"$f":"IF(事業認定申請書!K77<>\"\",事業認定申請書!K77,\"\")","v":0},null,null,{"$f":"IF(事業認定申請書!N77<>\"\",事業認定申請書!N77,\"\")","v":""},null,null,null,null,null,null,null,{"$f":"IF(事業認定申請書!V77<>\"\",事業認定申請書!V77,\"\")","v":""},null,{"$f":"IF(事業認定申請書!X77<>\"\",事業認定申請書!X77,\"\")","v":""},null,{"$f":"IF(事業認定申請書!Z77<>\"\",事業認定申請書!Z77,\"\")","v":""},null,null,null,null,0]
[null,null,{"$f":"IF(事業認定申請書!C78<>\"\",事業認定申請書!C78,\"\")","v":""},null,null,{"$f":"IF(事業認定申請書!F78<>\"\",事業認定申請書!F78,\"\")","v":""},null,null,null,null,{"$f":"IF(事業認定申請書!K78<>\"\",事業認定申請書!K78,\"\")","v":0},null,null,{"$f":"IF(事業認定申請書!N78<>\"\",事業認定申請書!N78,\"\")","v":""},null,null,null,null,null,null,null,{"$f":"IF(事業認定申請書!V78<>\"\",事業認定申請書!V78,\"\")","v":""},null,{"$f":"IF(事業認定申請書!X78<>\"\",事業認定申請書!X78,\"\")","v":""},null,{"$f":"IF(事業認定申請書!Z78<>\"\",事業認定申請書!Z78,\"\")","v":""},null,null,null,null,0]
[null,null,{"$f":"IF(事業認定申請書!C79<>\"\",事業認定申請書!C79,\"\")","v":""},null,null,{"$f":"IF(事業認定申請書!F79<>\"\",事業認定申請書!F79,\"\")","v":""},null,null,null,null,{"$f":"IF(事業認定申請書!K79<>\"\",事業認定申請書!K79,\"\")","v":0},null,null,{"$f":"IF(事業認定申請書!N79<>\"\",事業認定申請書!N79,\"\")","v":""},null,null,null,null,null,null,null,{"$f":"IF(事業認定申請書!V79<>\"\",事業認定申請書!V79,\"\")","v":""},null,{"$f":"IF(事業認定申請書!X79<>\"\",事業認定申請書!X79,\"\")","v":""},null,{"$f":"IF(事業認定申請書!Z79<>\"\",事業認定申請書!Z79,\"\")","v":""},null,null,null,null,0]
[null,null,{"$f":"IF(事業認定申請書!C80<>\"\",事業認定申請書!C80,\"\")","v":""},null,null,{"$f":"IF(事業認定申請書!F80<>\"\",事業認定申請書!F80,\"\")","v":""},null,null,null,null,{"$f":"IF(事業認定申請書!K80<>\"\",事業認定申請書!K80,\"\")","v":0},null,null,{"$f":"IF(事業認定申請書!N80<>\"\",事業認定申請書!N80,\"\")","v":""},null,null,null,null,null,null,null,{"$f":"IF(事業認定申請書!V80<>\"\",事業認定申請書!V80,\"\")","v":""},null,{"$f":"IF(事業認定申請書!X80<>\"\",事業認定申請書!X80,\"\")","v":""},null,{"$f":"IF(事業認定申請書!Z80<>\"\",事業認定申請書!Z80,\"\")","v":""},null,null,null,null,0]
[null,null,{"$f":"IF(事業認定申請書!C81<>\"\",事業認定申請書!C81,\"\")","v":""},null,null,{"$f":"IF(事業認定申請書!F81<>\"\",事業認定申請書!F81,\"\")","v":""},null,null,null,null,{"$f":"IF(事業認定申請書!K81<>\"\",事業認定申請書!K81,\"\")","v":0},null,null,{"$f":"IF(事業認定申請書!N81<>\"\",事業認定申請書!N81,\"\")","v":""},null,null,null,null,null,null,null,{"$f":"IF(事業認定申請書!V81<>\"\",事業認定申請書!V81,\"\")","v":""},null,{"$f":"IF(事業認定申請書!X81<>\"\",事業認定申請書!X81,\"\")","v":""},null,{"$f":"IF(事業認定申請書!Z81<>\"\",事業認定申請書!Z81,\"\")","v":""},null,null,null,null,0]
[null,null,{"$f":"IF(事業認定申請書!C82<>\"\",事業認定申請書!C82,\"\")","v":""},null,null,{"$f":"IF(事業認定申請書!F82<>\"\",事業認定申請書!F82,\"\")","v":""},null,null,null,null,{"$f":"IF(事業認定申請書!K82<>\"\",事業認定申請書!K82,\"\")","v":0},null,null,{"$f":"IF(事業認定申請書!N82<>\"\",事業認定申請書!N82,\"\")","v":""},null,null,null,null,null,null,null,{"$f":"IF(事業認定申請書!V82<>\"\",事業認定申請書!V82,\"\")","v":""},null,{"$f":"IF(事業認定申請書!X82<>\"\",事業認定申請書!X82,\"\")","v":""},null,{"$f":"IF(事業認定申請書!Z82<>\"\",事業認定申請書!Z82,\"\")","v":""},null,null,null,null,0]
[null,null,{"$f":"IF(事業認定申請書!C83<>\"\",事業認定申請書!C83,\"\")","v":""},null,null,{"$f":"IF(事業認定申請書!F83<>\"\",事業認定申請書!F83,\"\")","v":""},null,null,null,null,{"$f":"IF(事業認定申請書!K83<>\"\",事業認定申請書!K83,\"\")","v":0},null,null,{"$f":"IF(事業認定申請書!N83<>\"\",事業認定申請書!N83,\"\")","v":""},null,null,null,null,null,null,null,{"$f":"IF(事業認定申請書!V83<>\"\",事業認定申請書!V83,\"\")","v":""},null,{"$f":"IF(事業認定申請書!X83<>\"\",事業認定申請書!X83,\"\")","v":""},null,{"$f":"IF(事業認定申請書!Z83<>\"\",事業認定申請書!Z83,\"\")","v":""},null,null,null,null,0]
[null,null,{"$f":"IF(事業認定申請書!C84<>\"\",事業認定申請書!C84,\"\")","v":""},null,null,{"$f":"IF(事業認定申請書!F84<>\"\",事業認定申請書!F84,\"\")","v":""},null,null,null,null,{"$f":"IF(事業認定申請書!K84<>\"\",事業認定申請書!K84,\"\")","v":0},null,null,{"$f":"IF(事業認定申請書!N84<>\"\",事業認定申請書!N84,\"\")","v":""},null,null,null,null,null,null,null,{"$f":"IF(事業認定申請書!V84<>\"\",事業認定申請書!V84,\"\")","v":""},null,{"$f":"IF(事業認定申請書!X84<>\"\",事業認定申請書!X84,\"\")","v":""},null,{"$f":"IF(事業認定申請書!Z84<>\"\",事業認定申請書!Z84,\"\")","v":""},null,null,null,null,0]
[null,null,{"$f":"IF(事業認定申請書!C85<>\"\",事業認定申請書!C85,\"\")","v":""},null,null,{"$f":"IF(事業認定申請書!F85<>\"\",事業認定申請書!F85,\"\")","v":""},null,null,null,null,{"$f":"IF(事業認定申請書!K85<>\"\",事業認定申請書!K85,\"\")","v":0},null,null,{"$f":"IF(事業認定申請書!N85<>\"\",事業認定申請書!N85,\"\")","v":""},null,null,null,null,null,null,null,{"$f":"IF(事業認定申請書!V85<>\"\",事業認定申請書!V85,\"\")","v":""},null,{"$f":"IF(事業認定申請書!X85<>\"\",事業認定申請書!X85,\"\")","v":""},null,{"$f":"IF(事業認定申請書!Z85<>\"\",事業認定申請書!Z85,\"\")","v":""},null,null,null,null,0]
[null,null,{"$f":"IF(事業認定申請書!C86<>\"\",事業認定申請書!C86,\"\")","v":""},null,null,{"$f":"IF(事業認定申請書!F86<>\"\",事業認定申請書!F86,\"\")","v":""},null,null,null,null,{"$f":"IF(事業認定申請書!K86<>\"\",事業認定申請書!K86,\"\")","v":0},null,null,{"$f":"IF(事業認定申請書!N86<>\"\",事業認定申請書!N86,\"\")","v":""},null,null,null,null,null,null,null,{"$f":"IF(事業認定申請書!V86<>\"\",事業認定申請書!V86,\"\")","v":""},null,{"$f":"IF(事業認定申請書!X86<>\"\",事業認定申請書!X86,\"\")","v":""},null,{"$f":"IF(事業認定申請書!Z86<>\"\",事業認定申請書!Z86,\"\")","v":""},null,null,null,null,0]
[null,null,{"$f":"IF(事業認定申請書!C87<>\"\",事業認定申請書!C87,\"\")","v":""},null,null,{"$f":"IF(事業認定申請書!F87<>\"\",事業認定申請書!F87,\"\")","v":""},null,null,null,null,{"$f":"IF(事業認定申請書!K87<>\"\",事業認定申請書!K87,\"\")","v":0},null,null,{"$f":"IF(事業認定申請書!N87<>\"\",事業認定申請書!N87,\"\")","v":""},null,null,null,null,null,null,null,{"$f":"IF(事業認定申請書!V87<>\"\",事業認定申請書!V87,\"\")","v":""},null,{"$f":"IF(事業認定申請書!X87<>\"\",事業認定申請書!X87,\"\")","v":""},null,{"$f":"IF(事業認定申請書!Z87<>\"\",事業認定申請書!Z87,\"\")","v":""},null,null,null,null,0]
[null,null,{"$f":"IF(事業認定申請書!C88<>\"\",事業認定申請書!C88,\"\")","v":""},null,null,{"$f":"IF(事業認定申請書!F88<>\"\",事業認定申請書!F88,\"\")","v":""},null,null,null,null,{"$f":"IF(事業認定申請書!K88<>\"\",事業認定申請書!K88,\"\")","v":0},null,null,{"$f":"IF(事業認定申請書!N88<>\"\",事業認定申請書!N88,\"\")","v":""},null,null,null,null,null,null,null,{"$f":"IF(事業認定申請書!V88<>\"\",事業認定申請書!V88,\"\")","v":""},null,{"$f":"IF(事業認定申請書!X88<>\"\",事業認定申請書!X88,\"\")","v":""},null,{"$f":"IF(事業認定申請書!Z88<>\"\",事業認定申請書!Z88,\"\")","v":""},null,null,null,null,0]
[null,null,{"$f":"IF(事業認定申請書!C89<>\"\",事業認定申請書!C89,\"\")","v":""},null,null,{"$f":"IF(事業認定申請書!F89<>\"\",事業認定申請書!F89,\"\")","v":""},null,null,null,null,{"$f":"IF(事業認定申請書!K89<>\"\",事業認定申請書!K89,\"\")","v":0},null,null,{"$f":"IF(事業認定申請書!N89<>\"\",事業認定申請書!N89,\"\")","v":""},null,null,null,null,null,null,null,{"$f":"IF(事業認定申請書!V89<>\"\",事業認定申請書!V89,\"\")","v":""},null,{"$f":"IF(事業認定申請書!X89<>\"\",事業認定申請書!X89,\"\")","v":""},null,{"$f":"IF(事業認定申請書!Z89<>\"\",事業認定申請書!Z89,\"\")","v":""},null,null,null,null,0]
[null,null,{"$f":"IF(事業認定申請書!C90<>\"\",事業認定申請書!C90,\"\")","v":""},null,null,{"$f":"IF(事業認定申請書!F90<>\"\",事業認定申請書!F90,\"\")","v":""},null,null,null,null,{"$f":"IF(事業認定申請書!K90<>\"\",事業認定申請書!K90,\"\")","v":0},null,null,{"$f":"IF(事業認定申請書!N90<>\"\",事業認定申請書!N90,\"\")","v":""},null,null,null,null,null,null,null,{"$f":"IF(事業認定申請書!V90<>\"\",事業認定申請書!V90,\"\")","v":""},null,{"$f":"IF(事業認定申請書!X90<>\"\",事業認定申請書!X90,\"\")","v":""},null,{"$f":"IF(事業認定申請書!Z90<>\"\",事業認定申請書!Z90,\"\")","v":""},null,null,null,null,0]
[null,null,{"$f":"IF(事業認定申請書!C91<>\"\",事業認定申請書!C91,\"\")","v":""},null,null,{"$f":"IF(事業認定申請書!F91<>\"\",事業認定申請書!F91,\"\")","v":""},null,null,null,null,{"$f":"IF(事業認定申請書!K91<>\"\",事業認定申請書!K91,\"\")","v":0},null,null,{"$f":"IF(事業認定申請書!N91<>\"\",事業認定申請書!N91,\"\")","v":""},null,null,null,null,null,null,null,{"$f":"IF(事業認定申請書!V91<>\"\",事業認定申請書!V91,\"\")","v":""},null,{"$f":"IF(事業認定申請書!X91<>\"\",事業認定申請書!X91,\"\")","v":""},null,{"$f":"IF(事業認定申請書!Z91<>\"\",事業認定申請書!Z91,\"\")","v":""},null,null,null,null,0]
[null,null,{"$f":"IF(事業認定申請書!C92<>\"\",事業認定申請書!C92,\"\")","v":""},null,null,{"$f":"IF(事業認定申請書!F92<>\"\",事業認定申請書!F92,\"\")","v":""},null,null,null,null,{"$f":"IF(事業認定申請書!K92<>\"\",事業認定申請書!K92,\"\")","v":0},null,null,{"$f":"IF(事業認定申請書!N92<>\"\",事業認定申請書!N92,\"\")","v":""},null,null,null,null,null,null,null,{"$f":"IF(事業認定申請書!V92<>\"\",事業認定申請書!V92,\"\")","v":""},null,{"$f":"IF(事業認定申請書!X92<>\"\",事業認定申請書!X92,\"\")","v":""},null,{"$f":"IF(事業認定申請書!Z92<>\"\",事業認定申請書!Z92,\"\")","v":""},null,null,null,null,0]
[null,null,{"$f":"IF(事業認定申請書!C93<>\"\",事業認定申請書!C93,\"\")","v":""},null,null,{"$f":"IF(事業認定申請書!F93<>\"\",事業認定申請書!F93,\"\")","v":""},null,null,null,null,{"$f":"IF(事業認定申請書!K93<>\"\",事業認定申請書!K93,\"\")","v":0},null,null,{"$f":"IF(事業認定申請書!N93<>\"\",事業認定申請書!N93,\"\")","v":""},null,null,null,null,null,null,null,{"$f":"IF(事業認定申請書!V93<>\"\",事業認定申請書!V93,\"\")","v":""},null,{"$f":"IF(事業認定申請書!X93<>\"\",事業認定申請書!X93,\"\")","v":""},null,{"$f":"IF(事業認定申請書!Z93<>\"\",事業認定申請書!Z93,\"\")","v":""},null,null,null,null,0]
[null,null,{"$f":"IF(事業認定申請書!C94<>\"\",事業認定申請書!C94,\"\")","v":""},null,null,{"$f":"IF(事業認定申請書!F94<>\"\",事業認定申請書!F94,\"\")","v":""},null,null,null,null,{"$f":"IF(事業認定申請書!K94<>\"\",事業認定申請書!K94,\"\")","v":0},null,null,{"$f":"IF(事業認定申請書!N94<>\"\",事業認定申請書!N94,\"\")","v":""},null,null,null,null,null,null,null,{"$f":"IF(事業認定申請書!V94<>\"\",事業認定申請書!V94,\"\")","v":""},null,{"$f":"IF(事業認定申請書!X94<>\"\",事業認定申請書!X94,\"\")","v":""},null,{"$f":"IF(事業認定申請書!Z94<>\"\",事業認定申請書!Z94,\"\")","v":""},null,null,null,null,0]
[null,null,{"$f":"IF(事業認定申請書!C95<>\"\",事業認定申請書!C95,\"\")","v":""},null,null,{"$f":"IF(事業認定申請書!F95<>\"\",事業認定申請書!F95,\"\")","v":""},null,null,null,null,{"$f":"IF(事業認定申請書!K95<>\"\",事業認定申請書!K95,\"\")","v":0},null,null,{"$f":"IF(事業認定申請書!N95<>\"\",事業認定申請書!N95,\"\")","v":""},null,null,null,null,null,null,null,{"$f":"IF(事業認定申請書!V95<>\"\",事業認定申請書!V95,\"\")","v":""},null,{"$f":"IF(事業認定申請書!X95<>\"\",事業認定申請書!X95,\"\")","v":""},null,{"$f":"IF(事業認定申請書!Z95<>\"\",事業認定申請書!Z95,\"\")","v":""},null,null,null,null,0]
[null,null,{"$f":"IF(事業認定申請書!C96<>\"\",事業認定申請書!C96,\"\")","v":""},null,null,{"$f":"IF(事業認定申請書!F96<>\"\",事業認定申請書!F96,\"\")","v":""},null,null,null,null,{"$f":"IF(事業認定申請書!K96<>\"\",事業認定申請書!K96,\"\")","v":0},null,null,{"$f":"IF(事業認定申請書!N96<>\"\",事業認定申請書!N96,\"\")","v":""},null,null,null,null,null,null,null,{"$f":"IF(事業認定申請書!V96<>\"\",事業認定申請書!V96,\"\")","v":""},null,{"$f":"IF(事業認定申請書!X96<>\"\",事業認定申請書!X96,\"\")","v":""},null,{"$f":"IF(事業認定申請書!Z96<>\"\",事業認定申請書!Z96,\"\")","v":""},null,null,null,null,0]
[null,null,{"$f":"IF(事業認定申請書!C97<>\"\",事業認定申請書!C97,\"\")","v":""},null,null,{"$f":"IF(事業認定申請書!F97<>\"\",事業認定申請書!F97,\"\")","v":""},null,null,null,null,{"$f":"IF(事業認定申請書!K97<>\"\",事業認定申請書!K97,\"\")","v":0},null,null,{"$f":"IF(事業認定申請書!N97<>\"\",事業認定申請書!N97,\"\")","v":""},null,null,null,null,null,null,null,{"$f":"IF(事業認定申請書!V97<>\"\",事業認定申請書!V97,\"\")","v":""},null,{"$f":"IF(事業認定申請書!X97<>\"\",事業認定申請書!X97,\"\")","v":""},null,{"$f":"IF(事業認定申請書!Z97<>\"\",事業認定申請書!Z97,\"\")","v":""},null,null,null,null,0]
[null,null,{"$f":"IF(事業認定申請書!C98<>\"\",事業認定申請書!C98,\"\")","v":""},null,null,{"$f":"IF(事業認定申請書!F98<>\"\",事業認定申請書!F98,\"\")","v":""},null,null,null,null,{"$f":"IF(事業認定申請書!K98<>\"\",事業認定申請書!K98,\"\")","v":0},null,null,{"$f":"IF(事業認定申請書!N98<>\"\",事業認定申請書!N98,\"\")","v":""},null,null,null,null,null,null,null,{"$f":"IF(事業認定申請書!V98<>\"\",事業認定申請書!V98,\"\")","v":""},null,{"$f":"IF(事業認定申請書!X98<>\"\",事業認定申請書!X98,\"\")","v":""},null,{"$f":"IF(事業認定申請書!Z98<>\"\",事業認定申請書!Z98,\"\")","v":""},null,null,null,null,0]
[null,null,{"$f":"IF(事業認定申請書!C99<>\"\",事業認定申請書!C99,\"\")","v":""},null,null,{"$f":"IF(事業認定申請書!F99<>\"\",事業認定申請書!F99,\"\")","v":""},null,null,null,null,{"$f":"IF(事業認定申請書!K99<>\"\",事業認定申請書!K99,\"\")","v":0},null,null,{"$f":"IF(事業認定申請書!N99<>\"\",事業認定申請書!N99,\"\")","v":""},null,null,null,null,null,null,null,{"$f":"IF(事業認定申請書!V99<>\"\",事業認定申請書!V99,\"\")","v":""},null,{"$f":"IF(事業認定申請書!X99<>\"\",事業認定申請書!X99,\"\")","v":""},null,{"$f":"IF(事業認定申請書!Z99<>\"\",事業認定申請書!Z99,\"\")","v":""},null,null,null,null,0]
[null,null,{"$f":"IF(事業認定申請書!C100<>\"\",事業認定申請書!C100,\"\")","v":""},null,null,{"$f":"IF(事業認定申請書!F100<>\"\",事業認定申請書!F100,\"\")","v":""},null,null,null,null,{"$f":"IF(事業認定申請書!K100<>\"\",事業認定申請書!K100,\"\")","v":0},null,null,{"$f":"IF(事業認定申請書!N100<>\"\",事業認定申請書!N100,\"\")","v":""},null,null,null,null,null,null,null,{"$f":"IF(事業認定申請書!V100<>\"\",事業認定申請書!V100,\"\")","v":""},null,{"$f":"IF(事業認定申請書!X100<>\"\",事業認定申請書!X100,\"\")","v":""},null,{"$f":"IF(事業認定申請書!Z100<>\"\",事業認定申請書!Z100,\"\")","v":""},null,null,null,null,0]
[null,null,{"$f":"IF(事業認定申請書!C101<>\"\",事業認定申請書!C101,\"\")","v":""},null,null,{"$f":"IF(事業認定申請書!F101<>\"\",事業認定申請書!F101,\"\")","v":""},null,null,null,null,{"$f":"IF(事業認定申請書!K101<>\"\",事業認定申請書!K101,\"\")","v":0},null,null,{"$f":"IF(事業認定申請書!N101<>\"\",事業認定申請書!N101,\"\")","v":""},null,null,null,null,null,null,null,{"$f":"IF(事業認定申請書!V101<>\"\",事業認定申請書!V101,\"\")","v":""},null,{"$f":"IF(事業認定申請書!X101<>\"\",事業認定申請書!X101,\"\")","v":""},null,{"$f":"IF(事業認定申請書!Z101<>\"\",事業認定申請書!Z101,\"\")","v":""},null,null,null,null,0]
[null,null,{"$f":"IF(事業認定申請書!C102<>\"\",事業認定申請書!C102,\"\")","v":""},null,null,{"$f":"IF(事業認定申請書!F102<>\"\",事業認定申請書!F102,\"\")","v":""},null,null,null,null,{"$f":"IF(事業認定申請書!K102<>\"\",事業認定申請書!K102,\"\")","v":0},null,null,{"$f":"IF(事業認定申請書!N102<>\"\",事業認定申請書!N102,\"\")","v":""},null,null,null,null,null,null,null,{"$f":"IF(事業認定申請書!V102<>\"\",事業認定申請書!V102,\"\")","v":""},null,{"$f":"IF(事業認定申請書!X102<>\"\",事業認定申請書!X102,\"\")","v":""},null,{"$f":"IF(事業認定申請書!Z102<>\"\",事業認定申請書!Z102,\"\")","v":""},null,null,null,null,0]
[null,null,{"$f":"IF(事業認定申請書!C103<>\"\",事業認定申請書!C103,\"\")","v":""},null,null,{"$f":"IF(事業認定申請書!F103<>\"\",事業認定申請書!F103,\"\")","v":""},null,null,null,null,{"$f":"IF(事業認定申請書!K103<>\"\",事業認定申請書!K103,\"\")","v":0},null,null,{"$f":"IF(事業認定申請書!N103<>\"\",事業認定申請書!N103,\"\")","v":""},null,null,null,null,null,null,null,{"$f":"IF(事業認定申請書!V103<>\"\",事業認定申請書!V103,\"\")","v":""},null,{"$f":"IF(事業認定申請書!X103<>\"\",事業認定申請書!X103,\"\")","v":""},null,{"$f":"IF(事業認定申請書!Z103<>\"\",事業認定申請書!Z103,\"\")","v":""},null,null,null,null,0]
[null,null,{"$f":"IF(事業認定申請書!C104<>\"\",事業認定申請書!C104,\"\")","v":""},null,null,{"$f":"IF(事業認定申請書!F104<>\"\",事業認定申請書!F104,\"\")","v":""},null,null,null,null,{"$f":"IF(事業認定申請書!K104<>\"\",事業認定申請書!K104,\"\")","v":0},null,null,{"$f":"IF(事業認定申請書!N104<>\"\",事業認定申請書!N104,\"\")","v":""},null,null,null,null,null,null,null,{"$f":"IF(事業認定申請書!V104<>\"\",事業認定申請書!V104,\"\")","v":""},null,{"$f":"IF(事業認定申請書!X104<>\"\",事業認定申請書!X104,\"\")","v":""},null,{"$f":"IF(事業認定申請書!Z104<>\"\",事業認定申請書!Z104,\"\")","v":""},null,null,null,null,0]
[null,null,{"$f":"IF(事業認定申請書!C105<>\"\",事業認定申請書!C105,\"\")","v":""},null,null,{"$f":"IF(事業認定申請書!F105<>\"\",事業認定申請書!F105,\"\")","v":""},null,null,null,null,{"$f":"IF(事業認定申請書!K105<>\"\",事業認定申請書!K105,\"\")","v":0},null,null,{"$f":"IF(事業認定申請書!N105<>\"\",事業認定申請書!N105,\"\")","v":""},null,null,null,null,null,null,null,{"$f":"IF(事業認定申請書!V105<>\"\",事業認定申請書!V105,\"\")","v":""},null,{"$f":"IF(事業認定申請書!X105<>\"\",事業認定申請書!X105,\"\")","v":""},null,{"$f":"IF(事業認定申請書!Z105<>\"\",事業認定申請書!Z105,\"\")","v":""},null,null,null,null,0]
[null,null,{"$f":"IF(事業認定申請書!C106<>\"\",事業認定申請書!C106,\"\")","v":""},null,null,{"$f":"IF(事業認定申請書!F106<>\"\",事業認定申請書!F106,\"\")","v":""},null,null,null,null,{"$f":"IF(事業認定申請書!K106<>\"\",事業認定申請書!K106,\"\")","v":0},null,null,{"$f":"IF(事業認定申請書!N106<>\"\",事業認定申請書!N106,\"\")","v":""},null,null,null,null,null,null,null,{"$f":"IF(事業認定申請書!V106<>\"\",事業認定申請書!V106,\"\")","v":""},null,{"$f":"IF(事業認定申請書!X106<>\"\",事業認定申請書!X106,\"\")","v":""},null,{"$f":"IF(事業認定申請書!Z106<>\"\",事業認定申請書!Z106,\"\")","v":""},null,null,null,null,0]
[null,null,"計",null,null,null,null,null,null,null,{"$f":"IF(事業認定申請書!K107<>\"\",事業認定申請書!K107,\"\")","v":0},null,null,null,null,null,null,null,null,null,null,null,null,null,null,null,null,null,null,null,2]
[]
[null,null,"（支出の部）　対象外経費"]
[null,null,"経　費　区　分",null,null,null,null,null,null,null,"予算額（円）",null,null,"支　出　内　容　（円）"]
[null,null,"科　目",null,null,"区　　分",null,null,null,null,null,null,null,"内容名",null,null,null,null,null,null,null,"単価",null,"数量",null,"単位"]
[null,null,{"$f":"IF(事業認定申請書!C112<>\"\",事業認定申請書!C112,\"\")","v":""},null,null,{"$f":"IF(事業認定申請書!F112<>\"\",事業認定申請書!F112,\"\")","v":""},null,null,null,null,{"$f":"IF(事業認定申請書!K112<>\"\",事業認定申請書!K112,\"\")","v":0},null,null,{"$f":"IF(事業認定申請書!N112<>\"\",事業認定申請書!N112,\"\")","v":""},null,null,null,null,null,null,null,{"$f":"IF(事業認定申請書!V112<>\"\",事業認定申請書!V112,\"\")","v":""},null,{"$f":"IF(事業認定申請書!X112<>\"\",事業認定申請書!X112,\"\")","v":""},null,{"$f":"IF(事業認定申請書!Z112<>\"\",事業認定申請書!Z112,\"\")","v":""},null,null,null,null,{"$f":"IF(AND(C112=\"\",F112=\"\",N112=\"\",V112=\"\",X112=\"\",Z112=\"\"),0,1)","v":0}]
[null,null,{"$f":"IF(事業認定申請書!C113<>\"\",事業認定申請書!C113,\"\")","v":""},null,null,{"$f":"IF(事業認定申請書!F113<>\"\",事業認定申請書!F113,\"\")","v":""},null,null,null,null,{"$f":"IF(事業認定申請書!K113<>\"\",事業認定申請書!K113,\"\")","v":0},null,null,{"$f":"IF(事業認定申請書!N113<>\"\",事業認定申請書!N113,\"\")","v":""},null,null,null,null,null,null,null,{"$f":"IF(事業認定申請書!V113<>\"\",事業認定申請書!V113,\"\")","v":""},null,{"$f":"IF(事業認定申請書!X113<>\"\",事業認定申請書!X113,\"\")","v":""},null,{"$f":"IF(事業認定申請書!Z113<>\"\",事業認定申請書!Z113,\"\")","v":""},null,null,null,null,{"$f":"IF(AND(C113=\"\",F113=\"\",N113=\"\",V113=\"\",X113=\"\",Z113=\"\"),0,1)","v":0}]
[null,null,{"$f":"IF(事業認定申請書!C114<>\"\",事業認定申請書!C114,\"\")","v":""},null,null,{"$f":"IF(事業認定申請書!F114<>\"\",事業認定申請書!F114,\"\")","v":""},null,null,null,null,{"$f":"IF(事業認定申請書!K114<>\"\",事業認定申請書!K114,\"\")","v":0},null,null,{"$f":"IF(事業認定申請書!N114<>\"\",事業認定申請書!N114,\"\")","v":""},null,null,null,null,null,null,null,{"$f":"IF(事業認定申請書!V114<>\"\",事業認定申請書!V114,\"\")","v":""},null,{"$f":"IF(事業認定申請書!X114<>\"\",事業認定申請書!X114,\"\")","v":""},null,{"$f":"IF(事業認定申請書!Z114<>\"\",事業認定申請書!Z114,\"\")","v":""},null,null,null,null,0]
[null,null,{"$f":"IF(事業認定申請書!C115<>\"\",事業認定申請書!C115,\"\")","v":""},null,null,{"$f":"IF(事業認定申請書!F115<>\"\",事業認定申請書!F115,\"\")","v":""},null,null,null,null,{"$f":"IF(事業認定申請書!K115<>\"\",事業認定申請書!K115,\"\")","v":0},null,null,{"$f":"IF(事業認定申請書!N115<>\"\",事業認定申請書!N115,\"\")","v":""},null,null,null,null,null,null,null,{"$f":"IF(事業認定申請書!V115<>\"\",事業認定申請書!V115,\"\")","v":""},null,{"$f":"IF(事業認定申請書!X115<>\"\",事業認定申請書!X115,\"\")","v":""},null,{"$f":"IF(事業認定申請書!Z115<>\"\",事業認定申請書!Z115,\"\")","v":""},null,null,null,null,0]
[null,null,{"$f":"IF(事業認定申請書!C116<>\"\",事業認定申請書!C116,\"\")","v":""},null,null,{"$f":"IF(事業認定申請書!F116<>\"\",事業認定申請書!F116,\"\")","v":""},null,null,null,null,{"$f":"IF(事業認定申請書!K116<>\"\",事業認定申請書!K116,\"\")","v":0},null,null,{"$f":"IF(事業認定申請書!N116<>\"\",事業認定申請書!N116,\"\")","v":""},null,null,null,null,null,null,null,{"$f":"IF(事業認定申請書!V116<>\"\",事業認定申請書!V116,\"\")","v":""},null,{"$f":"IF(事業認定申請書!X116<>\"\",事業認定申請書!X116,\"\")","v":""},null,{"$f":"IF(事業認定申請書!Z116<>\"\",事業認定申請書!Z116,\"\")","v":""},null,null,null,null,0]
[null,null,{"$f":"IF(事業認定申請書!C117<>\"\",事業認定申請書!C117,\"\")","v":""},null,null,{"$f":"IF(事業認定申請書!F117<>\"\",事業認定申請書!F117,\"\")","v":""},null,null,null,null,{"$f":"IF(事業認定申請書!K117<>\"\",事業認定申請書!K117,\"\")","v":0},null,null,{"$f":"IF(事業認定申請書!N117<>\"\",事業認定申請書!N117,\"\")","v":""},null,null,null,null,null,null,null,{"$f":"IF(事業認定申請書!V117<>\"\",事業認定申請書!V117,\"\")","v":""},null,{"$f":"IF(事業認定申請書!X117<>\"\",事業認定申請書!X117,\"\")","v":""},null,{"$f":"IF(事業認定申請書!Z117<>\"\",事業認定申請書!Z117,\"\")","v":""},null,null,null,null,0]
[null,null,{"$f":"IF(事業認定申請書!C118<>\"\",事業認定申請書!C118,\"\")","v":""},null,null,{"$f":"IF(事業認定申請書!F118<>\"\",事業認定申請書!F118,\"\")","v":""},null,null,null,null,{"$f":"IF(事業認定申請書!K118<>\"\",事業認定申請書!K118,\"\")","v":0},null,null,{"$f":"IF(事業認定申請書!N118<>\"\",事業認定申請書!N118,\"\")","v":""},null,null,null,null,null,null,null,{"$f":"IF(事業認定申請書!V118<>\"\",事業認定申請書!V118,\"\")","v":""},null,{"$f":"IF(事業認定申請書!X118<>\"\",事業認定申請書!X118,\"\")","v":""},null,{"$f":"IF(事業認定申請書!Z118<>\"\",事業認定申請書!Z118,\"\")","v":""},null,null,null,null,0]
[null,null,{"$f":"IF(事業認定申請書!C119<>\"\",事業認定申請書!C119,\"\")","v":""},null,null,{"$f":"IF(事業認定申請書!F119<>\"\",事業認定申請書!F119,\"\")","v":""},null,null,null,null,{"$f":"IF(事業認定申請書!K119<>\"\",事業認定申請書!K119,\"\")","v":0},null,null,{"$f":"IF(事業認定申請書!N119<>\"\",事業認定申請書!N119,\"\")","v":""},null,null,null,null,null,null,null,{"$f":"IF(事業認定申請書!V119<>\"\",事業認定申請書!V119,\"\")","v":""},null,{"$f":"IF(事業認定申請書!X119<>\"\",事業認定申請書!X119,\"\")","v":""},null,{"$f":"IF(事業認定申請書!Z119<>\"\",事業認定申請書!Z119,\"\")","v":""},null,null,null,null,0]
[null,null,{"$f":"IF(事業認定申請書!C120<>\"\",事業認定申請書!C120,\"\")","v":""},null,null,{"$f":"IF(事業認定申請書!F120<>\"\",事業認定申請書!F120,\"\")","v":""},null,null,null,null,{"$f":"IF(事業認定申請書!K120<>\"\",事業認定申請書!K120,\"\")","v":0},null,null,{"$f":"IF(事業認定申請書!N120<>\"\",事業認定申請書!N120,\"\")","v":""},null,null,null,null,null,null,null,{"$f":"IF(事業認定申請書!V120<>\"\",事業認定申請書!V120,\"\")","v":""},null,{"$f":"IF(事業認定申請書!X120<>\"\",事業認定申請書!X120,\"\")","v":""},null,{"$f":"IF(事業認定申請書!Z120<>\"\",事業認定申請書!Z120,\"\")","v":""},null,null,null,null,0]
[null,null,{"$f":"IF(事業認定申請書!C121<>\"\",事業認定申請書!C121,\"\")","v":""},null,null,{"$f":"IF(事業認定申請書!F121<>\"\",事業認定申請書!F121,\"\")","v":""},null,null,null,null,{"$f":"IF(事業認定申請書!K121<>\"\",事業認定申請書!K121,\"\")","v":0},null,null,{"$f":"IF(事業認定申請書!N121<>\"\",事業認定申請書!N121,\"\")","v":""},null,null,null,null,null,null,null,{"$f":"IF(事業認定申請書!V121<>\"\",事業認定申請書!V121,\"\")","v":""},null,{"$f":"IF(事業認定申請書!X121<>\"\",事業認定申請書!X121,\"\")","v":""},null,{"$f":"IF(事業認定申請書!Z121<>\"\",事業認定申請書!Z121,\"\")","v":""},null,null,null,null,0]
[null,null,"計",null,null,null,null,null,null,null,{"$f":"IF(事業認定申請書!K122<>\"\",事業認定申請書!K122,\"\")","v":0},null,null,null,null,null,null,null,null,null,null,null,null,null,null,null,null,null,null,null,2]
[]
[null,null,"支出の部合計",null,null,null,null,null,null,null,{"$f":"IF(事業認定申請書!K124<>\"\",事業認定申請書!K124,\"\")","v":0}]
[]
[null,null,"（注）　・経費区分欄は、交付対象経費、対象外経費に分けて記載する。ただし、交付対象外経"]
[null,null,"　　　　　費のない場合は交付対象外経費欄を省略して差し支えない。"]
[null,null,"　　　　・支出内容は数量、規模、単価等の積算根拠等を記載する。"]
[]
[null,"６　交付金交付申請額"]
[null,null,"金",{"$f":"IF(事業認定申請書!D131<>\"\",事業認定申請書!D131,\"\")","v":0},null,null,null,null,null,"円"]
[]
[null,"７　申請者の概要"]
[null,null,"（１）法人・団体"]
[null,null,null,"名称",null,null,null,null,null,{"$f":"IF(事業認定申請書!J135<>\"\",事業認定申請書!J135,\"\")","v":""}]
[null,null,null,"設立年月日",null,null,null,null,null,{"$f":"IF(事業認定申請書!J136<>\"\",事業認定申請書!J136,\"\")","v":""}]
[null,null,null,"電話番号",null,null,null,null,null,{"$f":"IF(事業認定申請書!J137<>\"\",事業認定申請書!J137,\"\")","v":""}]
[null,null,null,"FAX番号",null,null,null,null,null,{"$f":"IF(事業認定申請書!J138<>\"\",事業認定申請書!J138,\"\")","v":""}]
[null,null,null,"メールアドレス",null,null,null,null,null,{"$f":"IF(事業認定申請書!J139<>\"\",事業認定申請書!J139,\"\")","v":""}]
[null,null,"（２）会員数"]
[null,null,null,{"$f":"IF(事業認定申請書!D141<>\"\",事業認定申請書!D141,\"\")","v":""}]
[null,null,"（３）活動目的"]
[null,null,null,{"$f":"IF(事業認定申請書!D143<>\"\",事業認定申請書!D143,\"\")","v":""}]
[null,null,"（４）主な活動内容"]
[null,null,null,{"$f":"IF(事業認定申請書!D145<>\"\",事業認定申請書!D145,\"\")","v":""}]
[]
[null,"８　添付資料"]
[null,null,"（事業概要図、設計書、パンフレット等内容のわかる資料を添付する。）"]
[null,null,"（以下に添付ファイル名を記入する。）"]
[null,null,{"$f":"IF(事業認定申請書!C150<>\"\",事業認定申請書!C150,\"\")","v":""}]
[]
[]
[null,null,null,null,"地区緑推\n経由",null,null,null,null,null,null,null,null,null,null,"市町村進達"]
[null,"名称",null,null,{"$f":"IF(事業認定申請書!E154<>\"\",事業認定申請書!E154,\"\")","v":""},null,null,null,null,null,null,null,null,null,null,{"$f":"IF(事業認定申請書!P154<>\"\",事業認定申請書!P154,\"\")","v":""}]
[null,"年月日",null,null,"令和",null,{"$f":"IF(事業認定申請書!G155<>\"\",事業認定申請書!G155,\"\")","v":""},null,"年",{"$f":"IF(事業認定申請書!J155<>\"\",事業認定申請書!J155,\"\")","v":""},null,"月",{"$f":"IF(事業認定申請書!M155<>\"\",事業認定申請書!M155,\"\")","v":""},null,"日","令和",null,{"$f":"IF(事業認定申請書!R155<>\"\",事業認定申請書!R155,\"\")","v":""},null,"年",{"$f":"IF(事業認定申請書!U155<>\"\",事業認定申請書!U155,\"\")","v":""},null,"月",{"$f":"IF(事業認定申請書!X155<>\"\",事業認定申請書!X155,\"\")","v":""},null,"日"]
[null,"文書番号",null,null,{"$f":"IF(事業認定申請書!E156<>\"\",事業認定申請書!E156,\"\")","v":""},null,null,null,null,null,"第",{"$f":"IF(事業認定申請書!L156<>\"\",事業認定申請書!L156,\"\")","v":""},null,null,"号",{"$f":"IF(事業認定申請書!P156<>\"\",事業認定申請書!P156,\"\")","v":""},null,null,null,null,null,{"$f":"IF(事業認定申請書!V156<>\"\",事業認定申請書!V156,\"\")","v":"第"},{"$f":"IF(事業認定申請書!W156<>\"\",事業認定申請書!W156,\"\")","v":""},null,null,"号"]

{"sheet":"事業変更申請書","index":2,"n_rows":185,"n_cols":33,"rows_kept":185,"cut":false,"hidden":false,"merged":[[169,5,170,8],[169,2,170,4],[174,2,175,8],[167,5,168,8],[167,2,168,4],[45,5,46,8],[47,5,48,8],[49,5,50,8],[51,5,52,8],[53,5,54,8],[55,5,56,8],[57,5,58,8],[145,2,146,8],[155,5,156,8],[155,2,156,4],[153,2,154,4],[151,2,152,4],[151,5,152,8],[153,5,154,8],[159,5,160,8],[159,2,160,4],[157,5,158,8],[157,2,158,4],[161,5,162,8],[161,2,162,4],[165,2,166,4],[163,5,164,8],[163,2,164,4],[165,5,166,8],[135,5,136,8],[135,2,136,4],[133,5,134,8],[133,2,134,4],[139,5,140,8],[139,2,140,4],[137,5,138,8],[137,2,138,4],[143,5,144,8],[143,2,144,4],[141,5,142,8],[141,2,142,4],[123,5,124,8],[123,2,124,4],[121,5,122,8],[121,2,122,4],[127,5,128,8],[127,2,128,4],[125,5,126,8],[125,2,126,4],[131,5,132,8],[131,2,132,4],[129,5,130,8],[129,2,130,4],[111,5,112,8],[111,2,112,4],[109,5,110,8],[109,2,110,4],[115,5,116,8],[115,2,116,4],[113,5,114,8],[113,2,114,4],[119,5,120,8],[119,2,120,4],[117,5,118,8],[117,2,118,4],[97,5,98,8],[97,2,98,4],[99,5,100,8],[99,2,100,4],[103,5,104,8],[103,2,104,4],[101,5,102,8],[101,2,102,4],[107,5,108,8],[107,2,108,4],[105,5,106,8],[105,2,106,4],[87,5,88,8],[87,2,88,4],[93,5,94,8],[93,2,94,4],[95,5,96,8],[95,2,96,4],[36,2,37,8],[32,2,33,8],[34,2,35,8],[91,5,92,8],[91,2,92,4],[89,5,90,8],[89,2,90,4],[77,5,78,8],[77,2,78,4],[75,5,76,8],[75,2,76,4],[81,5,82,8],[81,2,82,4],[79,5,80,8],[79,2,80,4],[85,5,86,8],[85,2,86,4],[83,5,84,8],[83,2,84,4],[63,2,64,4],[69,5,70,8],[69,2,70,4],[67,5,68,8],[67,2,68,4],[73,5,74,8],[73,2,74,4],[71,5,72,8],[71,2,72,4],[184,1,184,3],[184,4,184,9],[184,11,184,13],[184,15,184,20],[184,22,184,24],[28,11,29,14],[28,2,29,8],[28,9,29,10],[43,9,44,10],[38,2,39,8],[47,2,48,4],[45,2,46,4],[51,2,52,4],[49,2,50,4],[55,2,56,4],[53,2,54,4],[57,2,58,4],[61,2,62,4],[59,2,60,4],[61,5,62,8],[59,5,60,8],[65,5,66,8],[65,2,66,4],[63,5,64,8],[181,15,181,25],[182,1,182,3],[182,4,182,14],[182,15,182,25],[183,1,183,3],[183,4,183,5],[183,6,183,7],[183,9,183,10],[183,12,183,13],[183,15,183,16],[183,17,183,18],[183,20,183,21],[183,23,183,24],[171,9,171,10],[171,11,171,13],[172,9,172,10],[172,11,172,13],[174,9,174,10],[174,11,174,13],[175,9,175,10],[175,11,175,13],[181,1,181,3],[181,4,181,14],[171,2,172,8],[169,9,169,10],[169,11,169,13],[169,14,169,20],[169,21,169,22],[169,23,169,24],[169,25,169,26],[170,9,170,10],[170,11,170,13],[170,14,170,20],[170,21,170,22],[170,23,170,24],[170,25,170,26],[167,9,167,10],[167,11,167,13],[167,14,167,20],[167,21,167,22],[167,23,167,24],[167,25,167,26],[168,9,168,10],[168,11,168,13],[168,14,168,20],[168,21,168,22],[168,23,168,24],[168,25,168,26],[165,9,165,10],[165,11,165,13],[165,14,165,20],[165,21,165,22],[165,23,165,24],[165,25,165,26],[166,9,166,10],[166,11,166,13],[166,14,166,20],[166,21,166,22],[166,23,166,24],[166,25,166,26],[163,9,163,10],[163,11,163,13],[163,14,163,20],[163,21,163,22],[163,23,163,24],[163,25,163,26],[164,9,164,10],[164,11,164,13],[164,14,164,20],[164,21,164,22],[164,23,164,24],[164,25,164,26],[161,9,161,10],[161,11,161,13],[161,14,161,20],[161,21,161,22],[161,23,161,24],[161,25,161,26],[162,9,162,10],[162,11,162,13],[162,14,162,20],[162,21,162,22],[162,23,162,24],[162,25,162,26],[159,9,159,10],[159,11,159,13],[159,14,159,20],[159,21,159,22],[159,23,159,24],[159,25,159,26],[160,9,160,10],[160,11,160,13],[160,14,160,20],[160,21,160,22],[160,23,160,24],[160,25,160,26],[157,9,157,10],[157,11,157,13],[157,14,157,20],[157,21,157,22],[157,23,157,24],[157,25,157,26],[158,9,158,10],[158,11,158,13],[158,14,158,20],[158,21,158,22],[158,23,158,24],[158,25,158,26],[155,9,155,10],[155,11,155,13],[155,14,155,20],[155,21,155,22],[155,23,155,24],[155,25,155,26],[156,9,156,10],[156,11,156,13],[156,14,156,20],[156,21,156,22],[156,23,156,24],[156,25,156,26],[153,9,153,10],[153,11,153,13],[153,14,153,20],[153,21,153,22],[153,23,153,24],[153,25,153,26],[154,9,154,10],[154,11,154,13],[154,14,154,20],[154,21,154,22],[154,23,154,24],[154,25,154,26],[151,9,151,10],[151,11,151,13],[151,14,151,20],[151,21,151,22],[151,23,151,24],[151,25,151,26],[152,9,152,10],[152,11,152,13],[152,14,152,20],[152,21,152,22],[152,23,152,24],[152,25,152,26],[145,9,145,10],[145,11,145,13],[146,9,146,10],[146,11,146,13],[149,2,149,8],[149,14,149,26],[150,2,150,4],[150,5,150,8],[150,14,150,20],[150,21,150,22],[150,23,150,24],[150,25,150,26],[149,9,150,10],[149,11,150,13],[143,9,143,10],[143,11,143,13],[143,14,143,20],[143,21,143,22],[143,23,143,24],[143,25,143,26],[144,9,144,10],[144,11,144,13],[144,14,144,20],[144,21,144,22],[144,23,144,24],[144,25,144,26],[141,9,141,10],[141,11,141,13],[141,14,141,20],[141,21,141,22],[141,23,141,24],[141,25,141,26],[142,9,142,10],[142,11,142,13],[142,14,142,20],[142,21,142,22],[142,23,142,24],[142,25,142,26],[139,9,139,10],[139,11,139,13],[139,14,139,20],[139,21,139,22],[139,23,139,24],[139,25,139,26],[140,9,140,10],[140,11,140,13],[140,14,140,20],[140,21,140,22],[140,23,140,24],[140,25,140,26],[137,9,137,10],[137,11,137,13],[137,14,137,20],[137,21,137,22],[137,23,137,24],[137,25,137,26],[138,9,138,10],[138,11,138,13],[138,14,138,20],[138,21,138,22],[138,23,138,24],[138,25,138,26],[135,9,135,10],[135,11,135,13],[135,14,135,20],[135,21,135,22],[135,23,135,24],[135,25,135,26],[136,9,136,10],[136,11,136,13],[136,14,136,20],[136,21,136,22],[136,23,136,24],[136,25,136,26],[133,9,133,10],[133,11,133,13],[133,14,133,20],[133,21,133,22],[133,23,133,24],[133,25,133,26],[134,9,134,10],[134,11,134,13],[134,14,134,20],[134,21,134,22],[134,23,134,24],[134,25,134,26],[131,9,131,10],[131,11,131,13],[131,14,131,20],[131,21,131,22],[131,23,131,24],[131,25,131,26],[132,9,132,10],[132,11,132,13],[132,14,132,20],[132,21,132,22],[132,23,132,24],[132,25,132,26],[129,9,129,10],[129,11,129,13],[129,14,129,20],[129,21,129,22],[129,23,129,24],[129,25,129,26],[130,9,130,10],[130,11,130,13],[130,14,130,20],[130,21,130,22],[130,23,130,24],[130,25,130,26],[127,9,127,10],[127,11,127,13],[127,14,127,20],[127,21,127,22],[127,23,127,24],[127,25,127,26],[128,9,128,10],[128,11,128,13],[128,14,128,20],[128,21,128,22],[128,23,128,24],[128,25,128,26],[125,9,125,10],[125,11,125,13],[125,14,125,20],[125,21,125,22],[125,23,125,24],[125,25,125,26],[126,9,126,10],[126,11,126,13],[126,14,126,20],[126,21,126,22],[126,23,126,24],[126,25,126,26],[123,9,123,10],[123,11,123,13],[123,14,123,20],[123,21,123,22],[123,23,123,24],[123,25,123,26],[124,9,124,10],[124,11,124,13],[124,14,124,20],[124,21,124,22],[124,23,124,24],[124,25,124,26],[121,9,121,10],[121,11,121,13],[121,14,121,20],[121,21,121,22],[121,23,121,24],[121,25,121,26],[122,9,122,10],[122,11,122,13],[122,14,122,20],[122,21,122,22],[122,23,122,24],[122,25,122,26],[119,9,119,10],[119,11,119,13],[119,14,119,20],[119,21,119,22],[119,23,119,24],[119,25,119,26],[120,9,120,10],[120,11,120,13],[120,14,120,20],[120,21,120,22],[120,23,120,24],[120,25,120,26],[117,9,117,10],[117,11,117,13],[117,14,117,20],[117,21,117,22],[117,23,117,24],[117,25,117,26],[118,9,118,10],[118,11,118,13],[118,14,118,20],[118,21,118,22],[118,23,118,24],[118,25,118,26],[115,9,115,10],[115,11,115,13],[115,14,115,20],[115,21,115,22],[115,23,115,24],[115,25,115,26],[116,9,116,10],[116,11,116,13],[116,14,116,20],[116,21,116,22],[116,23,116,24],[116,25,116,26],[113,9,113,10],[113,11,113,13],[113,14,113,20],[113,21,113,22],[113,23,113,24],[113,25,113,26],[114,9,114,10],[114,11,114,13],[114,14,114,20],[114,21,114,22],[114,23,114,24],[114,25,114,26],[111,9,111,10],[111,11,111,13],[111,14,111,20],[111,21,111,22],[111,23,111,24],[111,25,111,26],[112,9,112,10],[112,11,112,13],[112,14,112,20],[112,21,112,22],[112,23,112,24],[112,25,112,26],[109,9,109,10],[109,11,109,13],[109,14,109,20],[109,21,109,22],[109,23,109,24],[109,25,109,26],[110,9,110,10],[110,11,110,13],[110,14,110,20],[110,21,110,22],[110,23,110,24],[110,25,110,26],[107,9,107,10],[107,11,107,13],[107,14,107,20],[107,21,107,22],[107,23,107,24],[107,25,107,26],[108,9,108,10],[108,11,108,13],[108,14,108,20],[108,21,108,22],[108,23,108,24],[108,25,108,26],[105,9,105,10],[105,11,105,13],[105,14,105,20],[105,21,105,22],[105,23,105,24],[105,25,105,26],[106,9,106,10],[106,11,106,13],[106,14,106,20],[106,21,106,22],[106,23,106,24],[106,25,106,26],[103,9,103,10],[103,11,103,13],[103,14,103,20],[103,21,103,22],[103,23,103,24],[103,25,103,26],[104,9,104,10],[104,11,104,13],[104,14,104,20],[104,21,104,22],[104,23,104,24],[104,25,104,26],[101,9,101,10],[101,11,101,13],[101,14,101,20],[101,21,101,22],[101,23,101,24],[101,25,101,26],[102,9,102,10],[102,11,102,13],[102,14,102,20],[102,21,102,22],[102,23,102,24],[102,25,102,26],[99,9,99,10],[99,11,99,13],[99,14,99,20],[99,21,99,22],[99,23,99,24],[99,25,99,26],[100,9,100,10],[100,11,100,13],[100,14,100,20],[100,21,100,22],[100,23,100,24],[100,25,100,26],[97,9,97,10],[97,11,97,13],[97,14,97,20],[97,21,97,22],[97,23,97,24],[97,25,97,26],[98,9,98,10],[98,11,98,13],[98,14,98,20],[98,21,98,22],[98,23,98,24],[98,25,98,26],[95,9,95,10],[95,11,95,13],[95,14,95,20],[95,21,95,22],[95,23,95,24],[95,25,95,26],[96,9,96,10],[96,11,96,13],[96,14,96,20],[96,21,96,22],[96,23,96,24],[96,25,96,26],[93,9,93,10],[93,11,93,13],[93,14,93,20],[93,21,93,22],[93,23,93,24],[93,25,93,26],[94,9,94,10],[94,11,94,13],[94,14,94,20],[94,21,94,22],[94,23,94,24],[94,25,94,26],[91,9,91,10],[91,11,91,13],[91,14,91,20],[91,21,91,22],[91,23,91,24],[91,25,91,26],[92,9,92,10],[92,11,92,13],[92,14,92,20],[92,21,92,22],[92,23,92,24],[92,25,92,26],[89,9,89,10],[89,11,89,13],[89,14,89,20],[89,21,89,22],[89,23,89,24],[89,25,89,26],[90,9,90,10],[90,11,90,13],[90,14,90,20],[90,21,90,22],[90,23,90,24],[90,25,90,26],[87,9,87,10],[87,11,87,13],[87,14,87,20],[87,21,87,22],[87,23,87,24],[87,25,87,26],[88,9,88,10],[88,11,88,13],[88,14,88,20],[88,21,88,22],[88,23,88,24],[88,25,88,26],[85,9,85,10],[85,11,85,13],[85,14,85,20],[85,21,85,22],[85,23,85,24],[85,25,85,26],[86,9,86,10],[86,11,86,13],[86,14,86,20],[86,21,86,22],[86,23,86,24],[86,25,86,26],[83,9,83,10],[83,11,83,13],[83,14,83,20],[83,21,83,22],[83,23,83,24],[83,25,83,26],[84,9,84,10],[84,11,84,13],[84,14,84,20],[84,21,84,22],[84,23,84,24],[84,25,84,26],[81,9,81,10],[81,11,81,13],[81,14,81,20],[81,21,81,22],[81,23,81,24],[81,25,81,26],[82,9,82,10],[82,11,82,13],[82,14,82,20],[82,21,82,22],[82,23,82,24],[82,25,82,26],[79,9,79,10],[79,11,79,13],[79,14,79,20],[79,21,79,22],[79,23,79,24],[79,25,79,26],[80,9,80,10],[80,11,80,13],[80,14,80,20],[80,21,80,22],[80,23,80,24],[80,25,80,26],[77,9,77,10],[77,11,77,13],[77,14,77,20],[77,21,77,22],[77,23,77,24],[77,25,77,26],[78,9,78,10],[78,11,78,13],[78,14,78,20],[78,21,78,22],[78,23,78,24],[78,25,78,26],[75,9,75,10],[75,11,75,13],[75,14,75,20],[75,21,75,22],[75,23,75,24],[75,25,75,26],[76,9,76,10],[76,11,76,13],[76,14,76,20],[76,21,76,22],[76,23,76,24],[76,25,76,26],[73,9,73,10],[73,11,73,13],[73,14,73,20],[73,21,73,22],[73,23,73,24],[73,25,73,26],[74,9,74,10],[74,11,74,13],[74,14,74,20],[74,21,74,22],[74,23,74,24],[74,25,74,26],[71,9,71,10],[71,11,71,13],[71,14,71,20],[71,21,71,22],[71,23,71,24],[71,25,71,26],[72,9,72,10],[72,11,72,13],[72,14,72,20],[72,21,72,22],[72,23,72,24],[72,25,72,26],[69,9,69,10],[69,11,69,13],[69,14,69,20],[69,21,69,22],[69,23,69,24],[69,25,69,26],[70,9,70,10],[70,11,70,13],[70,14,70,20],[70,21,70,22],[70,23,70,24],[70,25,70,26],[67,9,67,10],[67,11,67,13],[67,14,67,20],[67,21,67,22],[67,23,67,24],[67,25,67,26],[68,9,68,10],[68,11,68,13],[68,14,68,20],[68,21,68,22],[68,23,68,24],[68,25,68,26],[65,9,65,10],[65,11,65,13],[65,14,65,20],[65,21,65,22],[65,23,65,24],[65,25,65,26],[66,9,66,10],[66,11,66,13],[66,14,66,20],[66,21,66,22],[66,23,66,24],[66,25,66,26],[63,9,63,10],[63,11,63,13],[63,14,63,20],[63,21,63,22],[63,23,63,24],[63,25,63,26],[64,9,64,10],[64,11,64,13],[64,14,64,20],[64,21,64,22],[64,23,64,24],[64,25,64,26],[61,9,61,10],[61,11,61,13],[61,14,61,20],[61,21,61,22],[61,23,61,24],[61,25,61,26],[62,9,62,10],[62,11,62,13],[62,14,62,20],[62,21,62,22],[62,23,62,24],[62,25,62,26],[59,9,59,10],[59,11,59,13],[59,14,59,20],[59,21,59,22],[59,23,59,24],[59,25,59,26],[60,9,60,10],[60,11,60,13],[60,14,60,20],[60,21,60,22],[60,23,60,24],[60,25,60,26],[57,9,57,10],[57,11,57,13],[57,14,57,20],[57,21,57,22],[57,23,57,24],[57,25,57,26],[58,9,58,10],[58,11,58,13],[58,14,58,20],[58,21,58,22],[58,23,58,24],[58,25,58,26],[55,9,55,10],[55,11,55,13],[55,14,55,20],[55,21,55,22],[55,23,55,24],[55,25,55,26],[56,9,56,10],[56,11,56,13],[56,14,56,20],[56,21,56,22],[56,23,56,24],[56,25,56,26],[53,9,53,10],[53,11,53,13],[53,14,53,20],[53,21,53,22],[53,23,53,24],[53,25,53,26],[54,9,54,10],[54,11,54,13],[54,14,54,20],[54,21,54,22],[54,23,54,24],[54,25,54,26],[51,9,51,10],[51,11,51,13],[51,14,51,20],[51,21,51,22],[51,23,51,24],[51,25,51,26],[52,9,52,10],[52,11,52,13],[52,14,52,20],[52,21,52,22],[52,23,52,24],[52,25,52,26],[49,9,49,10],[49,11,49,13],[49,14,49,20],[49,21,49,22],[49,23,49,24],[49,25,49,26],[50,9,50,10],[50,11,50,13],[50,14,50,20],[50,21,50,22],[50,23,50,24],[50,25,50,26],[47,9,47,10],[47,11,47,13],[47,14,47,20],[47,21,47,22],[47,23,47,24],[47,25,47,26],[48,9,48,10],[48,11,48,13],[48,14,48,20],[48,21,48,22],[48,23,48,24],[48,25,48,26],[45,9,45,10],[45,11,45,13],[45,14,45,20],[45,21,45,22],[45,23,45,24],[45,25,45,26],[46,9,46,10],[46,11,46,13],[46,14,46,20],[46,21,46,22],[46,23,46,24],[46,25,46,26],[43,2,43,8],[43,14,43,26],[44,2,44,4],[44,5,44,8],[44,14,44,20],[44,21,44,22],[44,23,44,24],[44,25,44,26],[43,11,44,13],[38,9,38,10],[38,11,38,14],[38,15,38,18],[38,19,38,22],[38,23,38,26],[39,9,39,10],[39,11,39,14],[39,15,39,18],[39,19,39,22],[39,23,39,26],[36,9,36,10],[36,11,36,14],[36,15,36,18],[36,19,36,22],[36,23,36,26],[37,9,37,10],[37,11,37,14],[37,15,37,18],[37,19,37,22],[37,23,37,26],[34,9,34,10],[34,11,34,14],[34,15,34,18],[34,19,34,22],[34,23,34,26],[35,9,35,10],[35,11,35,14],[35,15,35,18],[35,19,35,22],[35,23,35,26],[32,9,32,10],[32,11,32,14],[32,15,32,18],[32,19,32,22],[32,23,32,26],[33,9,33,10],[33,11,33,14],[33,15,33,18],[33,19,33,22],[33,23,33,26],[17,1,17,26],[21,2,21,14],[21,17,21,25],[24,2,24,26],[28,15,28,26],[29,15,29,18],[29,19,29,22],[29,23,29,26],[30,9,30,10],[30,11,30,14],[30,15,30,18],[30,19,30,22],[30,23,30,26],[30,2,31,8],[31,9,31,10],[31,11,31,14],[31,15,31,18],[31,19,31,22],[31,23,31,26],[9,17,9,18],[9,20,9,22],[10,16,10,26],[11,16,11,26],[12,16,12,26],[14,1,14,13],[14,14,14,15],[14,16,14,26],[16,2,16,3],[16,4,16,5],[16,7,16,8],[16,10,16,11],[16,14,16,18],[16,20,16,23],[3,16,3,20],[3,22,3,25],[4,16,4,17],[4,18,4,19],[4,21,4,22],[4,24,4,25],[5,1,5,26],[7,1,7,2],[7,3,7,7]]}
[]
[]
["第3号様式"]
[null,null,null,null,null,null,null,null,null,null,null,null,null,null,null,null,null,null,null,null,null,"第",null,null,null,null,"号"]
[null,null,null,null,null,null,null,null,null,null,null,null,null,null,null,null,"令和",null,null,null,"年",null,null,"月",null,null,"日"]
[null,"（公財）山梨県緑化推進機構",null,null,null,null,null,null,null,null,null,null,null,null,null,null,null,null,null,null,null,null,null,null,null,null,null,null,null,null,null,null,"※事業認定申請書の情報が反映されます"]
[null,null,null,null,null,null,null,null,null,null,null,null,null,null,null,null,null,null,null,null,null,null,null,null,null,null,null,null,null,null,null,null,"※事業名に値が入力されている場合、情報の反映は実行されませんので注意してください"]
[null,"代表理事",null,"鷹野　裕司",null,null,null,null,"殿"]
[null,null,null,null,null,null,null,null,null,null,null,null,null,null,null,"（申請者）"]
[null,null,null,null,null,null,null,null,null,null,null,null,null,null,null,null,"〒",null,null,"－"]
[null,null,null,null,null,null,null,null,null,null,null,null,null,null,null,null,"[住所]"]
[null,null,null,null,null,null,null,null,null,null,null,null,null,null,null,null,"[法人・団体の名称]"]
[null,null,null,null,null,null,null,null,null,null,null,null,null,null,null,null,"[代表者役職名・氏名]"]
[]
[null,"令和８年度緑の募金事業",null,null,null,null,null,null,null,null,null,null,null,null,null,null,"承認申請書"]
[]
[null,null,"令和",null,null,null,"年",null,null,"月",null,null,"日付け",null,null,null,null,null,null,"第",null,null,null,null,"号","で"]
[null,{"$f":"\"交付決定のあった緑の募金事業について、次のとおり\"&O15&\"したいので、承認してください。\"","v":"交付決定のあった緑の募金事業について、次のとおりしたいので、承認してください。"}]
[]
[null,"１　事業名"]
[null,null,"（注）事業名ごとに申請書を作成してください。"]
[]
[]
[null,{"$f":"\"２　\"&O15&\"の理由\"","v":"２　の理由"}]
[]
[]
[null,{"$f":"\"３　\"&O15&\"の内容\"","v":"３　の内容"}]
[null,null,"（収入の部）"]
[null,null,"区　　分",null,null,null,null,null,null,null,null,"予算額（円）",null,null,null,"収　入　区　分　（円）"]
[null,null,null,null,null,null,null,null,null,null,null,null,null,null,null,"緑の募金交付金",null,null,null,"その他助成金",null,null,null,"自 己 資 金"]
[null,null,{"$f":"IF($C$22<>\"\",VLOOKUP($C$22,事業一覧!A:C,3,FALSE),\"\")","v":""},null,null,null,null,null,null,"変更前",null,{"$f":"SUM(P31:AA31)","v":0}]
[null,null,null,null,null,null,null,null,null,"変更後",null,0]
[null,null,null,null,null,null,null,null,null,"変更前",null,0]
[null,null,null,null,null,null,null,null,null,"変更後",null,0]
[null,null,null,null,null,null,null,null,null,"変更前",null,0]
[null,null,null,null,null,null,null,null,null,"変更後",null,0]
[null,null,null,null,null,null,null,null,null,"変更前",null,0]
[null,null,null,null,null,null,null,null,null,"変更後",null,0]
[null,null,"計",null,null,null,null,null,null,"変更前",null,{"$f":"SUMIF($J$31:$K$38,$J39,L$31:O$38)","v":0},null,null,null,{"$f":"SUMIF($J$31:$K$38,$J39,P$31:S$38)","v":0},null,null,null,{"$f":"SUMIF($J$31:$K$38,$J39,T$31:W$38)","v":0},null,null,null,{"$f":"SUMIF($J$31:$K$38,$J39,X$31:AA$38)","v":0}]
[null,null,null,null,null,null,null,null,null,"変更後",null,{"$f":"SUMIF($J$31:$K$38,$J40,L$31:O$38)","v":0},null,null,null,{"$f":"SUMIF($J$31:$K$38,$J40,P$31:S$38)","v":0},null,null,null,{"$f":"SUMIF($J$31:$K$38,$J40,T$31:W$38)","v":0},null,null,null,{"$f":"SUMIF($J$31:$K$38,$J40,X$31:AA$38)","v":0}]
[null,null,"（注）　・区分欄は事業内容の異なるごとに区分して記載する。"]
[]
[null,null,"（支出の部）　交付対象経費"]
[null,null,"経　費　区　分",null,null,null,null,null,null,null,null,"予算額（円）",null,null,"支　出　内　容　（円）"]
[null,null,"科　目",null,null,"区　　分",null,null,null,null,null,null,null,null,"内容名",null,null,null,null,null,null,"単価",null,"数量",null,"単位"]
[null,null,null,null,null,null,null,null,null,"変更前",null,{"$f":"V46*X46","v":0}]
[null,null,null,null,null,null,null,null,null,"変更後",null,{"$f":"V47*X47","v":0}]
[null,null,null,null,null,null,null,null,null,"変更前",null,{"$f":"V48*X48","v":0}]
[null,null,null,null,null,null,null,null,null,"変更後",null,0]
[null,null,null,null,null,null,null,null,null,"変更前",null,0]
[null,null,null,null,null,null,null,null,null,"変更後",null,0]
[null,null,null,null,null,null,null,null,null,"変更前",null,0]
[null,null,null,null,null,null,null,null,null,"変更後",null,0]
[null,null,null,null,null,null,null,null,null,"変更前",null,0]
[null,null,null,null,null,null,null,null,null,"変更後",null,0]
[null,null,null,null,null,null,null,null,null,"変更前",null,0]
[null,null,null,null,null,null,null,null,null,"変更後",null,0]
[null,null,null,null,null,null,null,null,null,"変更前",null,0]
[null,null,null,null,null,null,null,null,null,"変更後",null,0]
[null,null,null,null,null,null,null,null,null,"変更前",null,0]
[null,null,null,null,null,null,null,null,null,"変更後",null,0]
[null,null,null,null,null,null,null,null,null,"変更前",null,0]
[null,null,null,null,null,null,null,null,null,"変更後",null,0]
[null,null,null,null,null,null,null,null,null,"変更前",null,0]
[null,null,null,null,null,null,null,null,null,"変更後",null,0]
[null,null,null,null,null,null,null,null,null,"変更前",null,0]
[null,null,null,null,null,null,null,null,null,"変更後",null,0]
[null,null,null,null,null,null,null,null,null,"変更前",null,0]
[null,null,null,null,null,null,null,null,null,"変更後",null,0]
[null,null,null,null,null,null,null,null,null,"変更前",null,0]
[null,null,null,null,null,null,null,null,null,"変更後",null,0]
[null,null,null,null,null,null,null,null,null,"変更前",null,0]
[null,null,null,null,null,null,null,null,null,"変更後",null,0]
[null,null,null,null,null,null,null,null,null,"変更前",null,0]
[null,null,null,null,null,null,null,null,null,"変更後",null,0]
[null,null,null,null,null,null,null,null,null,"変更前",null,0]
[null,null,null,null,null,null,null,null,null,"変更後",null,0]
[null,null,null,null,null,null,null,null,null,"変更前",null,0]
[null,null,null,null,null,null,null,null,null,"変更後",null,0]
[null,null,null,null,null,null,null,null,null,"変更前",null,0]
[null,null,null,null,null,null,null,null,null,"変更後",null,0]
[null,null,null,null,null,null,null,null,null,"変更前",null,0]
[null,null,null,null,null,null,null,null,null,"変更後",null,0]
[null,null,null,null,null,null,null,null,null,"変更前",null,0]
[null,null,null,null,null,null,null,null,null,"変更後",null,0]
[null,null,null,null,null,null,null,null,null,"変更前",null,0]
[null,null,null,null,null,null,null,null,null,"変更後",null,0]
[null,null,null,null,null,null,null,null,null,"変更前",null,0]
[null,null,null,null,null,null,null,null,null,"変更後",null,0]
[null,null,null,null,null,null,null,null,null,"変更前",null,0]
[null,null,null,null,null,null,null,null,null,"変更後",null,0]
[null,null,null,null,null,null,null,null,null,"変更前",null,0]
[null,null,null,null,null,null,null,null,null,"変更後",null,0]
[null,null,null,null,null,null,null,null,null,"変更前",null,0]
[null,null,null,null,null,null,null,null,null,"変更後",null,0]
[null,null,null,null,null,null,null,null,null,"変更前",null,0]
[null,null,null,null,null,null,null,null,null,"変更後",null,0]
[null,null,null,null,null,null,null,null,null,"変更前",null,0]
[null,null,null,null,null,null,null,null,null,"変更後",null,0]
[null,null,null,null,null,null,null,null,null,"変更前",null,0]
[null,null,null,null,null,null,null,null,null,"変更後",null,0]
[null,null,null,null,null,null,null,null,null,"変更前",null,0]
[null,null,null,null,null,null,null,null,null,"変更後",null,0]
[null,null,null,null,null,null,null,null,null,"変更前",null,0]
[null,null,null,null,null,null,null,null,null,"変更後",null,0]
[null,null,null,null,null,null,null,null,null,"変更前",null,0]
[null,null,null,null,null,null,null,null,null,"変更後",null,0]
[null,null,null,null,null,null,null,null,null,"変更前",null,0]
[null,null,null,null,null,null,null,null,null,"変更後",null,0]
[null,null,null,null,null,null,null,null,null,"変更前",null,0]
[null,null,null,null,null,null,null,null,null,"変更後",null,{"$f":"V111*X111","v":0}]
[null,null,null,null,null,null,null,null,null,"変更前",null,0]
[null,null,null,null,null,null,null,null,null,"変更後",null,0]
[null,null,null,null,null,null,null,null,null,"変更前",null,0]
[null,null,null,null,null,null,null,null,null,"変更後",null,0]
[null,null,null,null,null,null,null,null,null,"変更前",null,0]
[null,null,null,null,null,null,null,null,null,"変更後",null,0]
[null,null,null,null,null,null,null,null,null,"変更前",null,0]
[null,null,null,null,null,null,null,null,null,"変更後",null,0]
[null,null,null,null,null,null,null,null,null,"変更前",null,0]
[null,null,null,null,null,null,null,null,null,"変更後",null,0]
[null,null,null,null,null,null,null,null,null,"変更前",null,0]
[null,null,null,null,null,null,null,null,null,"変更後",null,0]
[null,null,null,null,null,null,null,null,null,"変更前",null,0]
[null,null,null,null,null,null,null,null,null,"変更後",null,0]
[null,null,null,null,null,null,null,null,null,"変更前",null,0]
[null,null,null,null,null,null,null,null,null,"変更後",null,0]
[null,null,null,null,null,null,null,null,null,"変更前",null,0]
[null,null,null,null,null,null,null,null,null,"変更後",null,0]
[null,null,null,null,null,null,null,null,null,"変更前",null,0]
[null,null,null,null,null,null,null,null,null,"変更後",null,0]
[null,null,null,null,null,null,null,null,null,"変更前",null,0]
[null,null,null,null,null,null,null,null,null,"変更後",null,0]
[null,null,null,null,null,null,null,null,null,"変更前",null,0]
[null,null,null,null,null,null,null,null,null,"変更後",null,0]
[null,null,null,null,null,null,null,null,null,"変更前",null,0]
[null,null,null,null,null,null,null,null,null,"変更後",null,0]
[null,null,null,null,null,null,null,null,null,"変更前",null,0]
[null,null,null,null,null,null,null,null,null,"変更後",null,0]
[null,null,null,null,null,null,null,null,null,"変更前",null,0]
[null,null,null,null,null,null,null,null,null,"変更後",null,0]
[null,null,null,null,null,null,null,null,null,"変更前",null,0]
[null,null,null,null,null,null,null,null,null,"変更後",null,0]
[null,null,null,null,null,null,null,null,null,"変更前",null,0]
[null,null,null,null,null,null,null,null,null,"変更後",null,0]
[null,null,"小計",null,null,null,null,null,null,"変更前",null,{"$f":"SUMIF($J$46:$K$145,$J146,L$46:N$145)","v":0}]
[null,null,null,null,null,null,null,null,null,"変更後",null,{"$f":"SUMIF($J$46:$K$145,$J147,L$46:N$145)","v":0}]
[]
[null,null,"（支出の部）　対象外経費"]
[null,null,"経　費　区　分",null,null,null,null,null,null,null,null,"予算額（円）",null,null,"支　出　内　容　（円）"]
[null,null,"科　目",null,null,"区　　分",null,null,null,null,null,null,null,null,"内容名",null,null,null,null,null,null,"単価",null,"数量",null,"単位"]
[null,null,null,null,null,null,null,null,null,"変更前",null,{"$f":"V152*X152","v":0}]
[null,null,null,null,null,null,null,null,null,"変更後",null,{"$f":"V153*X153","v":0}]
[null,null,null,null,null,null,null,null,null,"変更前",null,{"$f":"V154*X154","v":0}]
[null,null,null,null,null,null,null,null,null,"変更後",null,0]
[null,null,null,null,null,null,null,null,null,"変更前",null,0]
[null,null,null,null,null,null,null,null,null,"変更後",null,0]
[null,null,null,null,null,null,null,null,null,"変更前",null,0]
[null,null,null,null,null,null,null,null,null,"変更後",null,0]
[null,null,null,null,null,null,null,null,null,"変更前",null,0]
[null,null,null,null,null,null,null,null,null,"変更後",null,0]
[null,null,null,null,null,null,null,null,null,"変更前",null,0]
[null,null,null,null,null,null,null,null,null,"変更後",null,0]
[null,null,null,null,null,null,null,null,null,"変更前",null,0]
[null,null,null,null,null,null,null,null,null,"変更後",null,0]
[null,null,null,null,null,null,null,null,null,"変更前",null,0]
[null,null,null,null,null,null,null,null,null,"変更後",null,0]
[null,null,null,null,null,null,null,null,null,"変更前",null,0]
[null,null,null,null,null,null,null,null,null,"変更後",null,0]
[null,null,null,null,null,null,null,null,null,"変更前",null,0]
[null,null,null,null,null,null,null,null,null,"変更後",null,0]
[null,null,"小計",null,null,null,null,null,null,"変更前",null,{"$f":"SUMIF($J$152:$K$171,$J172,L$152:N$171)","v":0}]
[null,null,null,null,null,null,null,null,null,"変更後",null,{"$f":"SUMIF($J$152:$K$171,$J173,L$152:N$171)","v":0}]
[]
[null,null,"支出の部合計",null,null,null,null,null,null,"変更前",null,{"$f":"SUM(L146,L172)","v":0},null,null,null,{"$f":"IF(L39<>L175,\"※「収入の部計」と「支出の部計」の値が異なっています\",\"\")","v":""}]
[null,null,null,null,null,null,null,null,null,"変更後",null,{"$f":"SUM(L147,L173)","v":0},null,null,null,{"$f":"IF(L40<>L176,\"※「収入の部計」と「支出の部計」の値が異なっています\",\"\")","v":""}]
[]
[null,null,"（注）　１　上段に当初計画を記載し、変更前と変更後の内容が容易に対比できるように作成する。"]
[null,null,"　　　　２　変更設計書などがあれば添付する。"]
[]
[null,"※以下事務局使用欄（申請者には入力不要です）"]
[null,null,null,null,"地区緑推\n経由",null,null,null,null,null,null,null,null,null,null,"市町村進達"]
[null,"名称"]
[null,"年月日",null,null,"令和",null,null,null,"年",null,null,"月",null,null,"日","令和",null,null,null,"年",null,null,"月",null,null,"日"]
[null,"文書番号",null,null,{"$f":"IF(E183<>\"\",VLOOKUP(E183,地区緑推一覧!A:C,3,FALSE),\"\")","v":""},null,null,null,null,null,"第",null,null,null,"号",null,null,null,null,null,null,"第",null,null,null,"号"]

{"sheet":"【印刷】事業変更申請書","index":3,"n_rows":185,"n_cols":31,"rows_kept":185,"cut":false,"hidden":false,"merged":[[165,2,166,4],[165,5,166,8],[167,2,168,4],[167,5,168,8],[169,2,170,4],[169,5,170,8],[171,2,172,8],[174,2,175,8],[155,2,156,4],[155,5,156,8],[157,2,158,4],[157,5,158,8],[159,2,160,4],[159,5,160,8],[161,2,162,4],[161,5,162,8],[163,2,164,4],[163,5,164,8],[151,2,152,4],[151,5,152,8],[153,2,154,4],[153,5,154,8],[153,9,153,10],[153,11,153,13],[151,9,151,10],[151,11,151,13],[145,9,145,10],[145,11,145,13],[146,9,146,10],[146,11,146,13],[149,2,149,8],[133,2,134,4],[133,5,134,8],[135,2,136,4],[135,5,136,8],[137,2,138,4],[137,5,138,8],[139,2,140,4],[139,5,140,8],[141,2,142,4],[141,5,142,8],[123,2,124,4],[123,5,124,8],[125,2,126,4],[125,5,126,8],[127,2,128,4],[127,5,128,8],[129,2,130,4],[129,5,130,8],[131,2,132,4],[131,5,132,8],[113,2,114,4],[113,5,114,8],[115,2,116,4],[115,5,116,8],[117,2,118,4],[117,5,118,8],[119,2,120,4],[119,5,120,8],[121,2,122,4],[121,5,122,8],[103,2,104,4],[103,5,104,8],[105,2,106,4],[105,5,106,8],[107,2,108,4],[107,5,108,8],[109,2,110,4],[109,5,110,8],[111,2,112,4],[111,5,112,8],[93,2,94,4],[93,5,94,8],[95,2,96,4],[95,5,96,8],[97,2,98,4],[97,5,98,8],[99,2,100,4],[99,5,100,8],[101,2,102,4],[101,5,102,8],[83,2,84,4],[83,5,84,8],[85,2,86,4],[85,5,86,8],[87,2,88,4],[87,5,88,8],[89,2,90,4],[89,5,90,8],[91,2,92,4],[91,5,92,8],[73,2,74,4],[73,5,74,8],[75,2,76,4],[75,5,76,8],[77,2,78,4],[77,5,78,8],[79,2,80,4],[79,5,80,8],[81,2,82,4],[81,5,82,8],[63,2,64,4],[63,5,64,8],[65,2,66,4],[65,5,66,8],[67,2,68,4],[67,5,68,8],[69,2,70,4],[69,5,70,8],[71,2,72,4],[71,5,72,8],[53,5,54,8],[55,2,56,4],[55,5,56,8],[57,2,58,4],[57,5,58,8],[59,2,60,4],[59,5,60,8],[61,2,62,4],[61,5,62,8],[184,1,184,3],[184,4,184,9],[184,11,184,13],[184,15,184,20],[184,22,184,24],[28,2,29,8],[28,9,29,10],[28,11,29,14],[30,2,31,8],[32,2,33,8],[36,2,37,8],[34,2,35,8],[43,9,44,10],[43,11,44,13],[38,2,39,8],[45,2,46,4],[45,5,46,8],[47,2,48,4],[47,5,48,8],[49,2,50,4],[49,5,50,8],[51,2,52,4],[51,5,52,8],[53,2,54,4],[181,15,181,25],[182,1,182,3],[182,4,182,14],[182,15,182,25],[183,1,183,3],[183,4,183,5],[183,6,183,7],[183,9,183,10],[183,12,183,13],[183,15,183,16],[183,17,183,18],[183,20,183,21],[183,23,183,24],[171,9,171,10],[171,11,171,13],[172,9,172,10],[172,11,172,13],[174,9,174,10],[174,11,174,13],[175,9,175,10],[175,11,175,13],[181,1,181,3],[181,4,181,14],[169,9,169,10],[169,11,169,13],[169,14,169,20],[169,21,169,22],[169,23,169,24],[169,25,169,26],[170,9,170,10],[170,11,170,13],[170,14,170,20],[170,21,170,22],[170,23,170,24],[170,25,170,26],[167,9,167,10],[167,11,167,13],[167,14,167,20],[167,21,167,22],[167,23,167,24],[167,25,167,26],[168,9,168,10],[168,11,168,13],[168,14,168,20],[168,21,168,22],[168,23,168,24],[168,25,168,26],[165,9,165,10],[165,11,165,13],[165,14,165,20],[165,21,165,22],[165,23,165,24],[165,25,165,26],[166,9,166,10],[166,11,166,13],[166,14,166,20],[166,21,166,22],[166,23,166,24],[166,25,166,26],[163,9,163,10],[163,11,163,13],[163,14,163,20],[163,21,163,22],[163,23,163,24],[163,25,163,26],[164,9,164,10],[164,11,164,13],[164,14,164,20],[164,21,164,22],[164,23,164,24],[164,25,164,26],[161,9,161,10],[161,11,161,13],[161,14,161,20],[161,21,161,22],[161,23,161,24],[161,25,161,26],[162,9,162,10],[162,11,162,13],[162,14,162,20],[162,21,162,22],[162,23,162,24],[162,25,162,26],[159,9,159,10],[159,11,159,13],[159,14,159,20],[159,21,159,22],[159,23,159,24],[159,25,159,26],[160,9,160,10],[160,11,160,13],[160,14,160,20],[160,21,160,22],[160,23,160,24],[160,25,160,26],[157,9,157,10],[157,11,157,13],[157,14,157,20],[157,21,157,22],[157,23,157,24],[157,25,157,26],[158,9,158,10],[158,11,158,13],[158,14,158,20],[158,21,158,22],[158,23,158,24],[158,25,158,26],[155,9,155,10],[155,11,155,13],[155,14,155,20],[155,21,155,22],[155,23,155,24],[155,25,155,26],[156,9,156,10],[156,11,156,13],[156,14,156,20],[156,21,156,22],[156,23,156,24],[156,25,156,26],[153,14,153,20],[153,21,153,22],[153,23,153,24],[153,25,153,26],[154,9,154,10],[154,11,154,13],[154,14,154,20],[154,21,154,22],[154,23,154,24],[154,25,154,26],[151,14,151,20],[151,21,151,22],[151,23,151,24],[151,25,151,26],[152,9,152,10],[152,11,152,13],[152,14,152,20],[152,21,152,22],[152,23,152,24],[152,25,152,26],[149,14,149,26],[150,2,150,4],[150,5,150,8],[150,14,150,20],[150,21,150,22],[150,23,150,24],[150,25,150,26],[143,9,143,10],[143,11,143,13],[143,14,143,20],[143,21,143,22],[143,23,143,24],[143,25,143,26],[144,9,144,10],[144,11,144,13],[144,14,144,20],[144,21,144,22],[144,23,144,24],[144,25,144,26],[143,2,144,4],[143,5,144,8],[145,2,146,8],[149,9,150,10],[149,11,150,13],[141,9,141,10],[141,11,141,13],[141,14,141,20],[141,21,141,22],[141,23,141,24],[141,25,141,26],[142,9,142,10],[142,11,142,13],[142,14,142,20],[142,21,142,22],[142,23,142,24],[142,25,142,26],[139,9,139,10],[139,11,139,13],[139,14,139,20],[139,21,139,22],[139,23,139,24],[139,25,139,26],[140,9,140,10],[140,11,140,13],[140,14,140,20],[140,21,140,22],[140,23,140,24],[140,25,140,26],[137,9,137,10],[137,11,137,13],[137,14,137,20],[137,21,137,22],[137,23,137,24],[137,25,137,26],[138,9,138,10],[138,11,138,13],[138,14,138,20],[138,21,138,22],[138,23,138,24],[138,25,138,26],[135,9,135,10],[135,11,135,13],[135,14,135,20],[135,21,135,22],[135,23,135,24],[135,25,135,26],[136,9,136,10],[136,11,136,13],[136,14,136,20],[136,21,136,22],[136,23,136,24],[136,25,136,26],[133,9,133,10],[133,11,133,13],[133,14,133,20],[133,21,133,22],[133,23,133,24],[133,25,133,26],[134,9,134,10],[134,11,134,13],[134,14,134,20],[134,21,134,22],[134,23,134,24],[134,25,134,26],[131,9,131,10],[131,11,131,13],[131,14,131,20],[131,21,131,22],[131,23,131,24],[131,25,131,26],[132,9,132,10],[132,11,132,13],[132,14,132,20],[132,21,132,22],[132,23,132,24],[132,25,132,26],[129,9,129,10],[129,11,129,13],[129,14,129,20],[129,21,129,22],[129,23,129,24],[129,25,129,26],[130,9,130,10],[130,11,130,13],[130,14,130,20],[130,21,130,22],[130,23,130,24],[130,25,130,26],[127,9,127,10],[127,11,127,13],[127,14,127,20],[127,21,127,22],[127,23,127,24],[127,25,127,26],[128,9,128,10],[128,11,128,13],[128,14,128,20],[128,21,128,22],[128,23,128,24],[128,25,128,26],[125,9,125,10],[125,11,125,13],[125,14,125,20],[125,21,125,22],[125,23,125,24],[125,25,125,26],[126,9,126,10],[126,11,126,13],[126,14,126,20],[126,21,126,22],[126,23,126,24],[126,25,126,26],[123,9,123,10],[123,11,123,13],[123,14,123,20],[123,21,123,22],[123,23,123,24],[123,25,123,26],[124,9,124,10],[124,11,124,13],[124,14,124,20],[124,21,124,22],[124,23,124,24],[124,25,124,26],[121,9,121,10],[121,11,121,13],[121,14,121,20],[121,21,121,22],[121,23,121,24],[121,25,121,26],[122,9,122,10],[122,11,122,13],[122,14,122,20],[122,21,122,22],[122,23,122,24],[122,25,122,26],[119,9,119,10],[119,11,119,13],[119,14,119,20],[119,21,119,22],[119,23,119,24],[119,25,119,26],[120,9,120,10],[120,11,120,13],[120,14,120,20],[120,21,120,22],[120,23,120,24],[120,25,120,26],[117,9,117,10],[117,11,117,13],[117,14,117,20],[117,21,117,22],[117,23,117,24],[117,25,117,26],[118,9,118,10],[118,11,118,13],[118,14,118,20],[118,21,118,22],[118,23,118,24],[118,25,118,26],[115,9,115,10],[115,11,115,13],[115,14,115,20],[115,21,115,22],[115,23,115,24],[115,25,115,26],[116,9,116,10],[116,11,116,13],[116,14,116,20],[116,21,116,22],[116,23,116,24],[116,25,116,26],[113,9,113,10],[113,11,113,13],[113,14,113,20],[113,21,113,22],[113,23,113,24],[113,25,113,26],[114,9,114,10],[114,11,114,13],[114,14,114,20],[114,21,114,22],[114,23,114,24],[114,25,114,26],[111,9,111,10],[111,11,111,13],[111,14,111,20],[111,21,111,22],[111,23,111,24],[111,25,111,26],[112,9,112,10],[112,11,112,13],[112,14,112,20],[112,21,112,22],[112,23,112,24],[112,25,112,26],[109,9,109,10],[109,11,109,13],[109,14,109,20],[109,21,109,22],[109,23,109,24],[109,25,109,26],[110,9,110,10],[110,11,110,13],[110,14,110,20],[110,21,110,22],[110,23,110,24],[110,25,110,26],[107,9,107,10],[107,11,107,13],[107,14,107,20],[107,21,107,22],[107,23,107,24],[107,25,107,26],[108,9,108,10],[108,11,108,13],[108,14,108,20],[108,21,108,22],[108,23,108,24],[108,25,108,26],[105,9,105,10],[105,11,105,13],[105,14,105,20],[105,21,105,22],[105,23,105,24],[105,25,105,26],[106,9,106,10],[106,11,106,13],[106,14,106,20],[106,21,106,22],[106,23,106,24],[106,25,106,26],[103,9,103,10],[103,11,103,13],[103,14,103,20],[103,21,103,22],[103,23,103,24],[103,25,103,26],[104,9,104,10],[104,11,104,13],[104,14,104,20],[104,21,104,22],[104,23,104,24],[104,25,104,26],[101,9,101,10],[101,11,101,13],[101,14,101,20],[101,21,101,22],[101,23,101,24],[101,25,101,26],[102,9,102,10],[102,11,102,13],[102,14,102,20],[102,21,102,22],[102,23,102,24],[102,25,102,26],[99,9,99,10],[99,11,99,13],[99,14,99,20],[99,21,99,22],[99,23,99,24],[99,25,99,26],[100,9,100,10],[100,11,100,13],[100,14,100,20],[100,21,100,22],[100,23,100,24],[100,25,100,26],[97,9,97,10],[97,11,97,13],[97,14,97,20],[97,21,97,22],[97,23,97,24],[97,25,97,26],[98,9,98,10],[98,11,98,13],[98,14,98,20],[98,21,98,22],[98,23,98,24],[98,25,98,26],[95,9,95,10],[95,11,95,13],[95,14,95,20],[95,21,95,22],[95,23,95,24],[95,25,95,26],[96,9,96,10],[96,11,96,13],[96,14,96,20],[96,21,96,22],[96,23,96,24],[96,25,96,26],[93,9,93,10],[93,11,93,13],[93,14,93,20],[93,21,93,22],[93,23,93,24],[93,25,93,26],[94,9,94,10],[94,11,94,13],[94,14,94,20],[94,21,94,22],[94,23,94,24],[94,25,94,26],[91,9,91,10],[91,11,91,13],[91,14,91,20],[91,21,91,22],[91,23,91,24],[91,25,91,26],[92,9,92,10],[92,11,92,13],[92,14,92,20],[92,21,92,22],[92,23,92,24],[92,25,92,26],[89,9,89,10],[89,11,89,13],[89,14,89,20],[89,21,89,22],[89,23,89,24],[89,25,89,26],[90,9,90,10],[90,11,90,13],[90,14,90,20],[90,21,90,22],[90,23,90,24],[90,25,90,26],[87,9,87,10],[87,11,87,13],[87,14,87,20],[87,21,87,22],[87,23,87,24],[87,25,87,26],[88,9,88,10],[88,11,88,13],[88,14,88,20],[88,21,88,22],[88,23,88,24],[88,25,88,26],[85,9,85,10],[85,11,85,13],[85,14,85,20],[85,21,85,22],[85,23,85,24],[85,25,85,26],[86,9,86,10],[86,11,86,13],[86,14,86,20],[86,21,86,22],[86,23,86,24],[86,25,86,26],[83,9,83,10],[83,11,83,13],[83,14,83,20],[83,21,83,22],[83,23,83,24],[83,25,83,26],[84,9,84,10],[84,11,84,13],[84,14,84,20],[84,21,84,22],[84,23,84,24],[84,25,84,26],[81,9,81,10],[81,11,81,13],[81,14,81,20],[81,21,81,22],[81,23,81,24],[81,25,81,26],[82,9,82,10],[82,11,82,13],[82,14,82,20],[82,21,82,22],[82,23,82,24],[82,25,82,26],[79,9,79,10],[79,11,79,13],[79,14,79,20],[79,21,79,22],[79,23,79,24],[79,25,79,26],[80,9,80,10],[80,11,80,13],[80,14,80,20],[80,21,80,22],[80,23,80,24],[80,25,80,26],[77,9,77,10],[77,11,77,13],[77,14,77,20],[77,21,77,22],[77,23,77,24],[77,25,77,26],[78,9,78,10],[78,11,78,13],[78,14,78,20],[78,21,78,22],[78,23,78,24],[78,25,78,26],[75,9,75,10],[75,11,75,13],[75,14,75,20],[75,21,75,22],[75,23,75,24],[75,25,75,26],[76,9,76,10],[76,11,76,13],[76,14,76,20],[76,21,76,22],[76,23,76,24],[76,25,76,26],[73,9,73,10],[73,11,73,13],[73,14,73,20],[73,21,73,22],[73,23,73,24],[73,25,73,26],[74,9,74,10],[74,11,74,13],[74,14,74,20],[74,21,74,22],[74,23,74,24],[74,25,74,26],[71,9,71,10],[71,11,71,13],[71,14,71,20],[71,21,71,22],[71,23,71,24],[71,25,71,26],[72,9,72,10],[72,11,72,13],[72,14,72,20],[72,21,72,22],[72,23,72,24],[72,25,72,26],[69,9,69,10],[69,11,69,13],[69,14,69,20],[69,21,69,22],[69,23,69,24],[69,25,69,26],[70,9,70,10],[70,11,70,13],[70,14,70,20],[70,21,70,22],[70,23,70,24],[70,25,70,26],[67,9,67,10],[67,11,67,13],[67,14,67,20],[67,21,67,22],[67,23,67,24],[67,25,67,26],[68,9,68,10],[68,11,68,13],[68,14,68,20],[68,21,68,22],[68,23,68,24],[68,25,68,26],[65,9,65,10],[65,11,65,13],[65,14,65,20],[65,21,65,22],[65,23,65,24],[65,25,65,26],[66,9,66,10],[66,11,66,13],[66,14,66,20],[66,21,66,22],[66,23,66,24],[66,25,66,26],[63,9,63,10],[63,11,63,13],[63,14,63,20],[63,21,63,22],[63,23,63,24],[63,25,63,26],[64,9,64,10],[64,11,64,13],[64,14,64,20],[64,21,64,22],[64,23,64,24],[64,25,64,26],[61,9,61,10],[61,11,61,13],[61,14,61,20],[61,21,61,22],[61,23,61,24],[61,25,61,26],[62,9,62,10],[62,11,62,13],[62,14,62,20],[62,21,62,22],[62,23,62,24],[62,25,62,26],[59,9,59,10],[59,11,59,13],[59,14,59,20],[59,21,59,22],[59,23,59,24],[59,25,59,26],[60,9,60,10],[60,11,60,13],[60,14,60,20],[60,21,60,22],[60,23,60,24],[60,25,60,26],[57,9,57,10],[57,11,57,13],[57,14,57,20],[57,21,57,22],[57,23,57,24],[57,25,57,26],[58,9,58,10],[58,11,58,13],[58,14,58,20],[58,21,58,22],[58,23,58,24],[58,25,58,26],[55,9,55,10],[55,11,55,13],[55,14,55,20],[55,21,55,22],[55,23,55,24],[55,25,55,26],[56,9,56,10],[56,11,56,13],[56,14,56,20],[56,21,56,22],[56,23,56,24],[56,25,56,26],[53,9,53,10],[53,11,53,13],[53,14,53,20],[53,21,53,22],[53,23,53,24],[53,25,53,26],[54,9,54,10],[54,11,54,13],[54,14,54,20],[54,21,54,22],[54,23,54,24],[54,25,54,26],[51,9,51,10],[51,11,51,13],[51,14,51,20],[51,21,51,22],[51,23,51,24],[51,25,51,26],[52,9,52,10],[52,11,52,13],[52,14,52,20],[52,21,52,22],[52,23,52,24],[52,25,52,26],[49,9,49,10],[49,11,49,13],[49,14,49,20],[49,21,49,22],[49,23,49,24],[49,25,49,26],[50,9,50,10],[50,11,50,13],[50,14,50,20],[50,21,50,22],[50,23,50,24],[50,25,50,26],[47,9,47,10],[47,11,47,13],[47,14,47,20],[47,21,47,22],[47,23,47,24],[47,25,47,26],[48,9,48,10],[48,11,48,13],[48,14,48,20],[48,21,48,22],[48,23,48,24],[48,25,48,26],[45,9,45,10],[45,11,45,13],[45,14,45,20],[45,21,45,22],[45,23,45,24],[45,25,45,26],[46,9,46,10],[46,11,46,13],[46,14,46,20],[46,21,46,22],[46,23,46,24],[46,25,46,26],[39,9,39,10],[39,11,39,14],[39,15,39,18],[39,19,39,22],[39,23,39,26],[43,2,43,8],[43,14,43,26],[44,2,44,4],[44,5,44,8],[44,14,44,20],[44,21,44,22],[44,23,44,24],[44,25,44,26],[37,9,37,10],[37,11,37,14],[37,15,37,18],[37,19,37,22],[37,23,37,26],[38,9,38,10],[38,11,38,14],[38,15,38,18],[38,19,38,22],[38,23,38,26],[35,9,35,10],[35,11,35,14],[35,15,35,18],[35,19,35,22],[35,23,35,26],[36,9,36,10],[36,11,36,14],[36,15,36,18],[36,19,36,22],[36,23,36,26],[33,9,33,10],[33,11,33,14],[33,15,33,18],[33,19,33,22],[33,23,33,26],[34,9,34,10],[34,11,34,14],[34,15,34,18],[34,19,34,22],[34,23,34,26],[31,9,31,10],[31,11,31,14],[31,15,31,18],[31,19,31,22],[31,23,31,26],[32,9,32,10],[32,11,32,14],[32,15,32,18],[32,19,32,22],[32,23,32,26],[17,1,17,26],[21,2,21,14],[21,17,21,25],[24,2,24,26],[28,15,28,26],[29,15,29,18],[29,19,29,22],[29,23,29,26],[30,9,30,10],[30,11,30,14],[30,15,30,18],[30,19,30,22],[30,23,30,26],[9,17,9,18],[9,20,9,22],[10,16,10,26],[11,16,11,26],[12,16,12,26],[14,1,14,13],[14,14,14,15],[14,16,14,26],[16,2,16,3],[16,4,16,5],[16,7,16,8],[16,10,16,11],[16,14,16,18],[16,20,16,23],[3,16,3,20],[3,22,3,25],[4,16,4,17],[4,18,4,19],[4,21,4,22],[4,24,4,25],[5,1,5,26],[7,1,7,2],[7,3,7,7]]}
[]
[]
["第3号様式"]
[null,null,null,null,null,null,null,null,null,null,null,null,null,null,null,null,{"$f":"IF(事業変更申請書!Q4<>\"\",事業変更申請書!Q4,\"\")","v":""},null,null,null,null,{"$f":"IF(事業変更申請書!V4<>\"\",事業変更申請書!V4,\"\")","v":"第"},{"$f":"IF(事業変更申請書!W4<>\"\",事業変更申請書!W4,\"\")","v":""},null,null,null,"号"]
[null,null,null,null,null,null,null,null,null,null,null,null,null,null,null,null,"令和",null,{"$f":"IF(事業変更申請書!S5<>\"\",事業変更申請書!S5,\"\")","v":""},null,"年",{"$f":"IF(事業変更申請書!V5<>\"\",事業変更申請書!V5,\"\")","v":""},null,"月",{"$f":"IF(事業変更申請書!Y5<>\"\",事業変更申請書!Y5,\"\")","v":""},null,"日"]
[null,"（公財）山梨県緑化推進機構"]
[]
[null,"代表理事",null,{"$f":"IF(事業変更申請書!D8<>\"\",事業変更申請書!D8,\"\")","v":"鷹野　裕司"},null,null,null,null,"殿"]
[null,null,null,null,null,null,null,null,null,null,null,null,null,null,null,"（申請者）"]
[null,null,null,null,null,null,null,null,null,null,null,null,null,null,null,null,"〒",{"$f":"IF(事業変更申請書!R10<>\"\",事業変更申請書!R10,\"\")","v":""},null,"－",{"$f":"IF(事業変更申請書!U10<>\"\",事業変更申請書!U10,\"\")","v":""}]
[null,null,null,null,null,null,null,null,null,null,null,null,null,null,null,null,{"$f":"IF(事業変更申請書!Q11<>\"\",事業変更申請書!Q11,\"\")","v":"[住所]"}]
[null,null,null,null,null,null,null,null,null,null,null,null,null,null,null,null,{"$f":"IF(事業変更申請書!Q12<>\"\",事業変更申請書!Q12,\"\")","v":"[法人・団体の名称]"}]
[null,null,null,null,null,null,null,null,null,null,null,null,null,null,null,null,{"$f":"IF(事業変更申請書!Q13<>\"\",事業変更申請書!Q13,\"\")","v":"[代表者役職名・氏名]"}]
[]
[null,"令和８年度緑の募金事業",null,null,null,null,null,null,null,null,null,null,null,null,{"$f":"IF(事業変更申請書!O15<>\"\",事業変更申請書!O15,\"\")","v":""},null,"承認申請書"]
[]
[null,null,"令和",null,{"$f":"IF(事業変更申請書!E17<>\"\",事業変更申請書!E17,\"\")","v":""},null,"年",{"$f":"IF(事業変更申請書!H17<>\"\",事業変更申請書!H17,\"\")","v":""},null,"月",{"$f":"IF(事業変更申請書!K17<>\"\",事業変更申請書!K17,\"\")","v":""},null,"日付け",null,{"$f":"IF(事業変更申請書!O17<>\"\",事業変更申請書!O17,\"\")","v":""},null,null,null,null,"第",{"$f":"IF(事業変更申請書!U17<>\"\",事業変更申請書!U17,\"\")","v":""},null,null,null,"号","で"]
[null,{"$f":"\"交付決定のあった緑の募金事業について、次のとおり\"&O15&\"したいので、承認してください。\"","v":"交付決定のあった緑の募金事業について、次のとおりしたいので、承認してください。"}]
[]
[null,"１　事業名"]
[null,null,"（注）事業名ごとに申請書を作成してください。"]
[null,null,{"$f":"IF(事業変更申請書!C22<>\"\",事業変更申請書!C22,\"\")","v":""},null,null,null,null,null,null,null,null,null,null,null,null,null,null,{"$f":"IF(事業変更申請書!R22<>\"\",事業変更申請書!R22,\"\")","v":""}]
[]
[null,{"$f":"\"２　\"&O15&\"の理由\"","v":"２　の理由"}]
[null,null,{"$f":"IF(事業変更申請書!C25<>\"\",事業変更申請書!C25,\"\")","v":""}]
[]
[null,{"$f":"\"３　\"&O15&\"の内容\"","v":"３　の内容"}]
[null,null,"（収入の部）"]
[null,null,"区　　分",null,null,null,null,null,null,null,null,"予算額（円）",null,null,null,"収　入　区　分　（円）"]
[null,null,null,null,null,null,null,null,null,null,null,null,null,null,null,"緑の募金交付金",null,null,null,"その他助成金",null,null,null,"自 己 資 金"]
[null,null,{"$f":"IF(事業変更申請書!C31<>\"\",事業変更申請書!C31,\"\")","v":""},null,null,null,null,null,null,"変更前",null,{"$f":"IF(事業変更申請書!L31<>\"\",事業変更申請書!L31,\"\")","v":0},null,null,null,{"$f":"IF(事業変更申請書!P31<>\"\",事業変更申請書!P31,\"\")","v":""},null,null,null,{"$f":"IF(事業変更申請書!T31<>\"\",事業変更申請書!T31,\"\")","v":""},null,null,null,{"$f":"IF(事業変更申請書!X31<>\"\",事業変更申請書!X31,\"\")","v":""}]
[null,null,null,null,null,null,null,null,null,"変更後",null,{"$f":"IF(事業変更申請書!L32<>\"\",事業変更申請書!L32,\"\")","v":0},null,null,null,{"$f":"IF(事業変更申請書!P32<>\"\",事業変更申請書!P32,\"\")","v":""},null,null,null,{"$f":"IF(事業変更申請書!T32<>\"\",事業変更申請書!T32,\"\")","v":""},null,null,null,{"$f":"IF(事業変更申請書!X32<>\"\",事業変更申請書!X32,\"\")","v":""}]
[null,null,{"$f":"IF(事業変更申請書!C33<>\"\",事業変更申請書!C33,\"\")","v":""},null,null,null,null,null,null,"変更前",null,{"$f":"IF(事業変更申請書!L33<>\"\",事業変更申請書!L33,\"\")","v":0},null,null,null,{"$f":"IF(事業変更申請書!P33<>\"\",事業変更申請書!P33,\"\")","v":""},null,null,null,{"$f":"IF(事業変更申請書!T33<>\"\",事業変更申請書!T33,\"\")","v":""},null,null,null,{"$f":"IF(事業変更申請書!X33<>\"\",事業変更申請書!X33,\"\")","v":""},null,null,null,null,null,null,{"$f":"IF(AND(P33=\"\",T33=\"\",X33=\"\",P34=\"\",T34=\"\",X34=\"\"),0,1)","v":0}]
[null,null,null,null,null,null,null,null,null,"変更後",null,{"$f":"IF(事業変更申請書!L34<>\"\",事業変更申請書!L34,\"\")","v":0},null,null,null,{"$f":"IF(事業変更申請書!P34<>\"\",事業変更申請書!P34,\"\")","v":""},null,null,null,{"$f":"IF(事業変更申請書!T34<>\"\",事業変更申請書!T34,\"\")","v":""},null,null,null,{"$f":"IF(事業変更申請書!X34<>\"\",事業変更申請書!X34,\"\")","v":""},null,null,null,null,null,null,{"$f":"IF(AND(P33=\"\",T33=\"\",X33=\"\",P34=\"\",T34=\"\",X34=\"\"),0,1)","v":0}]
[null,null,{"$f":"IF(事業変更申請書!C35<>\"\",事業変更申請書!C35,\"\")","v":""},null,null,null,null,null,null,"変更前",null,{"$f":"IF(事業変更申請書!L35<>\"\",事業変更申請書!L35,\"\")","v":0},null,null,null,{"$f":"IF(事業変更申請書!P35<>\"\",事業変更申請書!P35,\"\")","v":""},null,null,null,{"$f":"IF(事業変更申請書!T35<>\"\",事業変更申請書!T35,\"\")","v":""},null,null,null,{"$f":"IF(事業変更申請書!X35<>\"\",事業変更申請書!X35,\"\")","v":""},null,null,null,null,null,null,{"$f":"IF(AND(P35=\"\",T35=\"\",X35=\"\",P36=\"\",T36=\"\",X36=\"\"),0,1)","v":0}]
[null,null,null,null,null,null,null,null,null,"変更後",null,{"$f":"IF(事業変更申請書!L36<>\"\",事業変更申請書!L36,\"\")","v":0},null,null,null,{"$f":"IF(事業変更申請書!P36<>\"\",事業変更申請書!P36,\"\")","v":""},null,null,null,{"$f":"IF(事業変更申請書!T36<>\"\",事業変更申請書!T36,\"\")","v":""},null,null,null,{"$f":"IF(事業変更申請書!X36<>\"\",事業変更申請書!X36,\"\")","v":""},null,null,null,null,null,null,{"$f":"IF(AND(P35=\"\",T35=\"\",X35=\"\",P36=\"\",T36=\"\",X36=\"\"),0,1)","v":0}]
[null,null,{"$f":"IF(事業変更申請書!C37<>\"\",事業変更申請書!C37,\"\")","v":""},null,null,null,null,null,null,"変更前",null,{"$f":"IF(事業変更申請書!L37<>\"\",事業変更申請書!L37,\"\")","v":0},null,null,null,{"$f":"IF(事業変更申請書!P37<>\"\",事業変更申請書!P37,\"\")","v":""},null,null,null,{"$f":"IF(事業変更申請書!T37<>\"\",事業変更申請書!T37,\"\")","v":""},null,null,null,{"$f":"IF(事業変更申請書!X37<>\"\",事業変更申請書!X37,\"\")","v":""},null,null,null,null,null,null,{"$f":"IF(AND(P37=\"\",T37=\"\",X37=\"\",P38=\"\",T38=\"\",X38=\"\"),0,1)","v":0}]
[null,null,null,null,null,null,null,null,null,"変更後",null,{"$f":"IF(事業変更申請書!L38<>\"\",事業変更申請書!L38,\"\")","v":0},null,null,null,{"$f":"IF(事業変更申請書!P38<>\"\",事業変更申請書!P38,\"\")","v":""},null,null,null,{"$f":"IF(事業変更申請書!T38<>\"\",事業変更申請書!T38,\"\")","v":""},null,null,null,{"$f":"IF(事業変更申請書!X38<>\"\",事業変更申請書!X38,\"\")","v":""},null,null,null,null,null,null,{"$f":"IF(AND(P37=\"\",T37=\"\",X37=\"\",P38=\"\",T38=\"\",X38=\"\"),0,1)","v":0}]
[null,null,"計",null,null,null,null,null,null,"変更前",null,{"$f":"IF(事業変更申請書!L39<>\"\",事業変更申請書!L39,\"\")","v":0},null,null,null,{"$f":"IF(事業変更申請書!P39<>\"\",事業変更申請書!P39,\"\")","v":0},null,null,null,{"$f":"IF(事業変更申請書!T39<>\"\",事業変更申請書!T39,\"\")","v":0},null,null,null,{"$f":"IF(事業変更申請書!X39<>\"\",事業変更申請書!X39,\"\")","v":0},null,null,null,null,null,null,2]
[null,null,null,null,null,null,null,null,null,"変更後",null,{"$f":"IF(事業変更申請書!L40<>\"\",事業変更申請書!L40,\"\")","v":0},null,null,null,{"$f":"IF(事業変更申請書!P40<>\"\",事業変更申請書!P40,\"\")","v":0},null,null,null,{"$f":"IF(事業変更申請書!T40<>\"\",事業変更申請書!T40,\"\")","v":0},null,null,null,{"$f":"IF(事業変更申請書!X40<>\"\",事業変更申請書!X40,\"\")","v":0}]
[null,null,"（注）　・区分欄は事業内容の異なるごとに区分して記載する。"]
[]
[null,null,"（支出の部）　交付対象経費"]
[null,null,"経　費　区　分",null,null,null,null,null,null,null,null,"予算額（円）",null,null,"支　出　内　容　（円）"]
[null,null,"科　目",null,null,"区　　分",null,null,null,null,null,null,null,null,"内容名",null,null,null,null,null,null,"単価",null,"数量",null,"単位"]
[null,null,{"$f":"IF(事業変更申請書!C46<>\"\",事業変更申請書!C46,\"\")","v":""},null,null,{"$f":"IF(事業変更申請書!F46<>\"\",事業変更申請書!F46,\"\")","v":""},null,null,null,"変更前",null,{"$f":"IF(事業変更申請書!L46<>\"\",事業変更申請書!L46,\"\")","v":0},null,null,{"$f":"IF(事業変更申請書!O46<>\"\",事業変更申請書!O46,\"\")","v":""},null,null,null,null,null,null,{"$f":"IF(事業変更申請書!V46<>\"\",事業変更申請書!V46,\"\")","v":""},null,{"$f":"IF(事業変更申請書!X46<>\"\",事業変更申請書!X46,\"\")","v":""},null,{"$f":"IF(事業変更申請書!Z46<>\"\",事業変更申請書!Z46,\"\")","v":""},null,null,null,null,{"$f":"IF(AND(C46=\"\",F46=\"\",O46=\"\",V46=\"\",X46=\"\",Z46=\"\",O47=\"\",V47=\"\",X47=\"\",Z47=\"\"),0,1)","v":0}]
[null,null,null,null,null,null,null,null,null,"変更後",null,{"$f":"IF(事業変更申請書!L47<>\"\",事業変更申請書!L47,\"\")","v":0},null,null,{"$f":"IF(事業変更申請書!O47<>\"\",事業変更申請書!O47,\"\")","v":""},null,null,null,null,null,null,{"$f":"IF(事業変更申請書!V47<>\"\",事業変更申請書!V47,\"\")","v":""},null,{"$f":"IF(事業変更申請書!X47<>\"\",事業変更申請書!X47,\"\")","v":""},null,{"$f":"IF(事業変更申請書!Z47<>\"\",事業変更申請書!Z47,\"\")","v":""},null,null,null,null,{"$f":"IF(AND(C46=\"\",F46=\"\",O46=\"\",V46=\"\",X46=\"\",Z46=\"\",O47=\"\",V47=\"\",X47=\"\",Z47=\"\"),0,1)","v":0}]
[null,null,{"$f":"IF(事業変更申請書!C48<>\"\",事業変更申請書!C48,\"\")","v":""},null,null,{"$f":"IF(事業変更申請書!F48<>\"\",事業変更申請書!F48,\"\")","v":""},null,null,null,"変更前",null,{"$f":"IF(事業変更申請書!L48<>\"\",事業変更申請書!L48,\"\")","v":0},null,null,{"$f":"IF(事業変更申請書!O48<>\"\",事業変更申請書!O48,\"\")","v":""},null,null,null,null,null,null,{"$f":"IF(事業変更申請書!V48<>\"\",事業変更申請書!V48,\"\")","v":""},null,{"$f":"IF(事業変更申請書!X48<>\"\",事業変更申請書!X48,\"\")","v":""},null,{"$f":"IF(事業変更申請書!Z48<>\"\",事業変更申請書!Z48,\"\")","v":""},null,null,null,null,{"$f":"IF(AND(C48=\"\",F48=\"\",O48=\"\",V48=\"\",X48=\"\",Z48=\"\",O49=\"\",V49=\"\",X49=\"\",Z49=\"\"),0,1)","v":0}]
[null,null,null,null,null,null,null,null,null,"変更後",null,{"$f":"IF(事業変更申請書!L49<>\"\",事業変更申請書!L49,\"\")","v":0},null,null,{"$f":"IF(事業変更申請書!O49<>\"\",事業変更申請書!O49,\"\")","v":""},null,null,null,null,null,null,{"$f":"IF(事業変更申請書!V49<>\"\",事業変更申請書!V49,\"\")","v":""},null,{"$f":"IF(事業変更申請書!X49<>\"\",事業変更申請書!X49,\"\")","v":""},null,{"$f":"IF(事業変更申請書!Z49<>\"\",事業変更申請書!Z49,\"\")","v":""},null,null,null,null,{"$f":"IF(AND(C48=\"\",F48=\"\",O48=\"\",V48=\"\",X48=\"\",Z48=\"\",O49=\"\",V49=\"\",X49=\"\",Z49=\"\"),0,1)","v":0}]
[null,null,{"$f":"IF(事業変更申請書!C50<>\"\",事業変更申請書!C50,\"\")","v":""},null,null,{"$f":"IF(事業変更申請書!F50<>\"\",事業変更申請書!F50,\"\")","v":""},null,null,null,"変更前",null,{"$f":"IF(事業変更申請書!L50<>\"\",事業変更申請書!L50,\"\")","v":0},null,null,{"$f":"IF(事業変更申請書!O50<>\"\",事業変更申請書!O50,\"\")","v":""},null,null,null,null,null,null,{"$f":"IF(事業変更申請書!V50<>\"\",事業変更申請書!V50,\"\")","v":""},null,{"$f":"IF(事業変更申請書!X50<>\"\",事業変更申請書!X50,\"\")","v":""},null,{"$f":"IF(事業変更申請書!Z50<>\"\",事業変更申請書!Z50,\"\")","v":""},null,null,null,null,{"$f":"IF(AND(C50=\"\",F50=\"\",O50=\"\",V50=\"\",X50=\"\",Z50=\"\",O51=\"\",V51=\"\",X51=\"\",Z51=\"\"),0,1)","v":0}]
[null,null,null,null,null,null,null,null,null,"変更後",null,{"$f":"IF(事業変更申請書!L51<>\"\",事業変更申請書!L51,\"\")","v":0},null,null,{"$f":"IF(事業変更申請書!O51<>\"\",事業変更申請書!O51,\"\")","v":""},null,null,null,null,null,null,{"$f":"IF(事業変更申請書!V51<>\"\",事業変更申請書!V51,\"\")","v":""},null,{"$f":"IF(事業変更申請書!X51<>\"\",事業変更申請書!X51,\"\")","v":""},null,{"$f":"IF(事業変更申請書!Z51<>\"\",事業変更申請書!Z51,\"\")","v":""},null,null,null,null,{"$f":"IF(AND(C50=\"\",F50=\"\",O50=\"\",V50=\"\",X50=\"\",Z50=\"\",O51=\"\",V51=\"\",X51=\"\",Z51=\"\"),0,1)","v":0}]
[null,null,{"$f":"IF(事業変更申請書!C52<>\"\",事業変更申請書!C52,\"\")","v":""},null,null,{"$f":"IF(事業変更申請書!F52<>\"\",事業変更申請書!F52,\"\")","v":""},null,null,null,"変更前",null,{"$f":"IF(事業変更申請書!L52<>\"\",事業変更申請書!L52,\"\")","v":0},null,null,{"$f":"IF(事業変更申請書!O52<>\"\",事業変更申請書!O52,\"\")","v":""},null,null,null,null,null,null,{"$f":"IF(事業変更申請書!V52<>\"\",事業変更申請書!V52,\"\")","v":""},null,{"$f":"IF(事業変更申請書!X52<>\"\",事業変更申請書!X52,\"\")","v":""},null,{"$f":"IF(事業変更申請書!Z52<>\"\",事業変更申請書!Z52,\"\")","v":""},null,null,null,null,{"$f":"IF(AND(C52=\"\",F52=\"\",O52=\"\",V52=\"\",X52=\"\",Z52=\"\",O53=\"\",V53=\"\",X53=\"\",Z53=\"\"),0,1)","v":0}]
[null,null,null,null,null,null,null,null,null,"変更後",null,{"$f":"IF(事業変更申請書!L53<>\"\",事業変更申請書!L53,\"\")","v":0},null,null,{"$f":"IF(事業変更申請書!O53<>\"\",事業変更申請書!O53,\"\")","v":""},null,null,null,null,null,null,{"$f":"IF(事業変更申請書!V53<>\"\",事業変更申請書!V53,\"\")","v":""},null,{"$f":"IF(事業変更申請書!X53<>\"\",事業変更申請書!X53,\"\")","v":""},null,{"$f":"IF(事業変更申請書!Z53<>\"\",事業変更申請書!Z53,\"\")","v":""},null,null,null,null,{"$f":"IF(AND(C52=\"\",F52=\"\",O52=\"\",V52=\"\",X52=\"\",Z52=\"\",O53=\"\",V53=\"\",X53=\"\",Z53=\"\"),0,1)","v":0}]
[null,null,{"$f":"IF(事業変更申請書!C54<>\"\",事業変更申請書!C54,\"\")","v":""},null,null,{"$f":"IF(事業変更申請書!F54<>\"\",事業変更申請書!F54,\"\")","v":""},null,null,null,"変更前",null,{"$f":"IF(事業変更申請書!L54<>\"\",事業変更申請書!L54,\"\")","v":0},null,null,{"$f":"IF(事業変更申請書!O54<>\"\",事業変更申請書!O54,\"\")","v":""},null,null,null,null,null,null,{"$f":"IF(事業変更申請書!V54<>\"\",事業変更申請書!V54,\"\")","v":""},null,{"$f":"IF(事業変更申請書!X54<>\"\",事業変更申請書!X54,\"\")","v":""},null,{"$f":"IF(事業変更申請書!Z54<>\"\",事業変更申請書!Z54,\"\")","v":""},null,null,null,null,{"$f":"IF(AND(C54=\"\",F54=\"\",O54=\"\",V54=\"\",X54=\"\",Z54=\"\",O55=\"\",V55=\"\",X55=\"\",Z55=\"\"),0,1)","v":0}]
[null,null,null,null,null,null,null,null,null,"変更後",null,{"$f":"IF(事業変更申請書!L55<>\"\",事業変更申請書!L55,\"\")","v":0},null,null,{"$f":"IF(事業変更申請書!O55<>\"\",事業変更申請書!O55,\"\")","v":""},null,null,null,null,null,null,{"$f":"IF(事業変更申請書!V55<>\"\",事業変更申請書!V55,\"\")","v":""},null,{"$f":"IF(事業変更申請書!X55<>\"\",事業変更申請書!X55,\"\")","v":""},null,{"$f":"IF(事業変更申請書!Z55<>\"\",事業変更申請書!Z55,\"\")","v":""},null,null,null,null,{"$f":"IF(AND(C54=\"\",F54=\"\",O54=\"\",V54=\"\",X54=\"\",Z54=\"\",O55=\"\",V55=\"\",X55=\"\",Z55=\"\"),0,1)","v":0}]
[null,null,{"$f":"IF(事業変更申請書!C56<>\"\",事業変更申請書!C56,\"\")","v":""},null,null,{"$f":"IF(事業変更申請書!F56<>\"\",事業変更申請書!F56,\"\")","v":""},null,null,null,"変更前",null,{"$f":"IF(事業変更申請書!L56<>\"\",事業変更申請書!L56,\"\")","v":0},null,null,{"$f":"IF(事業変更申請書!O56<>\"\",事業変更申請書!O56,\"\")","v":""},null,null,null,null,null,null,{"$f":"IF(事業変更申請書!V56<>\"\",事業変更申請書!V56,\"\")","v":""},null,{"$f":"IF(事業変更申請書!X56<>\"\",事業変更申請書!X56,\"\")","v":""},null,{"$f":"IF(事業変更申請書!Z56<>\"\",事業変更申請書!Z56,\"\")","v":""},null,null,null,null,{"$f":"IF(AND(C56=\"\",F56=\"\",O56=\"\",V56=\"\",X56=\"\",Z56=\"\",O57=\"\",V57=\"\",X57=\"\",Z57=\"\"),0,1)","v":0}]
[null,null,null,null,null,null,null,null,null,"変更後",null,{"$f":"IF(事業変更申請書!L57<>\"\",事業変更申請書!L57,\"\")","v":0},null,null,{"$f":"IF(事業変更申請書!O57<>\"\",事業変更申請書!O57,\"\")","v":""},null,null,null,null,null,null,{"$f":"IF(事業変更申請書!V57<>\"\",事業変更申請書!V57,\"\")","v":""},null,{"$f":"IF(事業変更申請書!X57<>\"\",事業変更申請書!X57,\"\")","v":""},null,{"$f":"IF(事業変更申請書!Z57<>\"\",事業変更申請書!Z57,\"\")","v":""},null,null,null,null,{"$f":"IF(AND(C56=\"\",F56=\"\",O56=\"\",V56=\"\",X56=\"\",Z56=\"\",O57=\"\",V57=\"\",X57=\"\",Z57=\"\"),0,1)","v":0}]
[null,null,{"$f":"IF(事業変更申請書!C58<>\"\",事業変更申請書!C58,\"\")","v":""},null,null,{"$f":"IF(事業変更申請書!F58<>\"\",事業変更申請書!F58,\"\")","v":""},null,null,null,"変更前",null,{"$f":"IF(事業変更申請書!L58<>\"\",事業変更申請書!L58,\"\")","v":0},null,null,{"$f":"IF(事業変更申請書!O58<>\"\",事業変更申請書!O58,\"\")","v":""},null,null,null,null,null,null,{"$f":"IF(事業変更申請書!V58<>\"\",事業変更申請書!V58,\"\")","v":""},null,{"$f":"IF(事業変更申請書!X58<>\"\",事業変更申請書!X58,\"\")","v":""},null,{"$f":"IF(事業変更申請書!Z58<>\"\",事業変更申請書!Z58,\"\")","v":""},null,null,null,null,{"$f":"IF(AND(C58=\"\",F58=\"\",O58=\"\",V58=\"\",X58=\"\",Z58=\"\",O59=\"\",V59=\"\",X59=\"\",Z59=\"\"),0,1)","v":0}]
[null,null,null,null,null,null,null,null,null,"変更後",null,{"$f":"IF(事業変更申請書!L59<>\"\",事業変更申請書!L59,\"\")","v":0},null,null,{"$f":"IF(事業変更申請書!O59<>\"\",事業変更申請書!O59,\"\")","v":""},null,null,null,null,null,null,{"$f":"IF(事業変更申請書!V59<>\"\",事業変更申請書!V59,\"\")","v":""},null,{"$f":"IF(事業変更申請書!X59<>\"\",事業変更申請書!X59,\"\")","v":""},null,{"$f":"IF(事業変更申請書!Z59<>\"\",事業変更申請書!Z59,\"\")","v":""},null,null,null,null,{"$f":"IF(AND(C58=\"\",F58=\"\",O58=\"\",V58=\"\",X58=\"\",Z58=\"\",O59=\"\",V59=\"\",X59=\"\",Z59=\"\"),0,1)","v":0}]
[null,null,{"$f":"IF(事業変更申請書!C60<>\"\",事業変更申請書!C60,\"\")","v":""},null,null,{"$f":"IF(事業変更申請書!F60<>\"\",事業変更申請書!F60,\"\")","v":""},null,null,null,"変更前",null,{"$f":"IF(事業変更申請書!L60<>\"\",事業変更申請書!L60,\"\")","v":0},null,null,{"$f":"IF(事業変更申請書!O60<>\"\",事業変更申請書!O60,\"\")","v":""},null,null,null,null,null,null,{"$f":"IF(事業変更申請書!V60<>\"\",事業変更申請書!V60,\"\")","v":""},null,{"$f":"IF(事業変更申請書!X60<>\"\",事業変更申請書!X60,\"\")","v":""},null,{"$f":"IF(事業変更申請書!Z60<>\"\",事業変更申請書!Z60,\"\")","v":""},null,null,null,null,{"$f":"IF(AND(C60=\"\",F60=\"\",O60=\"\",V60=\"\",X60=\"\",Z60=\"\",O61=\"\",V61=\"\",X61=\"\",Z61=\"\"),0,1)","v":0}]
[null,null,null,null,null,null,null,null,null,"変更後",null,{"$f":"IF(事業変更申請書!L61<>\"\",事業変更申請書!L61,\"\")","v":0},null,null,{"$f":"IF(事業変更申請書!O61<>\"\",事業変更申請書!O61,\"\")","v":""},null,null,null,null,null,null,{"$f":"IF(事業変更申請書!V61<>\"\",事業変更申請書!V61,\"\")","v":""},null,{"$f":"IF(事業変更申請書!X61<>\"\",事業変更申請書!X61,\"\")","v":""},null,{"$f":"IF(事業変更申請書!Z61<>\"\",事業変更申請書!Z61,\"\")","v":""},null,null,null,null,{"$f":"IF(AND(C60=\"\",F60=\"\",O60=\"\",V60=\"\",X60=\"\",Z60=\"\",O61=\"\",V61=\"\",X61=\"\",Z61=\"\"),0,1)","v":0}]
[null,null,{"$f":"IF(事業変更申請書!C62<>\"\",事業変更申請書!C62,\"\")","v":""},null,null,{"$f":"IF(事業変更申請書!F62<>\"\",事業変更申請書!F62,\"\")","v":""},null,null,null,"変更前",null,{"$f":"IF(事業変更申請書!L62<>\"\",事業変更申請書!L62,\"\")","v":0},null,null,{"$f":"IF(事業変更申請書!O62<>\"\",事業変更申請書!O62,\"\")","v":""},null,null,null,null,null,null,{"$f":"IF(事業変更申請書!V62<>\"\",事業変更申請書!V62,\"\")","v":""},null,{"$f":"IF(事業変更申請書!X62<>\"\",事業変更申請書!X62,\"\")","v":""},null,{"$f":"IF(事業変更申請書!Z62<>\"\",事業変更申請書!Z62,\"\")","v":""},null,null,null,null,{"$f":"IF(AND(C62=\"\",F62=\"\",O62=\"\",V62=\"\",X62=\"\",Z62=\"\",O63=\"\",V63=\"\",X63=\"\",Z63=\"\"),0,1)","v":0}]
[null,null,null,null,null,null,null,null,null,"変更後",null,{"$f":"IF(事業変更申請書!L63<>\"\",事業変更申請書!L63,\"\")","v":0},null,null,{"$f":"IF(事業変更申請書!O63<>\"\",事業変更申請書!O63,\"\")","v":""},null,null,null,null,null,null,{"$f":"IF(事業変更申請書!V63<>\"\",事業変更申請書!V63,\"\")","v":""},null,{"$f":"IF(事業変更申請書!X63<>\"\",事業変更申請書!X63,\"\")","v":""},null,{"$f":"IF(事業変更申請書!Z63<>\"\",事業変更申請書!Z63,\"\")","v":""},null,null,null,null,{"$f":"IF(AND(C62=\"\",F62=\"\",O62=\"\",V62=\"\",X62=\"\",Z62=\"\",O63=\"\",V63=\"\",X63=\"\",Z63=\"\"),0,1)","v":0}]
[null,null,{"$f":"IF(事業変更申請書!C64<>\"\",事業変更申請書!C64,\"\")","v":""},null,null,{"$f":"IF(事業変更申請書!F64<>\"\",事業変更申請書!F64,\"\")","v":""},null,null,null,"変更前",null,{"$f":"IF(事業変更申請書!L64<>\"\",事業変更申請書!L64,\"\")","v":0},null,null,{"$f":"IF(事業変更申請書!O64<>\"\",事業変更申請書!O64,\"\")","v":""},null,null,null,null,null,null,{"$f":"IF(事業変更申請書!V64<>\"\",事業変更申請書!V64,\"\")","v":""},null,{"$f":"IF(事業変更申請書!X64<>\"\",事業変更申請書!X64,\"\")","v":""},null,{"$f":"IF(事業変更申請書!Z64<>\"\",事業変更申請書!Z64,\"\")","v":""},null,null,null,null,{"$f":"IF(AND(C64=\"\",F64=\"\",O64=\"\",V64=\"\",X64=\"\",Z64=\"\",O65=\"\",V65=\"\",X65=\"\",Z65=\"\"),0,1)","v":0}]
[null,null,null,null,null,null,null,null,null,"変更後",null,{"$f":"IF(事業変更申請書!L65<>\"\",事業変更申請書!L65,\"\")","v":0},null,null,{"$f":"IF(事業変更申請書!O65<>\"\",事業変更申請書!O65,\"\")","v":""},null,null,null,null,null,null,{"$f":"IF(事業変更申請書!V65<>\"\",事業変更申請書!V65,\"\")","v":""},null,{"$f":"IF(事業変更申請書!X65<>\"\",事業変更申請書!X65,\"\")","v":""},null,{"$f":"IF(事業変更申請書!Z65<>\"\",事業変更申請書!Z65,\"\")","v":""},null,null,null,null,{"$f":"IF(AND(C64=\"\",F64=\"\",O64=\"\",V64=\"\",X64=\"\",Z64=\"\",O65=\"\",V65=\"\",X65=\"\",Z65=\"\"),0,1)","v":0}]
[null,null,{"$f":"IF(事業変更申請書!C66<>\"\",事業変更申請書!C66,\"\")","v":""},null,null,{"$f":"IF(事業変更申請書!F66<>\"\",事業変更申請書!F66,\"\")","v":""},null,null,null,"変更前",null,{"$f":"IF(事業変更申請書!L66<>\"\",事業変更申請書!L66,\"\")","v":0},null,null,{"$f":"IF(事業変更申請書!O66<>\"\",事業変更申請書!O66,\"\")","v":""},null,null,null,null,null,null,{"$f":"IF(事業変更申請書!V66<>\"\",事業変更申請書!V66,\"\")","v":""},null,{"$f":"IF(事業変更申請書!X66<>\"\",事業変更申請書!X66,\"\")","v":""},null,{"$f":"IF(事業変更申請書!Z66<>\"\",事業変更申請書!Z66,\"\")","v":""},null,null,null,null,{"$f":"IF(AND(C66=\"\",F66=\"\",O66=\"\",V66=\"\",X66=\"\",Z66=\"\",O67=\"\",V67=\"\",X67=\"\",Z67=\"\"),0,1)","v":0}]
[null,null,null,null,null,null,null,null,null,"変更後",null,{"$f":"IF(事業変更申請書!L67<>\"\",事業変更申請書!L67,\"\")","v":0},null,null,{"$f":"IF(事業変更申請書!O67<>\"\",事業変更申請書!O67,\"\")","v":""},null,null,null,null,null,null,{"$f":"IF(事業変更申請書!V67<>\"\",事業変更申請書!V67,\"\")","v":""},null,{"$f":"IF(事業変更申請書!X67<>\"\",事業変更申請書!X67,\"\")","v":""},null,{"$f":"IF(事業変更申請書!Z67<>\"\",事業変更申請書!Z67,\"\")","v":""},null,null,null,null,{"$f":"IF(AND(C66=\"\",F66=\"\",O66=\"\",V66=\"\",X66=\"\",Z66=\"\",O67=\"\",V67=\"\",X67=\"\",Z67=\"\"),0,1)","v":0}]
[null,null,{"$f":"IF(事業変更申請書!C68<>\"\",事業変更申請書!C68,\"\")","v":""},null,null,{"$f":"IF(事業変更申請書!F68<>\"\",事業変更申請書!F68,\"\")","v":""},null,null,null,"変更前",null,{"$f":"IF(事業変更申請書!L68<>\"\",事業変更申請書!L68,\"\")","v":0},null,null,{"$f":"IF(事業変更申請書!O68<>\"\",事業変更申請書!O68,\"\")","v":""},null,null,null,null,null,null,{"$f":"IF(事業変更申請書!V68<>\"\",事業変更申請書!V68,\"\")","v":""},null,{"$f":"IF(事業変更申請書!X68<>\"\",事業変更申請書!X68,\"\")","v":""},null,{"$f":"IF(事業変更申請書!Z68<>\"\",事業変更申請書!Z68,\"\")","v":""},null,null,null,null,{"$f":"IF(AND(C68=\"\",F68=\"\",O68=\"\",V68=\"\",X68=\"\",Z68=\"\",O69=\"\",V69=\"\",X69=\"\",Z69=\"\"),0,1)","v":0}]
[null,null,null,null,null,null,null,null,null,"変更後",null,{"$f":"IF(事業変更申請書!L69<>\"\",事業変更申請書!L69,\"\")","v":0},null,null,{"$f":"IF(事業変更申請書!O69<>\"\",事業変更申請書!O69,\"\")","v":""},null,null,null,null,null,null,{"$f":"IF(事業変更申請書!V69<>\"\",事業変更申請書!V69,\"\")","v":""},null,{"$f":"IF(事業変更申請書!X69<>\"\",事業変更申請書!X69,\"\")","v":""},null,{"$f":"IF(事業変更申請書!Z69<>\"\",事業変更申請書!Z69,\"\")","v":""},null,null,null,null,{"$f":"IF(AND(C68=\"\",F68=\"\",O68=\"\",V68=\"\",X68=\"\",Z68=\"\",O69=\"\",V69=\"\",X69=\"\",Z69=\"\"),0,1)","v":0}]
[null,null,{"$f":"IF(事業変更申請書!C70<>\"\",事業変更申請書!C70,\"\")","v":""},null,null,{"$f":"IF(事業変更申請書!F70<>\"\",事業変更申請書!F70,\"\")","v":""},null,null,null,"変更前",null,{"$f":"IF(事業変更申請書!L70<>\"\",事業変更申請書!L70,\"\")","v":0},null,null,{"$f":"IF(事業変更申請書!O70<>\"\",事業変更申請書!O70,\"\")","v":""},null,null,null,null,null,null,{"$f":"IF(事業変更申請書!V70<>\"\",事業変更申請書!V70,\"\")","v":""},null,{"$f":"IF(事業変更申請書!X70<>\"\",事業変更申請書!X70,\"\")","v":""},null,{"$f":"IF(事業変更申請書!Z70<>\"\",事業変更申請書!Z70,\"\")","v":""},null,null,null,null,{"$f":"IF(AND(C70=\"\",F70=\"\",O70=\"\",V70=\"\",X70=\"\",Z70=\"\",O71=\"\",V71=\"\",X71=\"\",Z71=\"\"),0,1)","v":0}]
[null,null,null,null,null,null,null,null,null,"変更後",null,{"$f":"IF(事業変更申請書!L71<>\"\",事業変更申請書!L71,\"\")","v":0},null,null,{"$f":"IF(事業変更申請書!O71<>\"\",事業変更申請書!O71,\"\")","v":""},null,null,null,null,null,null,{"$f":"IF(事業変更申請書!V71<>\"\",事業変更申請書!V71,\"\")","v":""},null,{"$f":"IF(事業変更申請書!X71<>\"\",事業変更申請書!X71,\"\")","v":""},null,{"$f":"IF(事業変更申請書!Z71<>\"\",事業変更申請書!Z71,\"\")","v":""},null,null,null,null,{"$f":"IF(AND(C70=\"\",F70=\"\",O70=\"\",V70=\"\",X70=\"\",Z70=\"\",O71=\"\",V71=\"\",X71=\"\",Z71=\"\"),0,1)","v":0}]
[null,null,{"$f":"IF(事業変更申請書!C72<>\"\",事業変更申請書!C72,\"\")","v":""},null,null,{"$f":"IF(事業変更申請書!F72<>\"\",事業変更申請書!F72,\"\")","v":""},null,null,null,"変更前",null,{"$f":"IF(事業変更申請書!L72<>\"\",事業変更申請書!L72,\"\")","v":0},null,null,{"$f":"IF(事業変更申請書!O72<>\"\",事業変更申請書!O72,\"\")","v":""},null,null,null,null,null,null,{"$f":"IF(事業変更申請書!V72<>\"\",事業変更申請書!V72,\"\")","v":""},null,{"$f":"IF(事業変更申請書!X72<>\"\",事業変更申請書!X72,\"\")","v":""},null,{"$f":"IF(事業変更申請書!Z72<>\"\",事業変更申請書!Z72,\"\")","v":""},null,null,null,null,{"$f":"IF(AND(C72=\"\",F72=\"\",O72=\"\",V72=\"\",X72=\"\",Z72=\"\",O73=\"\",V73=\"\",X73=\"\",Z73=\"\"),0,1)","v":0}]
[null,null,null,null,null,null,null,null,null,"変更後",null,{"$f":"IF(事業変更申請書!L73<>\"\",事業変更申請書!L73,\"\")","v":0},null,null,{"$f":"IF(事業変更申請書!O73<>\"\",事業変更申請書!O73,\"\")","v":""},null,null,null,null,null,null,{"$f":"IF(事業変更申請書!V73<>\"\",事業変更申請書!V73,\"\")","v":""},null,{"$f":"IF(事業変更申請書!X73<>\"\",事業変更申請書!X73,\"\")","v":""},null,{"$f":"IF(事業変更申請書!Z73<>\"\",事業変更申請書!Z73,\"\")","v":""},null,null,null,null,{"$f":"IF(AND(C72=\"\",F72=\"\",O72=\"\",V72=\"\",X72=\"\",Z72=\"\",O73=\"\",V73=\"\",X73=\"\",Z73=\"\"),0,1)","v":0}]
[null,null,{"$f":"IF(事業変更申請書!C74<>\"\",事業変更申請書!C74,\"\")","v":""},null,null,{"$f":"IF(事業変更申請書!F74<>\"\",事業変更申請書!F74,\"\")","v":""},null,null,null,"変更前",null,{"$f":"IF(事業変更申請書!L74<>\"\",事業変更申請書!L74,\"\")","v":0},null,null,{"$f":"IF(事業変更申請書!O74<>\"\",事業変更申請書!O74,\"\")","v":""},null,null,null,null,null,null,{"$f":"IF(事業変更申請書!V74<>\"\",事業変更申請書!V74,\"\")","v":""},null,{"$f":"IF(事業変更申請書!X74<>\"\",事業変更申請書!X74,\"\")","v":""},null,{"$f":"IF(事業変更申請書!Z74<>\"\",事業変更申請書!Z74,\"\")","v":""},null,null,null,null,{"$f":"IF(AND(C74=\"\",F74=\"\",O74=\"\",V74=\"\",X74=\"\",Z74=\"\",O75=\"\",V75=\"\",X75=\"\",Z75=\"\"),0,1)","v":0}]
[null,null,null,null,null,null,null,null,null,"変更後",null,{"$f":"IF(事業変更申請書!L75<>\"\",事業変更申請書!L75,\"\")","v":0},null,null,{"$f":"IF(事業変更申請書!O75<>\"\",事業変更申請書!O75,\"\")","v":""},null,null,null,null,null,null,{"$f":"IF(事業変更申請書!V75<>\"\",事業変更申請書!V75,\"\")","v":""},null,{"$f":"IF(事業変更申請書!X75<>\"\",事業変更申請書!X75,\"\")","v":""},null,{"$f":"IF(事業変更申請書!Z75<>\"\",事業変更申請書!Z75,\"\")","v":""},null,null,null,null,{"$f":"IF(AND(C74=\"\",F74=\"\",O74=\"\",V74=\"\",X74=\"\",Z74=\"\",O75=\"\",V75=\"\",X75=\"\",Z75=\"\"),0,1)","v":0}]
[null,null,{"$f":"IF(事業変更申請書!C76<>\"\",事業変更申請書!C76,\"\")","v":""},null,null,{"$f":"IF(事業変更申請書!F76<>\"\",事業変更申請書!F76,\"\")","v":""},null,null,null,"変更前",null,{"$f":"IF(事業変更申請書!L76<>\"\",事業変更申請書!L76,\"\")","v":0},null,null,{"$f":"IF(事業変更申請書!O76<>\"\",事業変更申請書!O76,\"\")","v":""},null,null,null,null,null,null,{"$f":"IF(事業変更申請書!V76<>\"\",事業変更申請書!V76,\"\")","v":""},null,{"$f":"IF(事業変更申請書!X76<>\"\",事業変更申請書!X76,\"\")","v":""},null,{"$f":"IF(事業変更申請書!Z76<>\"\",事業変更申請書!Z76,\"\")","v":""},null,null,null,null,{"$f":"IF(AND(C76=\"\",F76=\"\",O76=\"\",V76=\"\",X76=\"\",Z76=\"\",O77=\"\",V77=\"\",X77=\"\",Z77=\"\"),0,1)","v":0}]
[null,null,null,null,null,null,null,null,null,"変更後",null,{"$f":"IF(事業変更申請書!L77<>\"\",事業変更申請書!L77,\"\")","v":0},null,null,{"$f":"IF(事業変更申請書!O77<>\"\",事業変更申請書!O77,\"\")","v":""},null,null,null,null,null,null,{"$f":"IF(事業変更申請書!V77<>\"\",事業変更申請書!V77,\"\")","v":""},null,{"$f":"IF(事業変更申請書!X77<>\"\",事業変更申請書!X77,\"\")","v":""},null,{"$f":"IF(事業変更申請書!Z77<>\"\",事業変更申請書!Z77,\"\")","v":""},null,null,null,null,{"$f":"IF(AND(C76=\"\",F76=\"\",O76=\"\",V76=\"\",X76=\"\",Z76=\"\",O77=\"\",V77=\"\",X77=\"\",Z77=\"\"),0,1)","v":0}]
[null,null,{"$f":"IF(事業変更申請書!C78<>\"\",事業変更申請書!C78,\"\")","v":""},null,null,{"$f":"IF(事業変更申請書!F78<>\"\",事業変更申請書!F78,\"\")","v":""},null,null,null,"変更前",null,{"$f":"IF(事業変更申請書!L78<>\"\",事業変更申請書!L78,\"\")","v":0},null,null,{"$f":"IF(事業変更申請書!O78<>\"\",事業変更申請書!O78,\"\")","v":""},null,null,null,null,null,null,{"$f":"IF(事業変更申請書!V78<>\"\",事業変更申請書!V78,\"\")","v":""},null,{"$f":"IF(事業変更申請書!X78<>\"\",事業変更申請書!X78,\"\")","v":""},null,{"$f":"IF(事業変更申請書!Z78<>\"\",事業変更申請書!Z78,\"\")","v":""},null,null,null,null,{"$f":"IF(AND(C78=\"\",F78=\"\",O78=\"\",V78=\"\",X78=\"\",Z78=\"\",O79=\"\",V79=\"\",X79=\"\",Z79=\"\"),0,1)","v":0}]
[null,null,null,null,null,null,null,null,null,"変更後",null,{"$f":"IF(事業変更申請書!L79<>\"\",事業変更申請書!L79,\"\")","v":0},null,null,{"$f":"IF(事業変更申請書!O79<>\"\",事業変更申請書!O79,\"\")","v":""},null,null,null,null,null,null,{"$f":"IF(事業変更申請書!V79<>\"\",事業変更申請書!V79,\"\")","v":""},null,{"$f":"IF(事業変更申請書!X79<>\"\",事業変更申請書!X79,\"\")","v":""},null,{"$f":"IF(事業変更申請書!Z79<>\"\",事業変更申請書!Z79,\"\")","v":""},null,null,null,null,{"$f":"IF(AND(C78=\"\",F78=\"\",O78=\"\",V78=\"\",X78=\"\",Z78=\"\",O79=\"\",V79=\"\",X79=\"\",Z79=\"\"),0,1)","v":0}]
[null,null,{"$f":"IF(事業変更申請書!C80<>\"\",事業変更申請書!C80,\"\")","v":""},null,null,{"$f":"IF(事業変更申請書!F80<>\"\",事業変更申請書!F80,\"\")","v":""},null,null,null,"変更前",null,{"$f":"IF(事業変更申請書!L80<>\"\",事業変更申請書!L80,\"\")","v":0},null,null,{"$f":"IF(事業変更申請書!O80<>\"\",事業変更申請書!O80,\"\")","v":""},null,null,null,null,null,null,{"$f":"IF(事業変更申請書!V80<>\"\",事業変更申請書!V80,\"\")","v":""},null,{"$f":"IF(事業変更申請書!X80<>\"\",事業変更申請書!X80,\"\")","v":""},null,{"$f":"IF(事業変更申請書!Z80<>\"\",事業変更申請書!Z80,\"\")","v":""},null,null,null,null,{"$f":"IF(AND(C80=\"\",F80=\"\",O80=\"\",V80=\"\",X80=\"\",Z80=\"\",O81=\"\",V81=\"\",X81=\"\",Z81=\"\"),0,1)","v":0}]
[null,null,null,null,null,null,null,null,null,"変更後",null,{"$f":"IF(事業変更申請書!L81<>\"\",事業変更申請書!L81,\"\")","v":0},null,null,{"$f":"IF(事業変更申請書!O81<>\"\",事業変更申請書!O81,\"\")","v":""},null,null,null,null,null,null,{"$f":"IF(事業変更申請書!V81<>\"\",事業変更申請書!V81,\"\")","v":""},null,{"$f":"IF(事業変更申請書!X81<>\"\",事業変更申請書!X81,\"\")","v":""},null,{"$f":"IF(事業変更申請書!Z81<>\"\",事業変更申請書!Z81,\"\")","v":""},null,null,null,null,{"$f":"IF(AND(C80=\"\",F80=\"\",O80=\"\",V80=\"\",X80=\"\",Z80=\"\",O81=\"\",V81=\"\",X81=\"\",Z81=\"\"),0,1)","v":0}]
[null,null,{"$f":"IF(事業変更申請書!C82<>\"\",事業変更申請書!C82,\"\")","v":""},null,null,{"$f":"IF(事業変更申請書!F82<>\"\",事業変更申請書!F82,\"\")","v":""},null,null,null,"変更前",null,{"$f":"IF(事業変更申請書!L82<>\"\",事業変更申請書!L82,\"\")","v":0},null,null,{"$f":"IF(事業変更申請書!O82<>\"\",事業変更申請書!O82,\"\")","v":""},null,null,null,null,null,null,{"$f":"IF(事業変更申請書!V82<>\"\",事業変更申請書!V82,\"\")","v":""},null,{"$f":"IF(事業変更申請書!X82<>\"\",事業変更申請書!X82,\"\")","v":""},null,{"$f":"IF(事業変更申請書!Z82<>\"\",事業変更申請書!Z82,\"\")","v":""},null,null,null,null,{"$f":"IF(AND(C82=\"\",F82=\"\",O82=\"\",V82=\"\",X82=\"\",Z82=\"\",O83=\"\",V83=\"\",X83=\"\",Z83=\"\"),0,1)","v":0}]
[null,null,null,null,null,null,null,null,null,"変更後",null,{"$f":"IF(事業変更申請書!L83<>\"\",事業変更申請書!L83,\"\")","v":0},null,null,{"$f":"IF(事業変更申請書!O83<>\"\",事業変更申請書!O83,\"\")","v":""},null,null,null,null,null,null,{"$f":"IF(事業変更申請書!V83<>\"\",事業変更申請書!V83,\"\")","v":""},null,{"$f":"IF(事業変更申請書!X83<>\"\",事業変更申請書!X83,\"\")","v":""},null,{"$f":"IF(事業変更申請書!Z83<>\"\",事業変更申請書!Z83,\"\")","v":""},null,null,null,null,{"$f":"IF(AND(C82=\"\",F82=\"\",O82=\"\",V82=\"\",X82=\"\",Z82=\"\",O83=\"\",V83=\"\",X83=\"\",Z83=\"\"),0,1)","v":0}]
[null,null,{"$f":"IF(事業変更申請書!C84<>\"\",事業変更申請書!C84,\"\")","v":""},null,null,{"$f":"IF(事業変更申請書!F84<>\"\",事業変更申請書!F84,\"\")","v":""},null,null,null,"変更前",null,{"$f":"IF(事業変更申請書!L84<>\"\",事業変更申請書!L84,\"\")","v":0},null,null,{"$f":"IF(事業変更申請書!O84<>\"\",事業変更申請書!O84,\"\")","v":""},null,null,null,null,null,null,{"$f":"IF(事業変更申請書!V84<>\"\",事業変更申請書!V84,\"\")","v":""},null,{"$f":"IF(事業変更申請書!X84<>\"\",事業変更申請書!X84,\"\")","v":""},null,{"$f":"IF(事業変更申請書!Z84<>\"\",事業変更申請書!Z84,\"\")","v":""},null,null,null,null,{"$f":"IF(AND(C84=\"\",F84=\"\",O84=\"\",V84=\"\",X84=\"\",Z84=\"\",O85=\"\",V85=\"\",X85=\"\",Z85=\"\"),0,1)","v":0}]
[null,null,null,null,null,null,null,null,null,"変更後",null,{"$f":"IF(事業変更申請書!L85<>\"\",事業変更申請書!L85,\"\")","v":0},null,null,{"$f":"IF(事業変更申請書!O85<>\"\",事業変更申請書!O85,\"\")","v":""},null,null,null,null,null,null,{"$f":"IF(事業変更申請書!V85<>\"\",事業変更申請書!V85,\"\")","v":""},null,{"$f":"IF(事業変更申請書!X85<>\"\",事業変更申請書!X85,\"\")","v":""},null,{"$f":"IF(事業変更申請書!Z85<>\"\",事業変更申請書!Z85,\"\")","v":""},null,null,null,null,{"$f":"IF(AND(C84=\"\",F84=\"\",O84=\"\",V84=\"\",X84=\"\",Z84=\"\",O85=\"\",V85=\"\",X85=\"\",Z85=\"\"),0,1)","v":0}]
[null,null,{"$f":"IF(事業変更申請書!C86<>\"\",事業変更申請書!C86,\"\")","v":""},null,null,{"$f":"IF(事業変更申請書!F86<>\"\",事業変更申請書!F86,\"\")","v":""},null,null,null,"変更前",null,{"$f":"IF(事業変更申請書!L86<>\"\",事業変更申請書!L86,\"\")","v":0},null,null,{"$f":"IF(事業変更申請書!O86<>\"\",事業変更申請書!O86,\"\")","v":""},null,null,null,null,null,null,{"$f":"IF(事業変更申請書!V86<>\"\",事業変更申請書!V86,\"\")","v":""},null,{"$f":"IF(事業変更申請書!X86<>\"\",事業変更申請書!X86,\"\")","v":""},null,{"$f":"IF(事業変更申請書!Z86<>\"\",事業変更申請書!Z86,\"\")","v":""},null,null,null,null,{"$f":"IF(AND(C86=\"\",F86=\"\",O86=\"\",V86=\"\",X86=\"\",Z86=\"\",O87=\"\",V87=\"\",X87=\"\",Z87=\"\"),0,1)","v":0}]
[null,null,null,null,null,null,null,null,null,"変更後",null,{"$f":"IF(事業変更申請書!L87<>\"\",事業変更申請書!L87,\"\")","v":0},null,null,{"$f":"IF(事業変更申請書!O87<>\"\",事業変更申請書!O87,\"\")","v":""},null,null,null,null,null,null,{"$f":"IF(事業変更申請書!V87<>\"\",事業変更申請書!V87,\"\")","v":""},null,{"$f":"IF(事業変更申請書!X87<>\"\",事業変更申請書!X87,\"\")","v":""},null,{"$f":"IF(事業変更申請書!Z87<>\"\",事業変更申請書!Z87,\"\")","v":""},null,null,null,null,{"$f":"IF(AND(C86=\"\",F86=\"\",O86=\"\",V86=\"\",X86=\"\",Z86=\"\",O87=\"\",V87=\"\",X87=\"\",Z87=\"\"),0,1)","v":0}]
[null,null,{"$f":"IF(事業変更申請書!C88<>\"\",事業変更申請書!C88,\"\")","v":""},null,null,{"$f":"IF(事業変更申請書!F88<>\"\",事業変更申請書!F88,\"\")","v":""},null,null,null,"変更前",null,{"$f":"IF(事業変更申請書!L88<>\"\",事業変更申請書!L88,\"\")","v":0},null,null,{"$f":"IF(事業変更申請書!O88<>\"\",事業変更申請書!O88,\"\")","v":""},null,null,null,null,null,null,{"$f":"IF(事業変更申請書!V88<>\"\",事業変更申請書!V88,\"\")","v":""},null,{"$f":"IF(事業変更申請書!X88<>\"\",事業変更申請書!X88,\"\")","v":""},null,{"$f":"IF(事業変更申請書!Z88<>\"\",事業変更申請書!Z88,\"\")","v":""},null,null,null,null,{"$f":"IF(AND(C88=\"\",F88=\"\",O88=\"\",V88=\"\",X88=\"\",Z88=\"\",O89=\"\",V89=\"\",X89=\"\",Z89=\"\"),0,1)","v":0}]
[null,null,null,null,null,null,null,null,null,"変更後",null,{"$f":"IF(事業変更申請書!L89<>\"\",事業変更申請書!L89,\"\")","v":0},null,null,{"$f":"IF(事業変更申請書!O89<>\"\",事業変更申請書!O89,\"\")","v":""},null,null,null,null,null,null,{"$f":"IF(事業変更申請書!V89<>\"\",事業変更申請書!V89,\"\")","v":""},null,{"$f":"IF(事業変更申請書!X89<>\"\",事業変更申請書!X89,\"\")","v":""},null,{"$f":"IF(事業変更申請書!Z89<>\"\",事業変更申請書!Z89,\"\")","v":""},null,null,null,null,{"$f":"IF(AND(C88=\"\",F88=\"\",O88=\"\",V88=\"\",X88=\"\",Z88=\"\",O89=\"\",V89=\"\",X89=\"\",Z89=\"\"),0,1)","v":0}]
[null,null,{"$f":"IF(事業変更申請書!C90<>\"\",事業変更申請書!C90,\"\")","v":""},null,null,{"$f":"IF(事業変更申請書!F90<>\"\",事業変更申請書!F90,\"\")","v":""},null,null,null,"変更前",null,{"$f":"IF(事業変更申請書!L90<>\"\",事業変更申請書!L90,\"\")","v":0},null,null,{"$f":"IF(事業変更申請書!O90<>\"\",事業変更申請書!O90,\"\")","v":""},null,null,null,null,null,null,{"$f":"IF(事業変更申請書!V90<>\"\",事業変更申請書!V90,\"\")","v":""},null,{"$f":"IF(事業変更申請書!X90<>\"\",事業変更申請書!X90,\"\")","v":""},null,{"$f":"IF(事業変更申請書!Z90<>\"\",事業変更申請書!Z90,\"\")","v":""},null,null,null,null,{"$f":"IF(AND(C90=\"\",F90=\"\",O90=\"\",V90=\"\",X90=\"\",Z90=\"\",O91=\"\",V91=\"\",X91=\"\",Z91=\"\"),0,1)","v":0}]
[null,null,null,null,null,null,null,null,null,"変更後",null,{"$f":"IF(事業変更申請書!L91<>\"\",事業変更申請書!L91,\"\")","v":0},null,null,{"$f":"IF(事業変更申請書!O91<>\"\",事業変更申請書!O91,\"\")","v":""},null,null,null,null,null,null,{"$f":"IF(事業変更申請書!V91<>\"\",事業変更申請書!V91,\"\")","v":""},null,{"$f":"IF(事業変更申請書!X91<>\"\",事業変更申請書!X91,\"\")","v":""},null,{"$f":"IF(事業変更申請書!Z91<>\"\",事業変更申請書!Z91,\"\")","v":""},null,null,null,null,{"$f":"IF(AND(C90=\"\",F90=\"\",O90=\"\",V90=\"\",X90=\"\",Z90=\"\",O91=\"\",V91=\"\",X91=\"\",Z91=\"\"),0,1)","v":0}]
[null,null,{"$f":"IF(事業変更申請書!C92<>\"\",事業変更申請書!C92,\"\")","v":""},null,null,{"$f":"IF(事業変更申請書!F92<>\"\",事業変更申請書!F92,\"\")","v":""},null,null,null,"変更前",null,{"$f":"IF(事業変更申請書!L92<>\"\",事業変更申請書!L92,\"\")","v":0},null,null,{"$f":"IF(事業変更申請書!O92<>\"\",事業変更申請書!O92,\"\")","v":""},null,null,null,null,null,null,{"$f":"IF(事業変更申請書!V92<>\"\",事業変更申請書!V92,\"\")","v":""},null,{"$f":"IF(事業変更申請書!X92<>\"\",事業変更申請書!X92,\"\")","v":""},null,{"$f":"IF(事業変更申請書!Z92<>\"\",事業変更申請書!Z92,\"\")","v":""},null,null,null,null,{"$f":"IF(AND(C92=\"\",F92=\"\",O92=\"\",V92=\"\",X92=\"\",Z92=\"\",O93=\"\",V93=\"\",X93=\"\",Z93=\"\"),0,1)","v":0}]
[null,null,null,null,null,null,null,null,null,"変更後",null,{"$f":"IF(事業変更申請書!L93<>\"\",事業変更申請書!L93,\"\")","v":0},null,null,{"$f":"IF(事業変更申請書!O93<>\"\",事業変更申請書!O93,\"\")","v":""},null,null,null,null,null,null,{"$f":"IF(事業変更申請書!V93<>\"\",事業変更申請書!V93,\"\")","v":""},null,{"$f":"IF(事業変更申請書!X93<>\"\",事業変更申請書!X93,\"\")","v":""},null,{"$f":"IF(事業変更申請書!Z93<>\"\",事業変更申請書!Z93,\"\")","v":""},null,null,null,null,{"$f":"IF(AND(C92=\"\",F92=\"\",O92=\"\",V92=\"\",X92=\"\",Z92=\"\",O93=\"\",V93=\"\",X93=\"\",Z93=\"\"),0,1)","v":0}]
[null,null,{"$f":"IF(事業変更申請書!C94<>\"\",事業変更申請書!C94,\"\")","v":""},null,null,{"$f":"IF(事業変更申請書!F94<>\"\",事業変更申請書!F94,\"\")","v":""},null,null,null,"変更前",null,{"$f":"IF(事業変更申請書!L94<>\"\",事業変更申請書!L94,\"\")","v":0},null,null,{"$f":"IF(事業変更申請書!O94<>\"\",事業変更申請書!O94,\"\")","v":""},null,null,null,null,null,null,{"$f":"IF(事業変更申請書!V94<>\"\",事業変更申請書!V94,\"\")","v":""},null,{"$f":"IF(事業変更申請書!X94<>\"\",事業変更申請書!X94,\"\")","v":""},null,{"$f":"IF(事業変更申請書!Z94<>\"\",事業変更申請書!Z94,\"\")","v":""},null,null,null,null,{"$f":"IF(AND(C94=\"\",F94=\"\",O94=\"\",V94=\"\",X94=\"\",Z94=\"\",O95=\"\",V95=\"\",X95=\"\",Z95=\"\"),0,1)","v":0}]
[null,null,null,null,null,null,null,null,null,"変更後",null,{"$f":"IF(事業変更申請書!L95<>\"\",事業変更申請書!L95,\"\")","v":0},null,null,{"$f":"IF(事業変更申請書!O95<>\"\",事業変更申請書!O95,\"\")","v":""},null,null,null,null,null,null,{"$f":"IF(事業変更申請書!V95<>\"\",事業変更申請書!V95,\"\")","v":""},null,{"$f":"IF(事業変更申請書!X95<>\"\",事業変更申請書!X95,\"\")","v":""},null,{"$f":"IF(事業変更申請書!Z95<>\"\",事業変更申請書!Z95,\"\")","v":""},null,null,null,null,{"$f":"IF(AND(C94=\"\",F94=\"\",O94=\"\",V94=\"\",X94=\"\",Z94=\"\",O95=\"\",V95=\"\",X95=\"\",Z95=\"\"),0,1)","v":0}]
[null,null,{"$f":"IF(事業変更申請書!C96<>\"\",事業変更申請書!C96,\"\")","v":""},null,null,{"$f":"IF(事業変更申請書!F96<>\"\",事業変更申請書!F96,\"\")","v":""},null,null,null,"変更前",null,{"$f":"IF(事業変更申請書!L96<>\"\",事業変更申請書!L96,\"\")","v":0},null,null,{"$f":"IF(事業変更申請書!O96<>\"\",事業変更申請書!O96,\"\")","v":""},null,null,null,null,null,null,{"$f":"IF(事業変更申請書!V96<>\"\",事業変更申請書!V96,\"\")","v":""},null,{"$f":"IF(事業変更申請書!X96<>\"\",事業変更申請書!X96,\"\")","v":""},null,{"$f":"IF(事業変更申請書!Z96<>\"\",事業変更申請書!Z96,\"\")","v":""},null,null,null,null,{"$f":"IF(AND(C96=\"\",F96=\"\",O96=\"\",V96=\"\",X96=\"\",Z96=\"\",O97=\"\",V97=\"\",X97=\"\",Z97=\"\"),0,1)","v":0}]
[null,null,null,null,null,null,null,null,null,"変更後",null,{"$f":"IF(事業変更申請書!L97<>\"\",事業変更申請書!L97,\"\")","v":0},null,null,{"$f":"IF(事業変更申請書!O97<>\"\",事業変更申請書!O97,\"\")","v":""},null,null,null,null,null,null,{"$f":"IF(事業変更申請書!V97<>\"\",事業変更申請書!V97,\"\")","v":""},null,{"$f":"IF(事業変更申請書!X97<>\"\",事業変更申請書!X97,\"\")","v":""},null,{"$f":"IF(事業変更申請書!Z97<>\"\",事業変更申請書!Z97,\"\")","v":""},null,null,null,null,{"$f":"IF(AND(C96=\"\",F96=\"\",O96=\"\",V96=\"\",X96=\"\",Z96=\"\",O97=\"\",V97=\"\",X97=\"\",Z97=\"\"),0,1)","v":0}]
[null,null,{"$f":"IF(事業変更申請書!C98<>\"\",事業変更申請書!C98,\"\")","v":""},null,null,{"$f":"IF(事業変更申請書!F98<>\"\",事業変更申請書!F98,\"\")","v":""},null,null,null,"変更前",null,{"$f":"IF(事業変更申請書!L98<>\"\",事業変更申請書!L98,\"\")","v":0},null,null,{"$f":"IF(事業変更申請書!O98<>\"\",事業変更申請書!O98,\"\")","v":""},null,null,null,null,null,null,{"$f":"IF(事業変更申請書!V98<>\"\",事業変更申請書!V98,\"\")","v":""},null,{"$f":"IF(事業変更申請書!X98<>\"\",事業変更申請書!X98,\"\")","v":""},null,{"$f":"IF(事業変更申請書!Z98<>\"\",事業変更申請書!Z98,\"\")","v":""},null,null,null,null,{"$f":"IF(AND(C98=\"\",F98=\"\",O98=\"\",V98=\"\",X98=\"\",Z98=\"\",O99=\"\",V99=\"\",X99=\"\",Z99=\"\"),0,1)","v":0}]
[null,null,null,null,null,null,null,null,null,"変更後",null,{"$f":"IF(事業変更申請書!L99<>\"\",事業変更申請書!L99,\"\")","v":0},null,null,{"$f":"IF(事業変更申請書!O99<>\"\",事業変更申請書!O99,\"\")","v":""},null,null,null,null,null,null,{"$f":"IF(事業変更申請書!V99<>\"\",事業変更申請書!V99,\"\")","v":""},null,{"$f":"IF(事業変更申請書!X99<>\"\",事業変更申請書!X99,\"\")","v":""},null,{"$f":"IF(事業変更申請書!Z99<>\"\",事業変更申請書!Z99,\"\")","v":""},null,null,null,null,{"$f":"IF(AND(C98=\"\",F98=\"\",O98=\"\",V98=\"\",X98=\"\",Z98=\"\",O99=\"\",V99=\"\",X99=\"\",Z99=\"\"),0,1)","v":0}]
[null,null,{"$f":"IF(事業変更申請書!C100<>\"\",事業変更申請書!C100,\"\")","v":""},null,null,{"$f":"IF(事業変更申請書!F100<>\"\",事業変更申請書!F100,\"\")","v":""},null,null,null,"変更前",null,{"$f":"IF(事業変更申請書!L100<>\"\",事業変更申請書!L100,\"\")","v":0},null,null,{"$f":"IF(事業変更申請書!O100<>\"\",事業変更申請書!O100,\"\")","v":""},null,null,null,null,null,null,{"$f":"IF(事業変更申請書!V100<>\"\",事業変更申請書!V100,\"\")","v":""},null,{"$f":"IF(事業変更申請書!X100<>\"\",事業変更申請書!X100,\"\")","v":""},null,{"$f":"IF(事業変更申請書!Z100<>\"\",事業変更申請書!Z100,\"\")","v":""},null,null,null,null,{"$f":"IF(AND(C100=\"\",F100=\"\",O100=\"\",V100=\"\",X100=\"\",Z100=\"\",O101=\"\",V101=\"\",X101=\"\",Z101=\"\"),0,1)","v":0}]
[null,null,null,null,null,null,null,null,null,"変更後",null,{"$f":"IF(事業変更申請書!L101<>\"\",事業変更申請書!L101,\"\")","v":0},null,null,{"$f":"IF(事業変更申請書!O101<>\"\",事業変更申請書!O101,\"\")","v":""},null,null,null,null,null,null,{"$f":"IF(事業変更申請書!V101<>\"\",事業変更申請書!V101,\"\")","v":""},null,{"$f":"IF(事業変更申請書!X101<>\"\",事業変更申請書!X101,\"\")","v":""},null,{"$f":"IF(事業変更申請書!Z101<>\"\",事業変更申請書!Z101,\"\")","v":""},null,null,null,null,{"$f":"IF(AND(C100=\"\",F100=\"\",O100=\"\",V100=\"\",X100=\"\",Z100=\"\",O101=\"\",V101=\"\",X101=\"\",Z101=\"\"),0,1)","v":0}]
[null,null,{"$f":"IF(事業変更申請書!C102<>\"\",事業変更申請書!C102,\"\")","v":""},null,null,{"$f":"IF(事業変更申請書!F102<>\"\",事業変更申請書!F102,\"\")","v":""},null,null,null,"変更前",null,{"$f":"IF(事業変更申請書!L102<>\"\",事業変更申請書!L102,\"\")","v":0},null,null,{"$f":"IF(事業変更申請書!O102<>\"\",事業変更申請書!O102,\"\")","v":""},null,null,null,null,null,null,{"$f":"IF(事業変更申請書!V102<>\"\",事業変更申請書!V102,\"\")","v":""},null,{"$f":"IF(事業変更申請書!X102<>\"\",事業変更申請書!X102,\"\")","v":""},null,{"$f":"IF(事業変更申請書!Z102<>\"\",事業変更申請書!Z102,\"\")","v":""},null,null,null,null,{"$f":"IF(AND(C102=\"\",F102=\"\",O102=\"\",V102=\"\",X102=\"\",Z102=\"\",O103=\"\",V103=\"\",X103=\"\",Z103=\"\"),0,1)","v":0}]
[null,null,null,null,null,null,null,null,null,"変更後",null,{"$f":"IF(事業変更申請書!L103<>\"\",事業変更申請書!L103,\"\")","v":0},null,null,{"$f":"IF(事業変更申請書!O103<>\"\",事業変更申請書!O103,\"\")","v":""},null,null,null,null,null,null,{"$f":"IF(事業変更申請書!V103<>\"\",事業変更申請書!V103,\"\")","v":""},null,{"$f":"IF(事業変更申請書!X103<>\"\",事業変更申請書!X103,\"\")","v":""},null,{"$f":"IF(事業変更申請書!Z103<>\"\",事業変更申請書!Z103,\"\")","v":""},null,null,null,null,{"$f":"IF(AND(C102=\"\",F102=\"\",O102=\"\",V102=\"\",X102=\"\",Z102=\"\",O103=\"\",V103=\"\",X103=\"\",Z103=\"\"),0,1)","v":0}]
[null,null,{"$f":"IF(事業変更申請書!C104<>\"\",事業変更申請書!C104,\"\")","v":""},null,null,{"$f":"IF(事業変更申請書!F104<>\"\",事業変更申請書!F104,\"\")","v":""},null,null,null,"変更前",null,{"$f":"IF(事業変更申請書!L104<>\"\",事業変更申請書!L104,\"\")","v":0},null,null,{"$f":"IF(事業変更申請書!O104<>\"\",事業変更申請書!O104,\"\")","v":""},null,null,null,null,null,null,{"$f":"IF(事業変更申請書!V104<>\"\",事業変更申請書!V104,\"\")","v":""},null,{"$f":"IF(事業変更申請書!X104<>\"\",事業変更申請書!X104,\"\")","v":""},null,{"$f":"IF(事業変更申請書!Z104<>\"\",事業変更申請書!Z104,\"\")","v":""},null,null,null,null,{"$f":"IF(AND(C104=\"\",F104=\"\",O104=\"\",V104=\"\",X104=\"\",Z104=\"\",O105=\"\",V105=\"\",X105=\"\",Z105=\"\"),0,1)","v":0}]
[null,null,null,null,null,null,null,null,null,"変更後",null,{"$f":"IF(事業変更申請書!L105<>\"\",事業変更申請書!L105,\"\")","v":0},null,null,{"$f":"IF(事業変更申請書!O105<>\"\",事業変更申請書!O105,\"\")","v":""},null,null,null,null,null,null,{"$f":"IF(事業変更申請書!V105<>\"\",事業変更申請書!V105,\"\")","v":""},null,{"$f":"IF(事業変更申請書!X105<>\"\",事業変更申請書!X105,\"\")","v":""},null,{"$f":"IF(事業変更申請書!Z105<>\"\",事業変更申請書!Z105,\"\")","v":""},null,null,null,null,{"$f":"IF(AND(C104=\"\",F104=\"\",O104=\"\",V104=\"\",X104=\"\",Z104=\"\",O105=\"\",V105=\"\",X105=\"\",Z105=\"\"),0,1)","v":0}]
[null,null,{"$f":"IF(事業変更申請書!C106<>\"\",事業変更申請書!C106,\"\")","v":""},null,null,{"$f":"IF(事業変更申請書!F106<>\"\",事業変更申請書!F106,\"\")","v":""},null,null,null,"変更前",null,{"$f":"IF(事業変更申請書!L106<>\"\",事業変更申請書!L106,\"\")","v":0},null,null,{"$f":"IF(事業変更申請書!O106<>\"\",事業変更申請書!O106,\"\")","v":""},null,null,null,null,null,null,{"$f":"IF(事業変更申請書!V106<>\"\",事業変更申請書!V106,\"\")","v":""},null,{"$f":"IF(事業変更申請書!X106<>\"\",事業変更申請書!X106,\"\")","v":""},null,{"$f":"IF(事業変更申請書!Z106<>\"\",事業変更申請書!Z106,\"\")","v":""},null,null,null,null,{"$f":"IF(AND(C106=\"\",F106=\"\",O106=\"\",V106=\"\",X106=\"\",Z106=\"\",O107=\"\",V107=\"\",X107=\"\",Z107=\"\"),0,1)","v":0}]
[null,null,null,null,null,null,null,null,null,"変更後",null,{"$f":"IF(事業変更申請書!L107<>\"\",事業変更申請書!L107,\"\")","v":0},null,null,{"$f":"IF(事業変更申請書!O107<>\"\",事業変更申請書!O107,\"\")","v":""},null,null,null,null,null,null,{"$f":"IF(事業変更申請書!V107<>\"\",事業変更申請書!V107,\"\")","v":""},null,{"$f":"IF(事業変更申請書!X107<>\"\",事業変更申請書!X107,\"\")","v":""},null,{"$f":"IF(事業変更申請書!Z107<>\"\",事業変更申請書!Z107,\"\")","v":""},null,null,null,null,{"$f":"IF(AND(C106=\"\",F106=\"\",O106=\"\",V106=\"\",X106=\"\",Z106=\"\",O107=\"\",V107=\"\",X107=\"\",Z107=\"\"),0,1)","v":0}]
[null,null,{"$f":"IF(事業変更申請書!C108<>\"\",事業変更申請書!C108,\"\")","v":""},null,null,{"$f":"IF(事業変更申請書!F108<>\"\",事業変更申請書!F108,\"\")","v":""},null,null,null,"変更前",null,{"$f":"IF(事業変更申請書!L108<>\"\",事業変更申請書!L108,\"\")","v":0},null,null,{"$f":"IF(事業変更申請書!O108<>\"\",事業変更申請書!O108,\"\")","v":""},null,null,null,null,null,null,{"$f":"IF(事業変更申請書!V108<>\"\",事業変更申請書!V108,\"\")","v":""},null,{"$f":"IF(事業変更申請書!X108<>\"\",事業変更申請書!X108,\"\")","v":""},null,{"$f":"IF(事業変更申請書!Z108<>\"\",事業変更申請書!Z108,\"\")","v":""},null,null,null,null,{"$f":"IF(AND(C108=\"\",F108=\"\",O108=\"\",V108=\"\",X108=\"\",Z108=\"\",O109=\"\",V109=\"\",X109=\"\",Z109=\"\"),0,1)","v":0}]
[null,null,null,null,null,null,null,null,null,"変更後",null,{"$f":"IF(事業変更申請書!L109<>\"\",事業変更申請書!L109,\"\")","v":0},null,null,{"$f":"IF(事業変更申請書!O109<>\"\",事業変更申請書!O109,\"\")","v":""},null,null,null,null,null,null,{"$f":"IF(事業変更申請書!V109<>\"\",事業変更申請書!V109,\"\")","v":""},null,{"$f":"IF(事業変更申請書!X109<>\"\",事業変更申請書!X109,\"\")","v":""},null,{"$f":"IF(事業変更申請書!Z109<>\"\",事業変更申請書!Z109,\"\")","v":""},null,null,null,null,{"$f":"IF(AND(C108=\"\",F108=\"\",O108=\"\",V108=\"\",X108=\"\",Z108=\"\",O109=\"\",V109=\"\",X109=\"\",Z109=\"\"),0,1)","v":0}]
[null,null,{"$f":"IF(事業変更申請書!C110<>\"\",事業変更申請書!C110,\"\")","v":""},null,null,{"$f":"IF(事業変更申請書!F110<>\"\",事業変更申請書!F110,\"\")","v":""},null,null,null,"変更前",null,{"$f":"IF(事業変更申請書!L110<>\"\",事業変更申請書!L110,\"\")","v":0},null,null,{"$f":"IF(事業変更申請書!O110<>\"\",事業変更申請書!O110,\"\")","v":""},null,null,null,null,null,null,{"$f":"IF(事業変更申請書!V110<>\"\",事業変更申請書!V110,\"\")","v":""},null,{"$f":"IF(事業変更申請書!X110<>\"\",事業変更申請書!X110,\"\")","v":""},null,{"$f":"IF(事業変更申請書!Z110<>\"\",事業変更申請書!Z110,\"\")","v":""},null,null,null,null,{"$f":"IF(AND(C110=\"\",F110=\"\",O110=\"\",V110=\"\",X110=\"\",Z110=\"\",O111=\"\",V111=\"\",X111=\"\",Z111=\"\"),0,1)","v":0}]
[null,null,null,null,null,null,null,null,null,"変更後",null,{"$f":"IF(事業変更申請書!L111<>\"\",事業変更申請書!L111,\"\")","v":0},null,null,{"$f":"IF(事業変更申請書!O111<>\"\",事業変更申請書!O111,\"\")","v":""},null,null,null,null,null,null,{"$f":"IF(事業変更申請書!V111<>\"\",事業変更申請書!V111,\"\")","v":""},null,{"$f":"IF(事業変更申請書!X111<>\"\",事業変更申請書!X111,\"\")","v":""},null,{"$f":"IF(事業変更申請書!Z111<>\"\",事業変更申請書!Z111,\"\")","v":""},null,null,null,null,{"$f":"IF(AND(C110=\"\",F110=\"\",O110=\"\",V110=\"\",X110=\"\",Z110=\"\",O111=\"\",V111=\"\",X111=\"\",Z111=\"\"),0,1)","v":0}]
[null,null,{"$f":"IF(事業変更申請書!C112<>\"\",事業変更申請書!C112,\"\")","v":""},null,null,{"$f":"IF(事業変更申請書!F112<>\"\",事業変更申請書!F112,\"\")","v":""},null,null,null,"変更前",null,{"$f":"IF(事業変更申請書!L112<>\"\",事業変更申請書!L112,\"\")","v":0},null,null,{"$f":"IF(事業変更申請書!O112<>\"\",事業変更申請書!O112,\"\")","v":""},null,null,null,null,null,null,{"$f":"IF(事業変更申請書!V112<>\"\",事業変更申請書!V112,\"\")","v":""},null,{"$f":"IF(事業変更申請書!X112<>\"\",事業変更申請書!X112,\"\")","v":""},null,{"$f":"IF(事業変更申請書!Z112<>\"\",事業変更申請書!Z112,\"\")","v":""},null,null,null,null,{"$f":"IF(AND(C112=\"\",F112=\"\",O112=\"\",V112=\"\",X112=\"\",Z112=\"\",O113=\"\",V113=\"\",X113=\"\",Z113=\"\"),0,1)","v":0}]
[null,null,null,null,null,null,null,null,null,"変更後",null,{"$f":"IF(事業変更申請書!L113<>\"\",事業変更申請書!L113,\"\")","v":0},null,null,{"$f":"IF(事業変更申請書!O113<>\"\",事業変更申請書!O113,\"\")","v":""},null,null,null,null,null,null,{"$f":"IF(事業変更申請書!V113<>\"\",事業変更申請書!V113,\"\")","v":""},null,{"$f":"IF(事業変更申請書!X113<>\"\",事業変更申請書!X113,\"\")","v":""},null,{"$f":"IF(事業変更申請書!Z113<>\"\",事業変更申請書!Z113,\"\")","v":""},null,null,null,null,{"$f":"IF(AND(C112=\"\",F112=\"\",O112=\"\",V112=\"\",X112=\"\",Z112=\"\",O113=\"\",V113=\"\",X113=\"\",Z113=\"\"),0,1)","v":0}]
[null,null,{"$f":"IF(事業変更申請書!C114<>\"\",事業変更申請書!C114,\"\")","v":""},null,null,{"$f":"IF(事業変更申請書!F114<>\"\",事業変更申請書!F114,\"\")","v":""},null,null,null,"変更前",null,{"$f":"IF(事業変更申請書!L114<>\"\",事業変更申請書!L114,\"\")","v":0},null,null,{"$f":"IF(事業変更申請書!O114<>\"\",事業変更申請書!O114,\"\")","v":""},null,null,null,null,null,null,{"$f":"IF(事業変更申請書!V114<>\"\",事業変更申請書!V114,\"\")","v":""},null,{"$f":"IF(事業変更申請書!X114<>\"\",事業変更申請書!X114,\"\")","v":""},null,{"$f":"IF(事業変更申請書!Z114<>\"\",事業変更申請書!Z114,\"\")","v":""},null,null,null,null,{"$f":"IF(AND(C114=\"\",F114=\"\",O114=\"\",V114=\"\",X114=\"\",Z114=\"\",O115=\"\",V115=\"\",X115=\"\",Z115=\"\"),0,1)","v":0}]
[null,null,null,null,null,null,null,null,null,"変更後",null,{"$f":"IF(事業変更申請書!L115<>\"\",事業変更申請書!L115,\"\")","v":0},null,null,{"$f":"IF(事業変更申請書!O115<>\"\",事業変更申請書!O115,\"\")","v":""},null,null,null,null,null,null,{"$f":"IF(事業変更申請書!V115<>\"\",事業変更申請書!V115,\"\")","v":""},null,{"$f":"IF(事業変更申請書!X115<>\"\",事業変更申請書!X115,\"\")","v":""},null,{"$f":"IF(事業変更申請書!Z115<>\"\",事業変更申請書!Z115,\"\")","v":""},null,null,null,null,{"$f":"IF(AND(C114=\"\",F114=\"\",O114=\"\",V114=\"\",X114=\"\",Z114=\"\",O115=\"\",V115=\"\",X115=\"\",Z115=\"\"),0,1)","v":0}]
[null,null,{"$f":"IF(事業変更申請書!C116<>\"\",事業変更申請書!C116,\"\")","v":""},null,null,{"$f":"IF(事業変更申請書!F116<>\"\",事業変更申請書!F116,\"\")","v":""},null,null,null,"変更前",null,{"$f":"IF(事業変更申請書!L116<>\"\",事業変更申請書!L116,\"\")","v":0},null,null,{"$f":"IF(事業変更申請書!O116<>\"\",事業変更申請書!O116,\"\")","v":""},null,null,null,null,null,null,{"$f":"IF(事業変更申請書!V116<>\"\",事業変更申請書!V116,\"\")","v":""},null,{"$f":"IF(事業変更申請書!X116<>\"\",事業変更申請書!X116,\"\")","v":""},null,{"$f":"IF(事業変更申請書!Z116<>\"\",事業変更申請書!Z116,\"\")","v":""},null,null,null,null,{"$f":"IF(AND(C116=\"\",F116=\"\",O116=\"\",V116=\"\",X116=\"\",Z116=\"\",O117=\"\",V117=\"\",X117=\"\",Z117=\"\"),0,1)","v":0}]
[null,null,null,null,null,null,null,null,null,"変更後",null,{"$f":"IF(事業変更申請書!L117<>\"\",事業変更申請書!L117,\"\")","v":0},null,null,{"$f":"IF(事業変更申請書!O117<>\"\",事業変更申請書!O117,\"\")","v":""},null,null,null,null,null,null,{"$f":"IF(事業変更申請書!V117<>\"\",事業変更申請書!V117,\"\")","v":""},null,{"$f":"IF(事業変更申請書!X117<>\"\",事業変更申請書!X117,\"\")","v":""},null,{"$f":"IF(事業変更申請書!Z117<>\"\",事業変更申請書!Z117,\"\")","v":""},null,null,null,null,{"$f":"IF(AND(C116=\"\",F116=\"\",O116=\"\",V116=\"\",X116=\"\",Z116=\"\",O117=\"\",V117=\"\",X117=\"\",Z117=\"\"),0,1)","v":0}]
[null,null,{"$f":"IF(事業変更申請書!C118<>\"\",事業変更申請書!C118,\"\")","v":""},null,null,{"$f":"IF(事業変更申請書!F118<>\"\",事業変更申請書!F118,\"\")","v":""},null,null,null,"変更前",null,{"$f":"IF(事業変更申請書!L118<>\"\",事業変更申請書!L118,\"\")","v":0},null,null,{"$f":"IF(事業変更申請書!O118<>\"\",事業変更申請書!O118,\"\")","v":""},null,null,null,null,null,null,{"$f":"IF(事業変更申請書!V118<>\"\",事業変更申請書!V118,\"\")","v":""},null,{"$f":"IF(事業変更申請書!X118<>\"\",事業変更申請書!X118,\"\")","v":""},null,{"$f":"IF(事業変更申請書!Z118<>\"\",事業変更申請書!Z118,\"\")","v":""},null,null,null,null,{"$f":"IF(AND(C118=\"\",F118=\"\",O118=\"\",V118=\"\",X118=\"\",Z118=\"\",O119=\"\",V119=\"\",X119=\"\",Z119=\"\"),0,1)","v":0}]
[null,null,null,null,null,null,null,null,null,"変更後",null,{"$f":"IF(事業変更申請書!L119<>\"\",事業変更申請書!L119,\"\")","v":0},null,null,{"$f":"IF(事業変更申請書!O119<>\"\",事業変更申請書!O119,\"\")","v":""},null,null,null,null,null,null,{"$f":"IF(事業変更申請書!V119<>\"\",事業変更申請書!V119,\"\")","v":""},null,{"$f":"IF(事業変更申請書!X119<>\"\",事業変更申請書!X119,\"\")","v":""},null,{"$f":"IF(事業変更申請書!Z119<>\"\",事業変更申請書!Z119,\"\")","v":""},null,null,null,null,{"$f":"IF(AND(C118=\"\",F118=\"\",O118=\"\",V118=\"\",X118=\"\",Z118=\"\",O119=\"\",V119=\"\",X119=\"\",Z119=\"\"),0,1)","v":0}]
[null,null,{"$f":"IF(事業変更申請書!C120<>\"\",事業変更申請書!C120,\"\")","v":""},null,null,{"$f":"IF(事業変更申請書!F120<>\"\",事業変更申請書!F120,\"\")","v":""},null,null,null,"変更前",null,{"$f":"IF(事業変更申請書!L120<>\"\",事業変更申請書!L120,\"\")","v":0},null,null,{"$f":"IF(事業変更申請書!O120<>\"\",事業変更申請書!O120,\"\")","v":""},null,null,null,null,null,null,{"$f":"IF(事業変更申請書!V120<>\"\",事業変更申請書!V120,\"\")","v":""},null,{"$f":"IF(事業変更申請書!X120<>\"\",事業変更申請書!X120,\"\")","v":""},null,{"$f":"IF(事業変更申請書!Z120<>\"\",事業変更申請書!Z120,\"\")","v":""},null,null,null,null,{"$f":"IF(AND(C120=\"\",F120=\"\",O120=\"\",V120=\"\",X120=\"\",Z120=\"\",O121=\"\",V121=\"\",X121=\"\",Z121=\"\"),0,1)","v":0}]
[null,null,null,null,null,null,null,null,null,"変更後",null,{"$f":"IF(事業変更申請書!L121<>\"\",事業変更申請書!L121,\"\")","v":0},null,null,{"$f":"IF(事業変更申請書!O121<>\"\",事業変更申請書!O121,\"\")","v":""},null,null,null,null,null,null,{"$f":"IF(事業変更申請書!V121<>\"\",事業変更申請書!V121,\"\")","v":""},null,{"$f":"IF(事業変更申請書!X121<>\"\",事業変更申請書!X121,\"\")","v":""},null,{"$f":"IF(事業変更申請書!Z121<>\"\",事業変更申請書!Z121,\"\")","v":""},null,null,null,null,{"$f":"IF(AND(C120=\"\",F120=\"\",O120=\"\",V120=\"\",X120=\"\",Z120=\"\",O121=\"\",V121=\"\",X121=\"\",Z121=\"\"),0,1)","v":0}]
[null,null,{"$f":"IF(事業変更申請書!C122<>\"\",事業変更申請書!C122,\"\")","v":""},null,null,{"$f":"IF(事業変更申請書!F122<>\"\",事業変更申請書!F122,\"\")","v":""},null,null,null,"変更前",null,{"$f":"IF(事業変更申請書!L122<>\"\",事業変更申請書!L122,\"\")","v":0},null,null,{"$f":"IF(事業変更申請書!O122<>\"\",事業変更申請書!O122,\"\")","v":""},null,null,null,null,null,null,{"$f":"IF(事業変更申請書!V122<>\"\",事業変更申請書!V122,\"\")","v":""},null,{"$f":"IF(事業変更申請書!X122<>\"\",事業変更申請書!X122,\"\")","v":""},null,{"$f":"IF(事業変更申請書!Z122<>\"\",事業変更申請書!Z122,\"\")","v":""},null,null,null,null,{"$f":"IF(AND(C122=\"\",F122=\"\",O122=\"\",V122=\"\",X122=\"\",Z122=\"\",O123=\"\",V123=\"\",X123=\"\",Z123=\"\"),0,1)","v":0}]
[null,null,null,null,null,null,null,null,null,"変更後",null,{"$f":"IF(事業変更申請書!L123<>\"\",事業変更申請書!L123,\"\")","v":0},null,null,{"$f":"IF(事業変更申請書!O123<>\"\",事業変更申請書!O123,\"\")","v":""},null,null,null,null,null,null,{"$f":"IF(事業変更申請書!V123<>\"\",事業変更申請書!V123,\"\")","v":""},null,{"$f":"IF(事業変更申請書!X123<>\"\",事業変更申請書!X123,\"\")","v":""},null,{"$f":"IF(事業変更申請書!Z123<>\"\",事業変更申請書!Z123,\"\")","v":""},null,null,null,null,{"$f":"IF(AND(C122=\"\",F122=\"\",O122=\"\",V122=\"\",X122=\"\",Z122=\"\",O123=\"\",V123=\"\",X123=\"\",Z123=\"\"),0,1)","v":0}]
[null,null,{"$f":"IF(事業変更申請書!C124<>\"\",事業変更申請書!C124,\"\")","v":""},null,null,{"$f":"IF(事業変更申請書!F124<>\"\",事業変更申請書!F124,\"\")","v":""},null,null,null,"変更前",null,{"$f":"IF(事業変更申請書!L124<>\"\",事業変更申請書!L124,\"\")","v":0},null,null,{"$f":"IF(事業変更申請書!O124<>\"\",事業変更申請書!O124,\"\")","v":""},null,null,null,null,null,null,{"$f":"IF(事業変更申請書!V124<>\"\",事業変更申請書!V124,\"\")","v":""},null,{"$f":"IF(事業変更申請書!X124<>\"\",事業変更申請書!X124,\"\")","v":""},null,{"$f":"IF(事業変更申請書!Z124<>\"\",事業変更申請書!Z124,\"\")","v":""},null,null,null,null,{"$f":"IF(AND(C124=\"\",F124=\"\",O124=\"\",V124=\"\",X124=\"\",Z124=\"\",O125=\"\",V125=\"\",X125=\"\",Z125=\"\"),0,1)","v":0}]
[null,null,null,null,null,null,null,null,null,"変更後",null,{"$f":"IF(事業変更申請書!L125<>\"\",事業変更申請書!L125,\"\")","v":0},null,null,{"$f":"IF(事業変更申請書!O125<>\"\",事業変更申請書!O125,\"\")","v":""},null,null,null,null,null,null,{"$f":"IF(事業変更申請書!V125<>\"\",事業変更申請書!V125,\"\")","v":""},null,{"$f":"IF(事業変更申請書!X125<>\"\",事業変更申請書!X125,\"\")","v":""},null,{"$f":"IF(事業変更申請書!Z125<>\"\",事業変更申請書!Z125,\"\")","v":""},null,null,null,null,{"$f":"IF(AND(C124=\"\",F124=\"\",O124=\"\",V124=\"\",X124=\"\",Z124=\"\",O125=\"\",V125=\"\",X125=\"\",Z125=\"\"),0,1)","v":0}]
[null,null,{"$f":"IF(事業変更申請書!C126<>\"\",事業変更申請書!C126,\"\")","v":""},null,null,{"$f":"IF(事業変更申請書!F126<>\"\",事業変更申請書!F126,\"\")","v":""},null,null,null,"変更前",null,{"$f":"IF(事業変更申請書!L126<>\"\",事業変更申請書!L126,\"\")","v":0},null,null,{"$f":"IF(事業変更申請書!O126<>\"\",事業変更申請書!O126,\"\")","v":""},null,null,null,null,null,null,{"$f":"IF(事業変更申請書!V126<>\"\",事業変更申請書!V126,\"\")","v":""},null,{"$f":"IF(事業変更申請書!X126<>\"\",事業変更申請書!X126,\"\")","v":""},null,{"$f":"IF(事業変更申請書!Z126<>\"\",事業変更申請書!Z126,\"\")","v":""},null,null,null,null,{"$f":"IF(AND(C126=\"\",F126=\"\",O126=\"\",V126=\"\",X126=\"\",Z126=\"\",O127=\"\",V127=\"\",X127=\"\",Z127=\"\"),0,1)","v":0}]
[null,null,null,null,null,null,null,null,null,"変更後",null,{"$f":"IF(事業変更申請書!L127<>\"\",事業変更申請書!L127,\"\")","v":0},null,null,{"$f":"IF(事業変更申請書!O127<>\"\",事業変更申請書!O127,\"\")","v":""},null,null,null,null,null,null,{"$f":"IF(事業変更申請書!V127<>\"\",事業変更申請書!V127,\"\")","v":""},null,{"$f":"IF(事業変更申請書!X127<>\"\",事業変更申請書!X127,\"\")","v":""},null,{"$f":"IF(事業変更申請書!Z127<>\"\",事業変更申請書!Z127,\"\")","v":""},null,null,null,null,{"$f":"IF(AND(C126=\"\",F126=\"\",O126=\"\",V126=\"\",X126=\"\",Z126=\"\",O127=\"\",V127=\"\",X127=\"\",Z127=\"\"),0,1)","v":0}]
[null,null,{"$f":"IF(事業変更申請書!C128<>\"\",事業変更申請書!C128,\"\")","v":""},null,null,{"$f":"IF(事業変更申請書!F128<>\"\",事業変更申請書!F128,\"\")","v":""},null,null,null,"変更前",null,{"$f":"IF(事業変更申請書!L128<>\"\",事業変更申請書!L128,\"\")","v":0},null,null,{"$f":"IF(事業変更申請書!O128<>\"\",事業変更申請書!O128,\"\")","v":""},null,null,null,null,null,null,{"$f":"IF(事業変更申請書!V128<>\"\",事業変更申請書!V128,\"\")","v":""},null,{"$f":"IF(事業変更申請書!X128<>\"\",事業変更申請書!X128,\"\")","v":""},null,{"$f":"IF(事業変更申請書!Z128<>\"\",事業変更申請書!Z128,\"\")","v":""},null,null,null,null,{"$f":"IF(AND(C128=\"\",F128=\"\",O128=\"\",V128=\"\",X128=\"\",Z128=\"\",O129=\"\",V129=\"\",X129=\"\",Z129=\"\"),0,1)","v":0}]
[null,null,null,null,null,null,null,null,null,"変更後",null,{"$f":"IF(事業変更申請書!L129<>\"\",事業変更申請書!L129,\"\")","v":0},null,null,{"$f":"IF(事業変更申請書!O129<>\"\",事業変更申請書!O129,\"\")","v":""},null,null,null,null,null,null,{"$f":"IF(事業変更申請書!V129<>\"\",事業変更申請書!V129,\"\")","v":""},null,{"$f":"IF(事業変更申請書!X129<>\"\",事業変更申請書!X129,\"\")","v":""},null,{"$f":"IF(事業変更申請書!Z129<>\"\",事業変更申請書!Z129,\"\")","v":""},null,null,null,null,{"$f":"IF(AND(C128=\"\",F128=\"\",O128=\"\",V128=\"\",X128=\"\",Z128=\"\",O129=\"\",V129=\"\",X129=\"\",Z129=\"\"),0,1)","v":0}]
[null,null,{"$f":"IF(事業変更申請書!C130<>\"\",事業変更申請書!C130,\"\")","v":""},null,null,{"$f":"IF(事業変更申請書!F130<>\"\",事業変更申請書!F130,\"\")","v":""},null,null,null,"変更前",null,{"$f":"IF(事業変更申請書!L130<>\"\",事業変更申請書!L130,\"\")","v":0},null,null,{"$f":"IF(事業変更申請書!O130<>\"\",事業変更申請書!O130,\"\")","v":""},null,null,null,null,null,null,{"$f":"IF(事業変更申請書!V130<>\"\",事業変更申請書!V130,\"\")","v":""},null,{"$f":"IF(事業変更申請書!X130<>\"\",事業変更申請書!X130,\"\")","v":""},null,{"$f":"IF(事業変更申請書!Z130<>\"\",事業変更申請書!Z130,\"\")","v":""},null,null,null,null,{"$f":"IF(AND(C130=\"\",F130=\"\",O130=\"\",V130=\"\",X130=\"\",Z130=\"\",O131=\"\",V131=\"\",X131=\"\",Z131=\"\"),0,1)","v":0}]
[null,null,null,null,null,null,null,null,null,"変更後",null,{"$f":"IF(事業変更申請書!L131<>\"\",事業変更申請書!L131,\"\")","v":0},null,null,{"$f":"IF(事業変更申請書!O131<>\"\",事業変更申請書!O131,\"\")","v":""},null,null,null,null,null,null,{"$f":"IF(事業変更申請書!V131<>\"\",事業変更申請書!V131,\"\")","v":""},null,{"$f":"IF(事業変更申請書!X131<>\"\",事業変更申請書!X131,\"\")","v":""},null,{"$f":"IF(事業変更申請書!Z131<>\"\",事業変更申請書!Z131,\"\")","v":""},null,null,null,null,{"$f":"IF(AND(C130=\"\",F130=\"\",O130=\"\",V130=\"\",X130=\"\",Z130=\"\",O131=\"\",V131=\"\",X131=\"\",Z131=\"\"),0,1)","v":0}]
[null,null,{"$f":"IF(事業変更申請書!C132<>\"\",事業変更申請書!C132,\"\")","v":""},null,null,{"$f":"IF(事業変更申請書!F132<>\"\",事業変更申請書!F132,\"\")","v":""},null,null,null,"変更前",null,{"$f":"IF(事業変更申請書!L132<>\"\",事業変更申請書!L132,\"\")","v":0},null,null,{"$f":"IF(事業変更申請書!O132<>\"\",事業変更申請書!O132,\"\")","v":""},null,null,null,null,null,null,{"$f":"IF(事業変更申請書!V132<>\"\",事業変更申請書!V132,\"\")","v":""},null,{"$f":"IF(事業変更申請書!X132<>\"\",事業変更申請書!X132,\"\")","v":""},null,{"$f":"IF(事業変更申請書!Z132<>\"\",事業変更申請書!Z132,\"\")","v":""},null,null,null,null,{"$f":"IF(AND(C132=\"\",F132=\"\",O132=\"\",V132=\"\",X132=\"\",Z132=\"\",O133=\"\",V133=\"\",X133=\"\",Z133=\"\"),0,1)","v":0}]
[null,null,null,null,null,null,null,null,null,"変更後",null,{"$f":"IF(事業変更申請書!L133<>\"\",事業変更申請書!L133,\"\")","v":0},null,null,{"$f":"IF(事業変更申請書!O133<>\"\",事業変更申請書!O133,\"\")","v":""},null,null,null,null,null,null,{"$f":"IF(事業変更申請書!V133<>\"\",事業変更申請書!V133,\"\")","v":""},null,{"$f":"IF(事業変更申請書!X133<>\"\",事業変更申請書!X133,\"\")","v":""},null,{"$f":"IF(事業変更申請書!Z133<>\"\",事業変更申請書!Z133,\"\")","v":""},null,null,null,null,{"$f":"IF(AND(C132=\"\",F132=\"\",O132=\"\",V132=\"\",X132=\"\",Z132=\"\",O133=\"\",V133=\"\",X133=\"\",Z133=\"\"),0,1)","v":0}]
[null,null,{"$f":"IF(事業変更申請書!C134<>\"\",事業変更申請書!C134,\"\")","v":""},null,null,{"$f":"IF(事業変更申請書!F134<>\"\",事業変更申請書!F134,\"\")","v":""},null,null,null,"変更前",null,{"$f":"IF(事業変更申請書!L134<>\"\",事業変更申請書!L134,\"\")","v":0},null,null,{"$f":"IF(事業変更申請書!O134<>\"\",事業変更申請書!O134,\"\")","v":""},null,null,null,null,null,null,{"$f":"IF(事業変更申請書!V134<>\"\",事業変更申請書!V134,\"\")","v":""},null,{"$f":"IF(事業変更申請書!X134<>\"\",事業変更申請書!X134,\"\")","v":""},null,{"$f":"IF(事業変更申請書!Z134<>\"\",事業変更申請書!Z134,\"\")","v":""},null,null,null,null,{"$f":"IF(AND(C134=\"\",F134=\"\",O134=\"\",V134=\"\",X134=\"\",Z134=\"\",O135=\"\",V135=\"\",X135=\"\",Z135=\"\"),0,1)","v":0}]
[null,null,null,null,null,null,null,null,null,"変更後",null,{"$f":"IF(事業変更申請書!L135<>\"\",事業変更申請書!L135,\"\")","v":0},null,null,{"$f":"IF(事業変更申請書!O135<>\"\",事業変更申請書!O135,\"\")","v":""},null,null,null,null,null,null,{"$f":"IF(事業変更申請書!V135<>\"\",事業変更申請書!V135,\"\")","v":""},null,{"$f":"IF(事業変更申請書!X135<>\"\",事業変更申請書!X135,\"\")","v":""},null,{"$f":"IF(事業変更申請書!Z135<>\"\",事業変更申請書!Z135,\"\")","v":""},null,null,null,null,{"$f":"IF(AND(C134=\"\",F134=\"\",O134=\"\",V134=\"\",X134=\"\",Z134=\"\",O135=\"\",V135=\"\",X135=\"\",Z135=\"\"),0,1)","v":0}]
[null,null,{"$f":"IF(事業変更申請書!C136<>\"\",事業変更申請書!C136,\"\")","v":""},null,null,{"$f":"IF(事業変更申請書!F136<>\"\",事業変更申請書!F136,\"\")","v":""},null,null,null,"変更前",null,{"$f":"IF(事業変更申請書!L136<>\"\",事業変更申請書!L136,\"\")","v":0},null,null,{"$f":"IF(事業変更申請書!O136<>\"\",事業変更申請書!O136,\"\")","v":""},null,null,null,null,null,null,{"$f":"IF(事業変更申請書!V136<>\"\",事業変更申請書!V136,\"\")","v":""},null,{"$f":"IF(事業変更申請書!X136<>\"\",事業変更申請書!X136,\"\")","v":""},null,{"$f":"IF(事業変更申請書!Z136<>\"\",事業変更申請書!Z136,\"\")","v":""},null,null,null,null,{"$f":"IF(AND(C136=\"\",F136=\"\",O136=\"\",V136=\"\",X136=\"\",Z136=\"\",O137=\"\",V137=\"\",X137=\"\",Z137=\"\"),0,1)","v":0}]
[null,null,null,null,null,null,null,null,null,"変更後",null,{"$f":"IF(事業変更申請書!L137<>\"\",事業変更申請書!L137,\"\")","v":0},null,null,{"$f":"IF(事業変更申請書!O137<>\"\",事業変更申請書!O137,\"\")","v":""},null,null,null,null,null,null,{"$f":"IF(事業変更申請書!V137<>\"\",事業変更申請書!V137,\"\")","v":""},null,{"$f":"IF(事業変更申請書!X137<>\"\",事業変更申請書!X137,\"\")","v":""},null,{"$f":"IF(事業変更申請書!Z137<>\"\",事業変更申請書!Z137,\"\")","v":""},null,null,null,null,{"$f":"IF(AND(C136=\"\",F136=\"\",O136=\"\",V136=\"\",X136=\"\",Z136=\"\",O137=\"\",V137=\"\",X137=\"\",Z137=\"\"),0,1)","v":0}]
[null,null,{"$f":"IF(事業変更申請書!C138<>\"\",事業変更申請書!C138,\"\")","v":""},null,null,{"$f":"IF(事業変更申請書!F138<>\"\",事業変更申請書!F138,\"\")","v":""},null,null,null,"変更前",null,{"$f":"IF(事業変更申請書!L138<>\"\",事業変更申請書!L138,\"\")","v":0},null,null,{"$f":"IF(事業変更申請書!O138<>\"\",事業変更申請書!O138,\"\")","v":""},null,null,null,null,null,null,{"$f":"IF(事業変更申請書!V138<>\"\",事業変更申請書!V138,\"\")","v":""},null,{"$f":"IF(事業変更申請書!X138<>\"\",事業変更申請書!X138,\"\")","v":""},null,{"$f":"IF(事業変更申請書!Z138<>\"\",事業変更申請書!Z138,\"\")","v":""},null,null,null,null,{"$f":"IF(AND(C138=\"\",F138=\"\",O138=\"\",V138=\"\",X138=\"\",Z138=\"\",O139=\"\",V139=\"\",X139=\"\",Z139=\"\"),0,1)","v":0}]
[null,null,null,null,null,null,null,null,null,"変更後",null,{"$f":"IF(事業変更申請書!L139<>\"\",事業変更申請書!L139,\"\")","v":0},null,null,{"$f":"IF(事業変更申請書!O139<>\"\",事業変更申請書!O139,\"\")","v":""},null,null,null,null,null,null,{"$f":"IF(事業変更申請書!V139<>\"\",事業変更申請書!V139,\"\")","v":""},null,{"$f":"IF(事業変更申請書!X139<>\"\",事業変更申請書!X139,\"\")","v":""},null,{"$f":"IF(事業変更申請書!Z139<>\"\",事業変更申請書!Z139,\"\")","v":""},null,null,null,null,{"$f":"IF(AND(C138=\"\",F138=\"\",O138=\"\",V138=\"\",X138=\"\",Z138=\"\",O139=\"\",V139=\"\",X139=\"\",Z139=\"\"),0,1)","v":0}]
[null,null,{"$f":"IF(事業変更申請書!C140<>\"\",事業変更申請書!C140,\"\")","v":""},null,null,{"$f":"IF(事業変更申請書!F140<>\"\",事業変更申請書!F140,\"\")","v":""},null,null,null,"変更前",null,{"$f":"IF(事業変更申請書!L140<>\"\",事業変更申請書!L140,\"\")","v":0},null,null,{"$f":"IF(事業変更申請書!O140<>\"\",事業変更申請書!O140,\"\")","v":""},null,null,null,null,null,null,{"$f":"IF(事業変更申請書!V140<>\"\",事業変更申請書!V140,\"\")","v":""},null,{"$f":"IF(事業変更申請書!X140<>\"\",事業変更申請書!X140,\"\")","v":""},null,{"$f":"IF(事業変更申請書!Z140<>\"\",事業変更申請書!Z140,\"\")","v":""},null,null,null,null,{"$f":"IF(AND(C140=\"\",F140=\"\",O140=\"\",V140=\"\",X140=\"\",Z140=\"\",O141=\"\",V141=\"\",X141=\"\",Z141=\"\"),0,1)","v":0}]
[null,null,null,null,null,null,null,null,null,"変更後",null,{"$f":"IF(事業変更申請書!L141<>\"\",事業変更申請書!L141,\"\")","v":0},null,null,{"$f":"IF(事業変更申請書!O141<>\"\",事業変更申請書!O141,\"\")","v":""},null,null,null,null,null,null,{"$f":"IF(事業変更申請書!V141<>\"\",事業変更申請書!V141,\"\")","v":""},null,{"$f":"IF(事業変更申請書!X141<>\"\",事業変更申請書!X141,\"\")","v":""},null,{"$f":"IF(事業変更申請書!Z141<>\"\",事業変更申請書!Z141,\"\")","v":""},null,null,null,null,{"$f":"IF(AND(C140=\"\",F140=\"\",O140=\"\",V140=\"\",X140=\"\",Z140=\"\",O141=\"\",V141=\"\",X141=\"\",Z141=\"\"),0,1)","v":0}]
[null,null,{"$f":"IF(事業変更申請書!C142<>\"\",事業変更申請書!C142,\"\")","v":""},null,null,{"$f":"IF(事業変更申請書!F142<>\"\",事業変更申請書!F142,\"\")","v":""},null,null,null,"変更前",null,{"$f":"IF(事業変更申請書!L142<>\"\",事業変更申請書!L142,\"\")","v":0},null,null,{"$f":"IF(事業変更申請書!O142<>\"\",事業変更申請書!O142,\"\")","v":""},null,null,null,null,null,null,{"$f":"IF(事業変更申請書!V142<>\"\",事業変更申請書!V142,\"\")","v":""},null,{"$f":"IF(事業変更申請書!X142<>\"\",事業変更申請書!X142,\"\")","v":""},null,{"$f":"IF(事業変更申請書!Z142<>\"\",事業変更申請書!Z142,\"\")","v":""},null,null,null,null,{"$f":"IF(AND(C142=\"\",F142=\"\",O142=\"\",V142=\"\",X142=\"\",Z142=\"\",O143=\"\",V143=\"\",X143=\"\",Z143=\"\"),0,1)","v":0}]
[null,null,null,null,null,null,null,null,null,"変更後",null,{"$f":"IF(事業変更申請書!L143<>\"\",事業変更申請書!L143,\"\")","v":0},null,null,{"$f":"IF(事業変更申請書!O143<>\"\",事業変更申請書!O143,\"\")","v":""},null,null,null,null,null,null,{"$f":"IF(事業変更申請書!V143<>\"\",事業変更申請書!V143,\"\")","v":""},null,{"$f":"IF(事業変更申請書!X143<>\"\",事業変更申請書!X143,\"\")","v":""},null,{"$f":"IF(事業変更申請書!Z143<>\"\",事業変更申請書!Z143,\"\")","v":""},null,null,null,null,{"$f":"IF(AND(C142=\"\",F142=\"\",O142=\"\",V142=\"\",X142=\"\",Z142=\"\",O143=\"\",V143=\"\",X143=\"\",Z143=\"\"),0,1)","v":0}]
[null,null,{"$f":"IF(事業変更申請書!C144<>\"\",事業変更申請書!C144,\"\")","v":""},null,null,{"$f":"IF(事業変更申請書!F144<>\"\",事業変更申請書!F144,\"\")","v":""},null,null,null,"変更前",null,{"$f":"IF(事業変更申請書!L144<>\"\",事業変更申請書!L144,\"\")","v":0},null,null,{"$f":"IF(事業変更申請書!O144<>\"\",事業変更申請書!O144,\"\")","v":""},null,null,null,null,null,null,{"$f":"IF(事業変更申請書!V144<>\"\",事業変更申請書!V144,\"\")","v":""},null,{"$f":"IF(事業変更申請書!X144<>\"\",事業変更申請書!X144,\"\")","v":""},null,{"$f":"IF(事業変更申請書!Z144<>\"\",事業変更申請書!Z144,\"\")","v":""},null,null,null,null,{"$f":"IF(AND(C144=\"\",F144=\"\",O144=\"\",V144=\"\",X144=\"\",Z144=\"\",O145=\"\",V145=\"\",X145=\"\",Z145=\"\"),0,1)","v":0}]
[null,null,null,null,null,null,null,null,null,"変更後",null,{"$f":"IF(事業変更申請書!L145<>\"\",事業変更申請書!L145,\"\")","v":0},null,null,{"$f":"IF(事業変更申請書!O145<>\"\",事業変更申請書!O145,\"\")","v":""},null,null,null,null,null,null,{"$f":"IF(事業変更申請書!V145<>\"\",事業変更申請書!V145,\"\")","v":""},null,{"$f":"IF(事業変更申請書!X145<>\"\",事業変更申請書!X145,\"\")","v":""},null,{"$f":"IF(事業変更申請書!Z145<>\"\",事業変更申請書!Z145,\"\")","v":""},null,null,null,null,{"$f":"IF(AND(C144=\"\",F144=\"\",O144=\"\",V144=\"\",X144=\"\",Z144=\"\",O145=\"\",V145=\"\",X145=\"\",Z145=\"\"),0,1)","v":0}]
[null,null,"小計",null,null,null,null,null,null,"変更前",null,{"$f":"IF(事業変更申請書!L146<>\"\",事業変更申請書!L146,\"\")","v":0},null,null,null,null,null,null,null,null,null,null,null,null,null,null,null,null,null,null,2]
[null,null,null,null,null,null,null,null,null,"変更後",null,{"$f":"IF(事業変更申請書!L147<>\"\",事業変更申請書!L147,\"\")","v":0}]
[]
[null,null,"（支出の部）　対象外経費"]
[null,null,"経　費　区　分",null,null,null,null,null,null,null,null,"予算額（円）",null,null,"支　出　内　容　（円）"]
[null,null,"科　目",null,null,"区　　分",null,null,null,null,null,null,null,null,"内容名",null,null,null,null,null,null,"単価",null,"数量",null,"単位"]
[null,null,{"$f":"IF(事業変更申請書!C152<>\"\",事業変更申請書!C152,\"\")","v":""},null,null,{"$f":"IF(事業変更申請書!F152<>\"\",事業変更申請書!F152,\"\")","v":""},null,null,null,"変更前",null,{"$f":"IF(事業変更申請書!L152<>\"\",事業変更申請書!L152,\"\")","v":0},null,null,{"$f":"IF(事業変更申請書!O152<>\"\",事業変更申請書!O152,\"\")","v":""},null,null,null,null,null,null,{"$f":"IF(事業変更申請書!V152<>\"\",事業変更申請書!V152,\"\")","v":""},null,{"$f":"IF(事業変更申請書!X152<>\"\",事業変更申請書!X152,\"\")","v":""},null,{"$f":"IF(事業変更申請書!Z152<>\"\",事業変更申請書!Z152,\"\")","v":""},null,null,null,null,{"$f":"IF(AND(C152=\"\",F152=\"\",O152=\"\",V152=\"\",X152=\"\",Z152=\"\",O153=\"\",V153=\"\",X153=\"\",Z153=\"\"),0,1)","v":0}]
[null,null,null,null,null,null,null,null,null,"変更後",null,{"$f":"IF(事業変更申請書!L153<>\"\",事業変更申請書!L153,\"\")","v":0},null,null,{"$f":"IF(事業変更申請書!O153<>\"\",事業変更申請書!O153,\"\")","v":""},null,null,null,null,null,null,{"$f":"IF(事業変更申請書!V153<>\"\",事業変更申請書!V153,\"\")","v":""},null,{"$f":"IF(事業変更申請書!X153<>\"\",事業変更申請書!X153,\"\")","v":""},null,{"$f":"IF(事業変更申請書!Z153<>\"\",事業変更申請書!Z153,\"\")","v":""},null,null,null,null,{"$f":"IF(AND(C152=\"\",F152=\"\",O152=\"\",V152=\"\",X152=\"\",Z152=\"\",O153=\"\",V153=\"\",X153=\"\",Z153=\"\"),0,1)","v":0}]
[null,null,{"$f":"IF(事業変更申請書!C154<>\"\",事業変更申請書!C154,\"\")","v":""},null,null,{"$f":"IF(事業変更申請書!F154<>\"\",事業変更申請書!F154,\"\")","v":""},null,null,null,"変更前",null,{"$f":"IF(事業変更申請書!L154<>\"\",事業変更申請書!L154,\"\")","v":0},null,null,{"$f":"IF(事業変更申請書!O154<>\"\",事業変更申請書!O154,\"\")","v":""},null,null,null,null,null,null,{"$f":"IF(事業変更申請書!V154<>\"\",事業変更申請書!V154,\"\")","v":""},null,{"$f":"IF(事業変更申請書!X154<>\"\",事業変更申請書!X154,\"\")","v":""},null,{"$f":"IF(事業変更申請書!Z154<>\"\",事業変更申請書!Z154,\"\")","v":""},null,null,null,null,{"$f":"IF(AND(C154=\"\",F154=\"\",O154=\"\",V154=\"\",X154=\"\",Z154=\"\",O155=\"\",V155=\"\",X155=\"\",Z155=\"\"),0,1)","v":0}]
[null,null,null,null,null,null,null,null,null,"変更後",null,{"$f":"IF(事業変更申請書!L155<>\"\",事業変更申請書!L155,\"\")","v":0},null,null,{"$f":"IF(事業変更申請書!O155<>\"\",事業変更申請書!O155,\"\")","v":""},null,null,null,null,null,null,{"$f":"IF(事業変更申請書!V155<>\"\",事業変更申請書!V155,\"\")","v":""},null,{"$f":"IF(事業変更申請書!X155<>\"\",事業変更申請書!X155,\"\")","v":""},null,{"$f":"IF(事業変更申請書!Z155<>\"\",事業変更申請書!Z155,\"\")","v":""},null,null,null,null,{"$f":"IF(AND(C154=\"\",F154=\"\",O154=\"\",V154=\"\",X154=\"\",Z154=\"\",O155=\"\",V155=\"\",X155=\"\",Z155=\"\"),0,1)","v":0}]
[null,null,{"$f":"IF(事業変更申請書!C156<>\"\",事業変更申請書!C156,\"\")","v":""},null,null,{"$f":"IF(事業変更申請書!F156<>\"\",事業変更申請書!F156,\"\")","v":""},null,null,null,"変更前",null,{"$f":"IF(事業変更申請書!L156<>\"\",事業変更申請書!L156,\"\")","v":0},null,null,{"$f":"IF(事業変更申請書!O156<>\"\",事業変更申請書!O156,\"\")","v":""},null,null,null,null,null,null,{"$f":"IF(事業変更申請書!V156<>\"\",事業変更申請書!V156,\"\")","v":""},null,{"$f":"IF(事業変更申請書!X156<>\"\",事業変更申請書!X156,\"\")","v":""},null,{"$f":"IF(事業変更申請書!Z156<>\"\",事業変更申請書!Z156,\"\")","v":""},null,null,null,null,{"$f":"IF(AND(C156=\"\",F156=\"\",O156=\"\",V156=\"\",X156=\"\",Z156=\"\",O157=\"\",V157=\"\",X157=\"\",Z157=\"\"),0,1)","v":0}]
[null,null,null,null,null,null,null,null,null,"変更後",null,{"$f":"IF(事業変更申請書!L157<>\"\",事業変更申請書!L157,\"\")","v":0},null,null,{"$f":"IF(事業変更申請書!O157<>\"\",事業変更申請書!O157,\"\")","v":""},null,null,null,null,null,null,{"$f":"IF(事業変更申請書!V157<>\"\",事業変更申請書!V157,\"\")","v":""},null,{"$f":"IF(事業変更申請書!X157<>\"\",事業変更申請書!X157,\"\")","v":""},null,{"$f":"IF(事業変更申請書!Z157<>\"\",事業変更申請書!Z157,\"\")","v":""},null,null,null,null,{"$f":"IF(AND(C156=\"\",F156=\"\",O156=\"\",V156=\"\",X156=\"\",Z156=\"\",O157=\"\",V157=\"\",X157=\"\",Z157=\"\"),0,1)","v":0}]
[null,null,{"$f":"IF(事業変更申請書!C158<>\"\",事業変更申請書!C158,\"\")","v":""},null,null,{"$f":"IF(事業変更申請書!F158<>\"\",事業変更申請書!F158,\"\")","v":""},null,null,null,"変更前",null,{"$f":"IF(事業変更申請書!L158<>\"\",事業変更申請書!L158,\"\")","v":0},null,null,{"$f":"IF(事業変更申請書!O158<>\"\",事業変更申請書!O158,\"\")","v":""},null,null,null,null,null,null,{"$f":"IF(事業変更申請書!V158<>\"\",事業変更申請書!V158,\"\")","v":""},null,{"$f":"IF(事業変更申請書!X158<>\"\",事業変更申請書!X158,\"\")","v":""},null,{"$f":"IF(事業変更申請書!Z158<>\"\",事業変更申請書!Z158,\"\")","v":""},null,null,null,null,{"$f":"IF(AND(C158=\"\",F158=\"\",O158=\"\",V158=\"\",X158=\"\",Z158=\"\",O159=\"\",V159=\"\",X159=\"\",Z159=\"\"),0,1)","v":0}]
[null,null,null,null,null,null,null,null,null,"変更後",null,{"$f":"IF(事業変更申請書!L159<>\"\",事業変更申請書!L159,\"\")","v":0},null,null,{"$f":"IF(事業変更申請書!O159<>\"\",事業変更申請書!O159,\"\")","v":""},null,null,null,null,null,null,{"$f":"IF(事業変更申請書!V159<>\"\",事業変更申請書!V159,\"\")","v":""},null,{"$f":"IF(事業変更申請書!X159<>\"\",事業変更申請書!X159,\"\")","v":""},null,{"$f":"IF(事業変更申請書!Z159<>\"\",事業変更申請書!Z159,\"\")","v":""},null,null,null,null,{"$f":"IF(AND(C158=\"\",F158=\"\",O158=\"\",V158=\"\",X158=\"\",Z158=\"\",O159=\"\",V159=\"\",X159=\"\",Z159=\"\"),0,1)","v":0}]
[null,null,{"$f":"IF(事業変更申請書!C160<>\"\",事業変更申請書!C160,\"\")","v":""},null,null,{"$f":"IF(事業変更申請書!F160<>\"\",事業変更申請書!F160,\"\")","v":""},null,null,null,"変更前",null,{"$f":"IF(事業変更申請書!L160<>\"\",事業変更申請書!L160,\"\")","v":0},null,null,{"$f":"IF(事業変更申請書!O160<>\"\",事業変更申請書!O160,\"\")","v":""},null,null,null,null,null,null,{"$f":"IF(事業変更申請書!V160<>\"\",事業変更申請書!V160,\"\")","v":""},null,{"$f":"IF(事業変更申請書!X160<>\"\",事業変更申請書!X160,\"\")","v":""},null,{"$f":"IF(事業変更申請書!Z160<>\"\",事業変更申請書!Z160,\"\")","v":""},null,null,null,null,{"$f":"IF(AND(C160=\"\",F160=\"\",O160=\"\",V160=\"\",X160=\"\",Z160=\"\",O161=\"\",V161=\"\",X161=\"\",Z161=\"\"),0,1)","v":0}]
[null,null,null,null,null,null,null,null,null,"変更後",null,{"$f":"IF(事業変更申請書!L161<>\"\",事業変更申請書!L161,\"\")","v":0},null,null,{"$f":"IF(事業変更申請書!O161<>\"\",事業変更申請書!O161,\"\")","v":""},null,null,null,null,null,null,{"$f":"IF(事業変更申請書!V161<>\"\",事業変更申請書!V161,\"\")","v":""},null,{"$f":"IF(事業変更申請書!X161<>\"\",事業変更申請書!X161,\"\")","v":""},null,{"$f":"IF(事業変更申請書!Z161<>\"\",事業変更申請書!Z161,\"\")","v":""},null,null,null,null,{"$f":"IF(AND(C160=\"\",F160=\"\",O160=\"\",V160=\"\",X160=\"\",Z160=\"\",O161=\"\",V161=\"\",X161=\"\",Z161=\"\"),0,1)","v":0}]
[null,null,{"$f":"IF(事業変更申請書!C162<>\"\",事業変更申請書!C162,\"\")","v":""},null,null,{"$f":"IF(事業変更申請書!F162<>\"\",事業変更申請書!F162,\"\")","v":""},null,null,null,"変更前",null,{"$f":"IF(事業変更申請書!L162<>\"\",事業変更申請書!L162,\"\")","v":0},null,null,{"$f":"IF(事業変更申請書!O162<>\"\",事業変更申請書!O162,\"\")","v":""},null,null,null,null,null,null,{"$f":"IF(事業変更申請書!V162<>\"\",事業変更申請書!V162,\"\")","v":""},null,{"$f":"IF(事業変更申請書!X162<>\"\",事業変更申請書!X162,\"\")","v":""},null,{"$f":"IF(事業変更申請書!Z162<>\"\",事業変更申請書!Z162,\"\")","v":""},null,null,null,null,{"$f":"IF(AND(C162=\"\",F162=\"\",O162=\"\",V162=\"\",X162=\"\",Z162=\"\",O163=\"\",V163=\"\",X163=\"\",Z163=\"\"),0,1)","v":0}]
[null,null,null,null,null,null,null,null,null,"変更後",null,{"$f":"IF(事業変更申請書!L163<>\"\",事業変更申請書!L163,\"\")","v":0},null,null,{"$f":"IF(事業変更申請書!O163<>\"\",事業変更申請書!O163,\"\")","v":""},null,null,null,null,null,null,{"$f":"IF(事業変更申請書!V163<>\"\",事業変更申請書!V163,\"\")","v":""},null,{"$f":"IF(事業変更申請書!X163<>\"\",事業変更申請書!X163,\"\")","v":""},null,{"$f":"IF(事業変更申請書!Z163<>\"\",事業変更申請書!Z163,\"\")","v":""},null,null,null,null,{"$f":"IF(AND(C162=\"\",F162=\"\",O162=\"\",V162=\"\",X162=\"\",Z162=\"\",O163=\"\",V163=\"\",X163=\"\",Z163=\"\"),0,1)","v":0}]
[null,null,{"$f":"IF(事業変更申請書!C164<>\"\",事業変更申請書!C164,\"\")","v":""},null,null,{"$f":"IF(事業変更申請書!F164<>\"\",事業変更申請書!F164,\"\")","v":""},null,null,null,"変更前",null,{"$f":"IF(事業変更申請書!L164<>\"\",事業変更申請書!L164,\"\")","v":0},null,null,{"$f":"IF(事業変更申請書!O164<>\"\",事業変更申請書!O164,\"\")","v":""},null,null,null,null,null,null,{"$f":"IF(事業変更申請書!V164<>\"\",事業変更申請書!V164,\"\")","v":""},null,{"$f":"IF(事業変更申請書!X164<>\"\",事業変更申請書!X164,\"\")","v":""},null,{"$f":"IF(事業変更申請書!Z164<>\"\",事業変更申請書!Z164,\"\")","v":""},null,null,null,null,{"$f":"IF(AND(C164=\"\",F164=\"\",O164=\"\",V164=\"\",X164=\"\",Z164=\"\",O165=\"\",V165=\"\",X165=\"\",Z165=\"\"),0,1)","v":0}]
[null,null,null,null,null,null,null,null,null,"変更後",null,{"$f":"IF(事業変更申請書!L165<>\"\",事業変更申請書!L165,\"\")","v":0},null,null,{"$f":"IF(事業変更申請書!O165<>\"\",事業変更申請書!O165,\"\")","v":""},null,null,null,null,null,null,{"$f":"IF(事業変更申請書!V165<>\"\",事業変更申請書!V165,\"\")","v":""},null,{"$f":"IF(事業変更申請書!X165<>\"\",事業変更申請書!X165,\"\")","v":""},null,{"$f":"IF(事業変更申請書!Z165<>\"\",事業変更申請書!Z165,\"\")","v":""},null,null,null,null,{"$f":"IF(AND(C164=\"\",F164=\"\",O164=\"\",V164=\"\",X164=\"\",Z164=\"\",O165=\"\",V165=\"\",X165=\"\",Z165=\"\"),0,1)","v":0}]
[null,null,{"$f":"IF(事業変更申請書!C166<>\"\",事業変更申請書!C166,\"\")","v":""},null,null,{"$f":"IF(事業変更申請書!F166<>\"\",事業変更申請書!F166,\"\")","v":""},null,null,null,"変更前",null,{"$f":"IF(事業変更申請書!L166<>\"\",事業変更申請書!L166,\"\")","v":0},null,null,{"$f":"IF(事業変更申請書!O166<>\"\",事業変更申請書!O166,\"\")","v":""},null,null,null,null,null,null,{"$f":"IF(事業変更申請書!V166<>\"\",事業変更申請書!V166,\"\")","v":""},null,{"$f":"IF(事業変更申請書!X166<>\"\",事業変更申請書!X166,\"\")","v":""},null,{"$f":"IF(事業変更申請書!Z166<>\"\",事業変更申請書!Z166,\"\")","v":""},null,null,null,null,{"$f":"IF(AND(C166=\"\",F166=\"\",O166=\"\",V166=\"\",X166=\"\",Z166=\"\",O167=\"\",V167=\"\",X167=\"\",Z167=\"\"),0,1)","v":0}]
[null,null,null,null,null,null,null,null,null,"変更後",null,{"$f":"IF(事業変更申請書!L167<>\"\",事業変更申請書!L167,\"\")","v":0},null,null,{"$f":"IF(事業変更申請書!O167<>\"\",事業変更申請書!O167,\"\")","v":""},null,null,null,null,null,null,{"$f":"IF(事業変更申請書!V167<>\"\",事業変更申請書!V167,\"\")","v":""},null,{"$f":"IF(事業変更申請書!X167<>\"\",事業変更申請書!X167,\"\")","v":""},null,{"$f":"IF(事業変更申請書!Z167<>\"\",事業変更申請書!Z167,\"\")","v":""},null,null,null,null,{"$f":"IF(AND(C166=\"\",F166=\"\",O166=\"\",V166=\"\",X166=\"\",Z166=\"\",O167=\"\",V167=\"\",X167=\"\",Z167=\"\"),0,1)","v":0}]
[null,null,{"$f":"IF(事業変更申請書!C168<>\"\",事業変更申請書!C168,\"\")","v":""},null,null,{"$f":"IF(事業変更申請書!F168<>\"\",事業変更申請書!F168,\"\")","v":""},null,null,null,"変更前",null,{"$f":"IF(事業変更申請書!L168<>\"\",事業変更申請書!L168,\"\")","v":0},null,null,{"$f":"IF(事業変更申請書!O168<>\"\",事業変更申請書!O168,\"\")","v":""},null,null,null,null,null,null,{"$f":"IF(事業変更申請書!V168<>\"\",事業変更申請書!V168,\"\")","v":""},null,{"$f":"IF(事業変更申請書!X168<>\"\",事業変更申請書!X168,\"\")","v":""},null,{"$f":"IF(事業変更申請書!Z168<>\"\",事業変更申請書!Z168,\"\")","v":""},null,null,null,null,{"$f":"IF(AND(C168=\"\",F168=\"\",O168=\"\",V168=\"\",X168=\"\",Z168=\"\",O169=\"\",V169=\"\",X169=\"\",Z169=\"\"),0,1)","v":0}]
[null,null,null,null,null,null,null,null,null,"変更後",null,{"$f":"IF(事業変更申請書!L169<>\"\",事業変更申請書!L169,\"\")","v":0},null,null,{"$f":"IF(事業変更申請書!O169<>\"\",事業変更申請書!O169,\"\")","v":""},null,null,null,null,null,null,{"$f":"IF(事業変更申請書!V169<>\"\",事業変更申請書!V169,\"\")","v":""},null,{"$f":"IF(事業変更申請書!X169<>\"\",事業変更申請書!X169,\"\")","v":""},null,{"$f":"IF(事業変更申請書!Z169<>\"\",事業変更申請書!Z169,\"\")","v":""},null,null,null,null,{"$f":"IF(AND(C168=\"\",F168=\"\",O168=\"\",V168=\"\",X168=\"\",Z168=\"\",O169=\"\",V169=\"\",X169=\"\",Z169=\"\"),0,1)","v":0}]
[null,null,{"$f":"IF(事業変更申請書!C170<>\"\",事業変更申請書!C170,\"\")","v":""},null,null,{"$f":"IF(事業変更申請書!F170<>\"\",事業変更申請書!F170,\"\")","v":""},null,null,null,"変更前",null,{"$f":"IF(事業変更申請書!L170<>\"\",事業変更申請書!L170,\"\")","v":0},null,null,{"$f":"IF(事業変更申請書!O170<>\"\",事業変更申請書!O170,\"\")","v":""},null,null,null,null,null,null,{"$f":"IF(事業変更申請書!V170<>\"\",事業変更申請書!V170,\"\")","v":""},null,{"$f":"IF(事業変更申請書!X170<>\"\",事業変更申請書!X170,\"\")","v":""},null,{"$f":"IF(事業変更申請書!Z170<>\"\",事業変更申請書!Z170,\"\")","v":""},null,null,null,null,{"$f":"IF(AND(C170=\"\",F170=\"\",O170=\"\",V170=\"\",X170=\"\",Z170=\"\",O171=\"\",V171=\"\",X171=\"\",Z171=\"\"),0,1)","v":0}]
[null,null,null,null,null,null,null,null,null,"変更後",null,{"$f":"IF(事業変更申請書!L171<>\"\",事業変更申請書!L171,\"\")","v":0},null,null,{"$f":"IF(事業変更申請書!O171<>\"\",事業変更申請書!O171,\"\")","v":""},null,null,null,null,null,null,{"$f":"IF(事業変更申請書!V171<>\"\",事業変更申請書!V171,\"\")","v":""},null,{"$f":"IF(事業変更申請書!X171<>\"\",事業変更申請書!X171,\"\")","v":""},null,{"$f":"IF(事業変更申請書!Z171<>\"\",事業変更申請書!Z171,\"\")","v":""},null,null,null,null,{"$f":"IF(AND(C170=\"\",F170=\"\",O170=\"\",V170=\"\",X170=\"\",Z170=\"\",O171=\"\",V171=\"\",X171=\"\",Z171=\"\"),0,1)","v":0}]
[null,null,"小計",null,null,null,null,null,null,"変更前",null,{"$f":"IF(事業変更申請書!L172<>\"\",事業変更申請書!L172,\"\")","v":0},null,null,null,null,null,null,null,null,null,null,null,null,null,null,null,null,null,null,2]
[null,null,null,null,null,null,null,null,null,"変更後",null,{"$f":"IF(事業変更申請書!L173<>\"\",事業変更申請書!L173,\"\")","v":0}]
[]
[null,null,"支出の部合計",null,null,null,null,null,null,"変更前",null,{"$f":"IF(事業変更申請書!L175<>\"\",事業変更申請書!L175,\"\")","v":0}]
[null,null,null,null,null,null,null,null,null,"変更後",null,{"$f":"IF(事業変更申請書!L176<>\"\",事業変更申請書!L176,\"\")","v":0}]
[]
[null,null,"（注）　１　上段に当初計画を記載し、変更前と変更後の内容が容易に対比できるように作成する。"]
[null,null,"　　　　２　変更設計書などがあれば添付する。"]
[]
[]
[null,null,null,null,"地区緑推\n経由",null,null,null,null,null,null,null,null,null,null,"市町村進達"]
[null,"名称",null,null,{"$f":"IF(事業変更申請書!E183<>\"\",事業変更申請書!E183,\"\")","v":""},null,null,null,null,null,null,null,null,null,null,{"$f":"IF(事業変更申請書!P183<>\"\",事業変更申請書!P183,\"\")","v":""}]
[null,"年月日",null,null,"令和",null,{"$f":"IF(事業変更申請書!G184<>\"\",事業変更申請書!G184,\"\")","v":""},null,"年",{"$f":"IF(事業変更申請書!J184<>\"\",事業変更申請書!J184,\"\")","v":""},null,"月",{"$f":"IF(事業変更申請書!M184<>\"\",事業変更申請書!M184,\"\")","v":""},null,"日","令和",null,{"$f":"IF(事業変更申請書!R184<>\"\",事業変更申請書!R184,\"\")","v":""},null,"年",{"$f":"IF(事業変更申請書!U184<>\"\",事業変更申請書!U184,\"\")","v":""},null,"月",{"$f":"IF(事業変更申請書!X184<>\"\",事業変更申請書!X184,\"\")","v":""},null,"日"]
[null,"文書番号",null,null,{"$f":"IF(事業変更申請書!E185<>\"\",事業変更申請書!E185,\"\")","v":""},null,null,null,null,null,"第",{"$f":"IF(事業変更申請書!L185<>\"\",事業変更申請書!L185,\"\")","v":""},null,null,"号",{"$f":"IF(事業変更申請書!P185<>\"\",事業変更申請書!P185,\"\")","v":""},null,null,null,null,null,{"$f":"IF(事業変更申請書!V185<>\"\",事業変更申請書!V185,\"\")","v":"第"},{"$f":"IF(事業変更申請書!W185<>\"\",事業変更申請書!W185,\"\")","v":""},null,null,"号"]

{"sheet":"交付金交付請求書","index":4,"n_rows":127,"n_cols":33,"rows_kept":127,"cut":false,"hidden":false,"merged":[[126,2,126,4],[126,5,126,10],[126,12,126,14],[126,16,126,21],[126,23,126,25],[93,10,94,12],[38,10,39,12],[28,2,29,10],[28,11,29,14],[120,2,120,6],[120,7,120,26],[123,2,123,4],[123,5,123,15],[123,16,123,26],[124,2,124,4],[124,5,124,15],[124,16,124,26],[125,2,125,4],[125,5,125,6],[125,7,125,8],[125,10,125,11],[125,13,125,14],[125,16,125,17],[125,18,125,19],[125,21,125,22],[125,24,125,25],[107,2,107,9],[107,10,107,12],[114,2,114,3],[114,4,114,5],[114,7,114,8],[114,10,114,11],[118,2,118,6],[118,7,118,26],[119,2,119,6],[119,7,119,26],[104,2,104,4],[104,5,104,9],[104,10,104,12],[104,13,104,20],[104,21,104,22],[104,23,104,24],[104,25,104,26],[105,2,105,9],[105,10,105,12],[102,2,102,4],[102,5,102,9],[102,10,102,12],[102,13,102,20],[102,21,102,22],[102,23,102,24],[102,25,102,26],[103,2,103,4],[103,5,103,9],[103,10,103,12],[103,13,103,20],[103,21,103,22],[103,23,103,24],[103,25,103,26],[100,2,100,4],[100,5,100,9],[100,10,100,12],[100,13,100,20],[100,21,100,22],[100,23,100,24],[100,25,100,26],[101,2,101,4],[101,5,101,9],[101,10,101,12],[101,13,101,20],[101,21,101,22],[101,23,101,24],[101,25,101,26],[98,2,98,4],[98,5,98,9],[98,10,98,12],[98,13,98,20],[98,21,98,22],[98,23,98,24],[98,25,98,26],[99,2,99,4],[99,5,99,9],[99,10,99,12],[99,13,99,20],[99,21,99,22],[99,23,99,24],[99,25,99,26],[96,2,96,4],[96,5,96,9],[96,10,96,12],[96,13,96,20],[96,21,96,22],[96,23,96,24],[96,25,96,26],[97,2,97,4],[97,5,97,9],[97,10,97,12],[97,13,97,20],[97,21,97,22],[97,23,97,24],[97,25,97,26],[93,2,93,9],[93,13,93,26],[94,2,94,4],[94,5,94,9],[94,13,94,20],[94,21,94,22],[94,23,94,24],[94,25,94,26],[95,2,95,4],[95,5,95,9],[95,10,95,12],[95,13,95,20],[95,21,95,22],[95,23,95,24],[95,25,95,26],[89,2,89,4],[89,5,89,9],[89,10,89,12],[89,13,89,20],[89,21,89,22],[89,23,89,24],[89,25,89,26],[90,2,90,9],[90,10,90,12],[87,2,87,4],[87,5,87,9],[87,10,87,12],[87,13,87,20],[87,21,87,22],[87,23,87,24],[87,25,87,26],[88,2,88,4],[88,5,88,9],[88,10,88,12],[88,13,88,20],[88,21,88,22],[88,23,88,24],[88,25,88,26],[85,2,85,4],[85,5,85,9],[85,10,85,12],[85,13,85,20],[85,21,85,22],[85,23,85,24],[85,25,85,26],[86,2,86,4],[86,5,86,9],[86,10,86,12],[86,13,86,20],[86,21,86,22],[86,23,86,24],[86,25,86,26],[83,2,83,4],[83,5,83,9],[83,10,83,12],[83,13,83,20],[83,21,83,22],[83,23,83,24],[83,25,83,26],[84,2,84,4],[84,5,84,9],[84,10,84,12],[84,13,84,20],[84,21,84,22],[84,23,84,24],[84,25,84,26],[81,2,81,4],[81,5,81,9],[81,10,81,12],[81,13,81,20],[81,21,81,22],[81,23,81,24],[81,25,81,26],[82,2,82,4],[82,5,82,9],[82,10,82,12],[82,13,82,20],[82,21,82,22],[82,23,82,24],[82,25,82,26],[79,2,79,4],[79,5,79,9],[79,10,79,12],[79,13,79,20],[79,21,79,22],[79,23,79,24],[79,25,79,26],[80,2,80,4],[80,5,80,9],[80,10,80,12],[80,13,80,20],[80,21,80,22],[80,23,80,24],[80,25,80,26],[77,2,77,4],[77,5,77,9],[77,10,77,12],[77,13,77,20],[77,21,77,22],[77,23,77,24],[77,25,77,26],[78,2,78,4],[78,5,78,9],[78,10,78,12],[78,13,78,20],[78,21,78,22],[78,23,78,24],[78,25,78,26],[75,2,75,4],[75,5,75,9],[75,10,75,12],[75,13,75,20],[75,21,75,22],[75,23,75,24],[75,25,75,26],[76,2,76,4],[76,5,76,9],[76,10,76,12],[76,13,76,20],[76,21,76,22],[76,23,76,24],[76,25,76,26],[73,2,73,4],[73,5,73,9],[73,10,73,12],[73,13,73,20],[73,21,73,22],[73,23,73,24],[73,25,73,26],[74,2,74,4],[74,5,74,9],[74,10,74,12],[74,13,74,20],[74,21,74,22],[74,23,74,24],[74,25,74,26],[71,2,71,4],[71,5,71,9],[71,10,71,12],[71,13,71,20],[71,21,71,22],[71,23,71,24],[71,25,71,26],[72,2,72,4],[72,5,72,9],[72,10,72,12],[72,13,72,20],[72,21,72,22],[72,23,72,24],[72,25,72,26],[69,2,69,4],[69,5,69,9],[69,10,69,12],[69,13,69,20],[69,21,69,22],[69,23,69,24],[69,25,69,26],[70,2,70,4],[70,5,70,9],[70,10,70,12],[70,13,70,20],[70,21,70,22],[70,23,70,24],[70,25,70,26],[67,2,67,4],[67,5,67,9],[67,10,67,12],[67,13,67,20],[67,21,67,22],[67,23,67,24],[67,25,67,26],[68,2,68,4],[68,5,68,9],[68,10,68,12],[68,13,68,20],[68,21,68,22],[68,23,68,24],[68,25,68,26],[65,2,65,4],[65,5,65,9],[65,10,65,12],[65,13,65,20],[65,21,65,22],[65,23,65,24],[65,25,65,26],[66,2,66,4],[66,5,66,9],[66,10,66,12],[66,13,66,20],[66,21,66,22],[66,23,66,24],[66,25,66,26],[63,2,63,4],[63,5,63,9],[63,10,63,12],[63,13,63,20],[63,21,63,22],[63,23,63,24],[63,25,63,26],[64,2,64,4],[64,5,64,9],[64,10,64,12],[64,13,64,20],[64,21,64,22],[64,23,64,24],[64,25,64,26],[61,2,61,4],[61,5,61,9],[61,10,61,12],[61,13,61,20],[61,21,61,22],[61,23,61,24],[61,25,61,26],[62,2,62,4],[62,5,62,9],[62,10,62,12],[62,13,62,20],[62,21,62,22],[62,23,62,24],[62,25,62,26],[59,2,59,4],[59,5,59,9],[59,10,59,12],[59,13,59,20],[59,21,59,22],[59,23,59,24],[59,25,59,26],[60,2,60,4],[60,5,60,9],[60,10,60,12],[60,13,60,20],[60,21,60,22],[60,23,60,24],[60,25,60,26],[57,2,57,4],[57,5,57,9],[57,10,57,12],[57,13,57,20],[57,21,57,22],[57,23,57,24],[57,25,57,26],[58,2,58,4],[58,5,58,9],[58,10,58,12],[58,13,58,20],[58,21,58,22],[58,23,58,24],[58,25,58,26],[55,2,55,4],[55,5,55,9],[55,10,55,12],[55,13,55,20],[55,21,55,22],[55,23,55,24],[55,25,55,26],[56,2,56,4],[56,5,56,9],[56,10,56,12],[56,13,56,20],[56,21,56,22],[56,23,56,24],[56,25,56,26],[53,2,53,4],[53,5,53,9],[53,10,53,12],[53,13,53,20],[53,21,53,22],[53,23,53,24],[53,25,53,26],[54,2,54,4],[54,5,54,9],[54,10,54,12],[54,13,54,20],[54,21,54,22],[54,23,54,24],[54,25,54,26],[51,2,51,4],[51,5,51,9],[51,10,51,12],[51,13,51,20],[51,21,51,22],[51,23,51,24],[51,25,51,26],[52,2,52,4],[52,5,52,9],[52,10,52,12],[52,13,52,20],[52,21,52,22],[52,23,52,24],[52,25,52,26],[49,2,49,4],[49,5,49,9],[49,10,49,12],[49,13,49,20],[49,21,49,22],[49,23,49,24],[49,25,49,26],[50,2,50,4],[50,5,50,9],[50,10,50,12],[50,13,50,20],[50,21,50,22],[50,23,50,24],[50,25,50,26],[47,2,47,4],[47,5,47,9],[47,10,47,12],[47,13,47,20],[47,21,47,22],[47,23,47,24],[47,25,47,26],[48,2,48,4],[48,5,48,9],[48,10,48,12],[48,13,48,20],[48,21,48,22],[48,23,48,24],[48,25,48,26],[45,2,45,4],[45,5,45,9],[45,10,45,12],[45,13,45,20],[45,21,45,22],[45,23,45,24],[45,25,45,26],[46,2,46,4],[46,5,46,9],[46,10,46,12],[46,13,46,20],[46,21,46,22],[46,23,46,24],[46,25,46,26],[43,2,43,4],[43,5,43,9],[43,10,43,12],[43,13,43,20],[43,21,43,22],[43,23,43,24],[43,25,43,26],[44,2,44,4],[44,5,44,9],[44,10,44,12],[44,13,44,20],[44,21,44,22],[44,23,44,24],[44,25,44,26],[41,2,41,4],[41,5,41,9],[41,10,41,12],[41,13,41,20],[41,21,41,22],[41,23,41,24],[41,25,41,26],[42,2,42,4],[42,5,42,9],[42,10,42,12],[42,13,42,20],[42,21,42,22],[42,23,42,24],[42,25,42,26],[38,2,38,9],[38,13,38,26],[39,2,39,4],[39,5,39,9],[39,13,39,20],[39,21,39,22],[39,23,39,24],[39,25,39,26],[40,2,40,4],[40,5,40,9],[40,10,40,12],[40,13,40,20],[40,21,40,22],[40,23,40,24],[40,25,40,26],[33,2,33,10],[33,11,33,14],[33,15,33,18],[33,19,33,22],[33,23,33,26],[34,2,34,10],[34,11,34,14],[34,15,34,18],[34,19,34,22],[34,23,34,26],[31,2,31,10],[31,11,31,14],[31,15,31,18],[31,19,31,22],[31,23,31,26],[32,2,32,10],[32,11,32,14],[32,15,32,18],[32,19,32,22],[32,23,32,26],[17,1,17,26],[21,2,21,14],[21,17,21,25],[24,3,24,8],[28,15,28,26],[29,15,29,18],[29,19,29,22],[29,23,29,26],[30,2,30,10],[30,11,30,14],[30,15,30,18],[30,19,30,22],[30,23,30,26],[9,17,9,18],[9,20,9,22],[10,16,10,26],[11,16,11,26],[12,16,12,26],[14,1,14,26],[16,2,16,3],[16,4,16,5],[16,7,16,8],[16,10,16,11],[16,14,16,18],[16,20,16,23],[3,16,3,20],[3,22,3,25],[4,16,4,17],[4,18,4,19],[4,21,4,22],[4,24,4,25],[5,1,5,26],[7,1,7,2],[7,3,7,7]]}
[]
[]
["第4号様式"]
[null,null,null,null,null,null,null,null,null,null,null,null,null,null,null,null,null,null,null,null,null,"第",null,null,null,null,"号"]
[null,null,null,null,null,null,null,null,null,null,null,null,null,null,null,null,"令和",null,null,null,"年",null,null,"月",null,null,"日"]
[null,"（公財）山梨県緑化推進機構",null,null,null,null,null,null,null,null,null,null,null,null,null,null,null,null,null,null,null,null,null,null,null,null,null,null,null,null,null,null,"※事業認定申請書の情報が反映されます"]
[null,null,null,null,null,null,null,null,null,null,null,null,null,null,null,null,null,null,null,null,null,null,null,null,null,null,null,null,null,null,null,null,"※事業名に値が入力されている場合、情報の反映は実行されませんので注意してください"]
[null,"代表理事",null,"鷹野　裕司",null,null,null,null,"殿"]
[null,null,null,null,null,null,null,null,null,null,null,null,null,null,null,"（被交付者）"]
[null,null,null,null,null,null,null,null,null,null,null,null,null,null,null,null,"〒",null,null,"－"]
[null,null,null,null,null,null,null,null,null,null,null,null,null,null,null,null,"[住所]"]
[null,null,null,null,null,null,null,null,null,null,null,null,null,null,null,null,"[法人・団体の名称]"]
[null,null,null,null,null,null,null,null,null,null,null,null,null,null,null,null,"[代表者役職名・氏名]"]
[]
[null,"令和８年度　緑の募金事業交付金交付請求書"]
[]
[null,null,"令和",null,null,null,"年",null,null,"月",null,null,"日付け",null,null,null,null,null,null,"第",null,null,null,null,"号","で"]
[null,"交付決定のあった緑の募金事業について、次により交付金を請求します。"]
[]
[null,"１　事業名"]
[null,null,"（注）事業名ごとに申請書を作成してください。"]
[]
[]
[null,"２　交付金請求額"]
[null,null,"金",null,null,null,null,null,null,"円"]
[]
[null,"３　資金計画"]
[null,null,"（収入の部）"]
[null,null,"区　　分",null,null,null,null,null,null,null,null,"予算額（円）",null,null,null,"収　入　区　分　（円）"]
[null,null,null,null,null,null,null,null,null,null,null,null,null,null,null,"緑の募金交付金",null,null,null,"その他助成金",null,null,null,"自 己 資 金"]
[null,null,{"$f":"IF($C$22<>\"\",VLOOKUP($C$22,事業一覧!A:C,3,FALSE),\"\")","v":""},null,null,null,null,null,null,null,null,{"$f":"SUM(P31:AA31)","v":0}]
[null,null,null,null,null,null,null,null,null,null,null,{"$f":"SUM(P32:AA32)","v":0}]
[null,null,null,null,null,null,null,null,null,null,null,0]
[null,null,null,null,null,null,null,null,null,null,null,0]
[null,null,"計",null,null,null,null,null,null,null,null,{"$f":"SUM(L31:O34)","v":0},null,null,null,{"$f":"SUM(P31:S34)","v":0},null,null,null,{"$f":"SUM(T31:W34)","v":0},null,null,null,{"$f":"SUM(X31:AA34)","v":0}]
[null,null,"（注）　・区分欄は事業内容の異なるごとに区分して記載する。"]
[]
[null,null,"（支出の部）　交付対象経費"]
[null,null,"経　費　区　分",null,null,null,null,null,null,null,"予算額（円）",null,null,"支　出　内　容　（円）"]
[null,null,"科　目",null,null,"区　　分",null,null,null,null,null,null,null,"内容名",null,null,null,null,null,null,null,"単価",null,"数量",null,"単位"]
[null,null,null,null,null,null,null,null,null,null,{"$f":"V41*X41","v":0}]
[null,null,null,null,null,null,null,null,null,null,{"$f":"V42*X42","v":0}]
[null,null,null,null,null,null,null,null,null,null,0]
[null,null,null,null,null,null,null,null,null,null,0]
[null,null,null,null,null,null,null,null,null,null,0]
[null,null,null,null,null,null,null,null,null,null,0]
[null,null,null,null,null,null,null,null,null,null,0]
[null,null,null,null,null,null,null,null,null,null,0]
[null,null,null,null,null,null,null,null,null,null,0]
[null,null,null,null,null,null,null,null,null,null,0]
[null,null,null,null,null,null,null,null,null,null,0]
[null,null,null,null,null,null,null,null,null,null,0]
[null,null,null,null,null,null,null,null,null,null,0]
[null,null,null,null,null,null,null,null,null,null,0]
[null,null,null,null,null,null,null,null,null,null,0]
[null,null,null,null,null,null,null,null,null,null,0]
[null,null,null,null,null,null,null,null,null,null,0]
[null,null,null,null,null,null,null,null,null,null,0]
[null,null,null,null,null,null,null,null,null,null,0]
[null,null,null,null,null,null,null,null,null,null,0]
[null,null,null,null,null,null,null,null,null,null,0]
[null,null,null,null,null,null,null,null,null,null,0]
[null,null,null,null,null,null,null,null,null,null,0]
[null,null,null,null,null,null,null,null,null,null,0]
[null,null,null,null,null,null,null,null,null,null,0]
[null,null,null,null,null,null,null,null,null,null,0]
[null,null,null,null,null,null,null,null,null,null,0]
[null,null,null,null,null,null,null,null,null,null,0]
[null,null,null,null,null,null,null,null,null,null,0]
[null,null,null,null,null,null,null,null,null,null,0]
[null,null,null,null,null,null,null,null,null,null,0]
[null,null,null,null,null,null,null,null,null,null,0]
[null,null,null,null,null,null,null,null,null,null,0]
[null,null,null,null,null,null,null,null,null,null,0]
[null,null,null,null,null,null,null,null,null,null,0]
[null,null,null,null,null,null,null,null,null,null,0]
[null,null,null,null,null,null,null,null,null,null,0]
[null,null,null,null,null,null,null,null,null,null,0]
[null,null,null,null,null,null,null,null,null,null,0]
[null,null,null,null,null,null,null,null,null,null,0]
[null,null,null,null,null,null,null,null,null,null,0]
[null,null,null,null,null,null,null,null,null,null,0]
[null,null,null,null,null,null,null,null,null,null,0]
[null,null,null,null,null,null,null,null,null,null,0]
[null,null,null,null,null,null,null,null,null,null,0]
[null,null,null,null,null,null,null,null,null,null,0]
[null,null,null,null,null,null,null,null,null,null,0]
[null,null,null,null,null,null,null,null,null,null,0]
[null,null,null,null,null,null,null,null,null,null,0]
[null,null,null,null,null,null,null,null,null,null,0]
[null,null,"小計",null,null,null,null,null,null,null,{"$f":"SUM(K41:M90)","v":0}]
[]
[null,null,"（支出の部）　対象外経費"]
[null,null,"経　費　区　分",null,null,null,null,null,null,null,"予算額（円）",null,null,"支　出　内　容　（円）"]
[null,null,"科　目",null,null,"区　　分",null,null,null,null,null,null,null,"内容名",null,null,null,null,null,null,null,"単価",null,"数量",null,"単位"]
[null,null,null,null,null,null,null,null,null,null,{"$f":"V96*X96","v":0}]
[null,null,null,null,null,null,null,null,null,null,{"$f":"V97*X97","v":0}]
[null,null,null,null,null,null,null,null,null,null,0]
[null,null,null,null,null,null,null,null,null,null,0]
[null,null,null,null,null,null,null,null,null,null,0]
[null,null,null,null,null,null,null,null,null,null,0]
[null,null,null,null,null,null,null,null,null,null,0]
[null,null,null,null,null,null,null,null,null,null,0]
[null,null,null,null,null,null,null,null,null,null,0]
[null,null,null,null,null,null,null,null,null,null,0]
[null,null,"小計",null,null,null,null,null,null,null,{"$f":"SUM(K96:M105)","v":0}]
[]
[null,null,"支出の部合計",null,null,null,null,null,null,null,{"$f":"K91+K106","v":0},null,null,null,{"$f":"IF(L35<>K108,\"※「収入の部計」と「支出の部計」の値が異なっています\",\"\")","v":""}]
[]
[null,null,"（注）　・経費区分欄は、交付対象経費、対象外経費に分けて記載する。ただし、交付対象外経"]
[null,null,"　　　　　費のない場合は交付対象外経費欄を省略して差し支えない。"]
[null,null,"　　　　・支出内容は数量、規模、単価等の積算根拠等を記載する。"]
[]
[null,"４　交付希望時期"]
[null,null,"令和",null,null,null,"年",null,null,"月",null,null,"日"]
[null,null,"（注） 交付金の資金状況から遅れて交付することがある。"]
[]
[null,"５　振込先"]
[null,null,"銀行名・支店名"]
[null,null,"口座番号"]
[null,null,"口座名義人"]
[null,null,{"$f":"IF(COUNTIF(請求_銀行名,\"*山梨中央銀行*\")=0,IF(請求_銀行名<>\"\",\"※通帳の口座名（フリガナ付）が分かるページのコピーを添付すること\",\"\"),\"\")","v":""}]
[null,null,"※以下事務局使用欄（申請者には入力不要です）"]
[null,null,null,null,null,"地区緑推\n経由",null,null,null,null,null,null,null,null,null,null,"市町村進達"]
[null,null,"名称"]
[null,null,"年月日",null,null,"令和",null,null,null,"年",null,null,"月",null,null,"日","令和",null,null,null,"年",null,null,"月",null,null,"日"]
[null,null,"文書番号",null,null,{"$f":"IF(F125<>\"\",VLOOKUP(F125,地区緑推一覧!A:C,3,FALSE),\"\")","v":""},null,null,null,null,null,"第",null,null,null,"号",null,null,null,null,null,null,"第",null,null,null,"号"]

{"sheet":"【印刷】交付金交付請求書","index":5,"n_rows":127,"n_cols":31,"rows_kept":127,"cut":false,"hidden":false,"merged":[[126,2,126,4],[126,5,126,10],[126,12,126,14],[126,16,126,21],[126,23,126,25],[28,2,29,10],[28,11,29,14],[38,10,39,12],[93,10,94,12],[120,2,120,6],[120,7,120,26],[123,2,123,4],[123,5,123,15],[123,16,123,26],[124,2,124,4],[124,5,124,15],[124,16,124,26],[125,2,125,4],[125,5,125,6],[125,7,125,8],[125,10,125,11],[125,13,125,14],[125,16,125,17],[125,18,125,19],[125,21,125,22],[125,24,125,25],[107,2,107,9],[107,10,107,12],[114,2,114,3],[114,4,114,5],[114,7,114,8],[114,10,114,11],[118,2,118,6],[118,7,118,26],[119,2,119,6],[119,7,119,26],[104,2,104,4],[104,5,104,9],[104,10,104,12],[104,13,104,20],[104,21,104,22],[104,23,104,24],[104,25,104,26],[105,2,105,9],[105,10,105,12],[105,13,105,26],[102,2,102,4],[102,5,102,9],[102,10,102,12],[102,13,102,20],[102,21,102,22],[102,23,102,24],[102,25,102,26],[103,2,103,4],[103,5,103,9],[103,10,103,12],[103,13,103,20],[103,21,103,22],[103,23,103,24],[103,25,103,26],[100,2,100,4],[100,5,100,9],[100,10,100,12],[100,13,100,20],[100,21,100,22],[100,23,100,24],[100,25,100,26],[101,2,101,4],[101,5,101,9],[101,10,101,12],[101,13,101,20],[101,21,101,22],[101,23,101,24],[101,25,101,26],[98,2,98,4],[98,5,98,9],[98,10,98,12],[98,13,98,20],[98,21,98,22],[98,23,98,24],[98,25,98,26],[99,2,99,4],[99,5,99,9],[99,10,99,12],[99,13,99,20],[99,21,99,22],[99,23,99,24],[99,25,99,26],[96,2,96,4],[96,5,96,9],[96,10,96,12],[96,13,96,20],[96,21,96,22],[96,23,96,24],[96,25,96,26],[97,2,97,4],[97,5,97,9],[97,10,97,12],[97,13,97,20],[97,21,97,22],[97,23,97,24],[97,25,97,26],[93,2,93,9],[93,13,93,26],[94,2,94,4],[94,5,94,9],[94,13,94,20],[94,21,94,22],[94,23,94,24],[94,25,94,26],[95,2,95,4],[95,5,95,9],[95,10,95,12],[95,13,95,20],[95,21,95,22],[95,23,95,24],[95,25,95,26],[89,2,89,4],[89,5,89,9],[89,10,89,12],[89,13,89,20],[89,21,89,22],[89,23,89,24],[89,25,89,26],[90,2,90,9],[90,10,90,12],[90,13,90,26],[87,2,87,4],[87,5,87,9],[87,10,87,12],[87,13,87,20],[87,21,87,22],[87,23,87,24],[87,25,87,26],[88,2,88,4],[88,5,88,9],[88,10,88,12],[88,13,88,20],[88,21,88,22],[88,23,88,24],[88,25,88,26],[85,2,85,4],[85,5,85,9],[85,10,85,12],[85,13,85,20],[85,21,85,22],[85,23,85,24],[85,25,85,26],[86,2,86,4],[86,5,86,9],[86,10,86,12],[86,13,86,20],[86,21,86,22],[86,23,86,24],[86,25,86,26],[83,2,83,4],[83,5,83,9],[83,10,83,12],[83,13,83,20],[83,21,83,22],[83,23,83,24],[83,25,83,26],[84,2,84,4],[84,5,84,9],[84,10,84,12],[84,13,84,20],[84,21,84,22],[84,23,84,24],[84,25,84,26],[81,2,81,4],[81,5,81,9],[81,10,81,12],[81,13,81,20],[81,21,81,22],[81,23,81,24],[81,25,81,26],[82,2,82,4],[82,5,82,9],[82,10,82,12],[82,13,82,20],[82,21,82,22],[82,23,82,24],[82,25,82,26],[79,2,79,4],[79,5,79,9],[79,10,79,12],[79,13,79,20],[79,21,79,22],[79,23,79,24],[79,25,79,26],[80,2,80,4],[80,5,80,9],[80,10,80,12],[80,13,80,20],[80,21,80,22],[80,23,80,24],[80,25,80,26],[77,2,77,4],[77,5,77,9],[77,10,77,12],[77,13,77,20],[77,21,77,22],[77,23,77,24],[77,25,77,26],[78,2,78,4],[78,5,78,9],[78,10,78,12],[78,13,78,20],[78,21,78,22],[78,23,78,24],[78,25,78,26],[75,2,75,4],[75,5,75,9],[75,10,75,12],[75,13,75,20],[75,21,75,22],[75,23,75,24],[75,25,75,26],[76,2,76,4],[76,5,76,9],[76,10,76,12],[76,13,76,20],[76,21,76,22],[76,23,76,24],[76,25,76,26],[73,2,73,4],[73,5,73,9],[73,10,73,12],[73,13,73,20],[73,21,73,22],[73,23,73,24],[73,25,73,26],[74,2,74,4],[74,5,74,9],[74,10,74,12],[74,13,74,20],[74,21,74,22],[74,23,74,24],[74,25,74,26],[71,2,71,4],[71,5,71,9],[71,10,71,12],[71,13,71,20],[71,21,71,22],[71,23,71,24],[71,25,71,26],[72,2,72,4],[72,5,72,9],[72,10,72,12],[72,13,72,20],[72,21,72,22],[72,23,72,24],[72,25,72,26],[69,2,69,4],[69,5,69,9],[69,10,69,12],[69,13,69,20],[69,21,69,22],[69,23,69,24],[69,25,69,26],[70,2,70,4],[70,5,70,9],[70,10,70,12],[70,13,70,20],[70,21,70,22],[70,23,70,24],[70,25,70,26],[67,2,67,4],[67,5,67,9],[67,10,67,12],[67,13,67,20],[67,21,67,22],[67,23,67,24],[67,25,67,26],[68,2,68,4],[68,5,68,9],[68,10,68,12],[68,13,68,20],[68,21,68,22],[68,23,68,24],[68,25,68,26],[65,2,65,4],[65,5,65,9],[65,10,65,12],[65,13,65,20],[65,21,65,22],[65,23,65,24],[65,25,65,26],[66,2,66,4],[66,5,66,9],[66,10,66,12],[66,13,66,20],[66,21,66,22],[66,23,66,24],[66,25,66,26],[63,2,63,4],[63,5,63,9],[63,10,63,12],[63,13,63,20],[63,21,63,22],[63,23,63,24],[63,25,63,26],[64,2,64,4],[64,5,64,9],[64,10,64,12],[64,13,64,20],[64,21,64,22],[64,23,64,24],[64,25,64,26],[61,2,61,4],[61,5,61,9],[61,10,61,12],[61,13,61,20],[61,21,61,22],[61,23,61,24],[61,25,61,26],[62,2,62,4],[62,5,62,9],[62,10,62,12],[62,13,62,20],[62,21,62,22],[62,23,62,24],[62,25,62,26],[59,2,59,4],[59,5,59,9],[59,10,59,12],[59,13,59,20],[59,21,59,22],[59,23,59,24],[59,25,59,26],[60,2,60,4],[60,5,60,9],[60,10,60,12],[60,13,60,20],[60,21,60,22],[60,23,60,24],[60,25,60,26],[57,2,57,4],[57,5,57,9],[57,10,57,12],[57,13,57,20],[57,21,57,22],[57,23,57,24],[57,25,57,26],[58,2,58,4],[58,5,58,9],[58,10,58,12],[58,13,58,20],[58,21,58,22],[58,23,58,24],[58,25,58,26],[55,2,55,4],[55,5,55,9],[55,10,55,12],[55,13,55,20],[55,21,55,22],[55,23,55,24],[55,25,55,26],[56,2,56,4],[56,5,56,9],[56,10,56,12],[56,13,56,20],[56,21,56,22],[56,23,56,24],[56,25,56,26],[53,2,53,4],[53,5,53,9],[53,10,53,12],[53,13,53,20],[53,21,53,22],[53,23,53,24],[53,25,53,26],[54,2,54,4],[54,5,54,9],[54,10,54,12],[54,13,54,20],[54,21,54,22],[54,23,54,24],[54,25,54,26],[51,2,51,4],[51,5,51,9],[51,10,51,12],[51,13,51,20],[51,21,51,22],[51,23,51,24],[51,25,51,26],[52,2,52,4],[52,5,52,9],[52,10,52,12],[52,13,52,20],[52,21,52,22],[52,23,52,24],[52,25,52,26],[49,2,49,4],[49,5,49,9],[49,10,49,12],[49,13,49,20],[49,21,49,22],[49,23,49,24],[49,25,49,26],[50,2,50,4],[50,5,50,9],[50,10,50,12],[50,13,50,20],[50,21,50,22],[50,23,50,24],[50,25,50,26],[47,2,47,4],[47,5,47,9],[47,10,47,12],[47,13,47,20],[47,21,47,22],[47,23,47,24],[47,25,47,26],[48,2,48,4],[48,5,48,9],[48,10,48,12],[48,13,48,20],[48,21,48,22],[48,23,48,24],[48,25,48,26],[45,2,45,4],[45,5,45,9],[45,10,45,12],[45,13,45,20],[45,21,45,22],[45,23,45,24],[45,25,45,26],[46,2,46,4],[46,5,46,9],[46,10,46,12],[46,13,46,20],[46,21,46,22],[46,23,46,24],[46,25,46,26],[43,2,43,4],[43,5,43,9],[43,10,43,12],[43,13,43,20],[43,21,43,22],[43,23,43,24],[43,25,43,26],[44,2,44,4],[44,5,44,9],[44,10,44,12],[44,13,44,20],[44,21,44,22],[44,23,44,24],[44,25,44,26],[41,2,41,4],[41,5,41,9],[41,10,41,12],[41,13,41,20],[41,21,41,22],[41,23,41,24],[41,25,41,26],[42,2,42,4],[42,5,42,9],[42,10,42,12],[42,13,42,20],[42,21,42,22],[42,23,42,24],[42,25,42,26],[38,2,38,9],[38,13,38,26],[39,2,39,4],[39,5,39,9],[39,13,39,20],[39,21,39,22],[39,23,39,24],[39,25,39,26],[40,2,40,4],[40,5,40,9],[40,10,40,12],[40,13,40,20],[40,21,40,22],[40,23,40,24],[40,25,40,26],[33,2,33,10],[33,11,33,14],[33,15,33,18],[33,19,33,22],[33,23,33,26],[34,2,34,10],[34,11,34,14],[34,15,34,18],[34,19,34,22],[34,23,34,26],[31,2,31,10],[31,11,31,14],[31,15,31,18],[31,19,31,22],[31,23,31,26],[32,2,32,10],[32,11,32,14],[32,15,32,18],[32,19,32,22],[32,23,32,26],[17,1,17,26],[21,2,21,14],[21,17,21,25],[24,3,24,8],[28,15,28,26],[29,15,29,18],[29,19,29,22],[29,23,29,26],[30,2,30,10],[30,11,30,14],[30,15,30,18],[30,19,30,22],[30,23,30,26],[9,17,9,18],[9,20,9,22],[10,16,10,26],[11,16,11,26],[12,16,12,26],[14,1,14,26],[16,2,16,3],[16,4,16,5],[16,7,16,8],[16,10,16,11],[16,14,16,18],[16,20,16,23],[3,16,3,20],[3,22,3,25],[4,16,4,17],[4,18,4,19],[4,21,4,22],[4,24,4,25],[5,1,5,26],[7,1,7,2],[7,3,7,7]]}
[]
[]
["第4号様式"]
[null,null,null,null,null,null,null,null,null,null,null,null,null,null,null,null,{"$f":"IF(交付金交付請求書!Q4<>\"\",交付金交付請求書!Q4,\"\")","v":""},null,null,null,null,{"$f":"IF(交付金交付請求書!V4<>\"\",交付金交付請求書!V4,\"\")","v":"第"},{"$f":"IF(交付金交付請求書!W4<>\"\",交付金交付請求書!W4,\"\")","v":""},null,null,null,"号"]
[null,null,null,null,null,null,null,null,null,null,null,null,null,null,null,null,"令和",null,{"$f":"IF(交付金交付請求書!S5<>\"\",交付金交付請求書!S5,\"\")","v":""},null,"年",{"$f":"IF(交付金交付請求書!V5<>\"\",交付金交付請求書!V5,\"\")","v":""},null,"月",{"$f":"IF(交付金交付請求書!Y5<>\"\",交付金交付請求書!Y5,\"\")","v":""},null,"日"]
[null,"（公財）山梨県緑化推進機構"]
[]
[null,"代表理事",null,{"$f":"IF(交付金交付請求書!D8<>\"\",交付金交付請求書!D8,\"\")","v":"鷹野　裕司"},null,null,null,null,"殿"]
[null,null,null,null,null,null,null,null,null,null,null,null,null,null,null,"（申請者）"]
[null,null,null,null,null,null,null,null,null,null,null,null,null,null,null,null,"〒",{"$f":"IF(交付金交付請求書!R10<>\"\",交付金交付請求書!R10,\"\")","v":""},null,"－",{"$f":"IF(事業認定申請書!U10<>\"\",事業認定申請書!U10,\"\")","v":""}]
[null,null,null,null,null,null,null,null,null,null,null,null,null,null,null,null,{"$f":"IF(交付金交付請求書!Q11<>\"\",交付金交付請求書!Q11,\"\")","v":"[住所]"}]
[null,null,null,null,null,null,null,null,null,null,null,null,null,null,null,null,{"$f":"IF(交付金交付請求書!Q12<>\"\",交付金交付請求書!Q12,\"\")","v":"[法人・団体の名称]"}]
[null,null,null,null,null,null,null,null,null,null,null,null,null,null,null,null,{"$f":"IF(交付金交付請求書!Q13<>\"\",交付金交付請求書!Q13,\"\")","v":"[代表者役職名・氏名]"}]
[]
[null,"令和８年度　緑の募金事業交付金交付請求書"]
[]
[null,null,"令和",null,{"$f":"IF(交付金交付請求書!E17<>\"\",交付金交付請求書!E17,\"\")","v":""},null,"年",{"$f":"IF(交付金交付請求書!H17<>\"\",交付金交付請求書!H17,\"\")","v":""},null,"月",{"$f":"IF(交付金交付請求書!K17<>\"\",交付金交付請求書!K17,\"\")","v":""},null,"日付け",null,{"$f":"IF(交付金交付請求書!O17<>\"\",交付金交付請求書!O17,\"\")","v":""},null,null,null,null,"第",{"$f":"IF(交付金交付請求書!U17<>\"\",交付金交付請求書!U17,\"\")","v":""},null,null,null,"号","で"]
[null,"交付決定のあった緑の募金事業について、次により交付金を請求します。"]
[]
[null,"１　事業名"]
[null,null,"（注）事業名ごとに申請書を作成してください。"]
[null,null,{"$f":"IF(交付金交付請求書!C22<>\"\",交付金交付請求書!C22,\"\")","v":""},null,null,null,null,null,null,null,null,null,null,null,null,null,null,{"$f":"IF(交付金交付請求書!R22<>\"\",交付金交付請求書!R22,\"\")","v":""}]
[]
[null,"２　交付金請求額"]
[null,null,"金",{"$f":"IF(交付金交付請求書!D25<>\"\",交付金交付請求書!D25,\"\")","v":""},null,null,null,null,null,"円"]
[]
[null,"３　資金計画"]
[null,null,"（収入の部）"]
[null,null,"区　　分",null,null,null,null,null,null,null,null,"予算額（円）",null,null,null,"収　入　区　分　（円）"]
[null,null,null,null,null,null,null,null,null,null,null,null,null,null,null,"緑の募金交付金",null,null,null,"その他助成金",null,null,null,"自 己 資 金"]
[null,null,{"$f":"IF(交付金交付請求書!C31<>\"\",交付金交付請求書!C31,\"\")","v":""},null,null,null,null,null,null,null,null,{"$f":"IF(交付金交付請求書!L31<>\"\",交付金交付請求書!L31,\"\")","v":0},null,null,null,{"$f":"IF(交付金交付請求書!P31<>\"\",交付金交付請求書!P31,\"\")","v":""},null,null,null,{"$f":"IF(交付金交付請求書!T31<>\"\",交付金交付請求書!T31,\"\")","v":""},null,null,null,{"$f":"IF(交付金交付請求書!X31<>\"\",交付金交付請求書!X31,\"\")","v":""}]
[null,null,{"$f":"IF(交付金交付請求書!C32<>\"\",交付金交付請求書!C32,\"\")","v":""},null,null,null,null,null,null,null,null,{"$f":"IF(交付金交付請求書!L32<>\"\",交付金交付請求書!L32,\"\")","v":0},null,null,null,{"$f":"IF(交付金交付請求書!P32<>\"\",交付金交付請求書!P32,\"\")","v":""},null,null,null,{"$f":"IF(交付金交付請求書!T32<>\"\",交付金交付請求書!T32,\"\")","v":""},null,null,null,{"$f":"IF(交付金交付請求書!X32<>\"\",交付金交付請求書!X32,\"\")","v":""},null,null,null,null,null,null,{"$f":"IF(AND(P32=\"\",T32=\"\",X32=\"\"),0,1)","v":0}]
[null,null,{"$f":"IF(交付金交付請求書!C33<>\"\",交付金交付請求書!C33,\"\")","v":""},null,null,null,null,null,null,null,null,{"$f":"IF(交付金交付請求書!L33<>\"\",交付金交付請求書!L33,\"\")","v":0},null,null,null,{"$f":"IF(交付金交付請求書!P33<>\"\",交付金交付請求書!P33,\"\")","v":""},null,null,null,{"$f":"IF(交付金交付請求書!T33<>\"\",交付金交付請求書!T33,\"\")","v":""},null,null,null,{"$f":"IF(交付金交付請求書!X33<>\"\",交付金交付請求書!X33,\"\")","v":""},null,null,null,null,null,null,{"$f":"IF(AND(P33=\"\",T33=\"\",X33=\"\"),0,1)","v":0}]
[null,null,{"$f":"IF(交付金交付請求書!C34<>\"\",交付金交付請求書!C34,\"\")","v":""},null,null,null,null,null,null,null,null,{"$f":"IF(交付金交付請求書!L34<>\"\",交付金交付請求書!L34,\"\")","v":0},null,null,null,{"$f":"IF(交付金交付請求書!P34<>\"\",交付金交付請求書!P34,\"\")","v":""},null,null,null,{"$f":"IF(交付金交付請求書!T34<>\"\",交付金交付請求書!T34,\"\")","v":""},null,null,null,{"$f":"IF(交付金交付請求書!X34<>\"\",交付金交付請求書!X34,\"\")","v":""},null,null,null,null,null,null,0]
[null,null,"計",null,null,null,null,null,null,null,null,{"$f":"IF(交付金交付請求書!L35<>\"\",交付金交付請求書!L35,\"\")","v":0},null,null,null,{"$f":"IF(交付金交付請求書!P35<>\"\",交付金交付請求書!P35,\"\")","v":0},null,null,null,{"$f":"IF(交付金交付請求書!T35<>\"\",交付金交付請求書!T35,\"\")","v":0},null,null,null,{"$f":"IF(交付金交付請求書!X35<>\"\",交付金交付請求書!X35,\"\")","v":0},null,null,null,null,null,null,2]
[null,null,"（注）　・区分欄は事業内容の異なるごとに区分して記載する。"]
[]
[null,null,"（支出の部）　交付対象経費"]
[null,null,"経　費　区　分",null,null,null,null,null,null,null,"予算額（円）",null,null,"支　出　内　容　（円）"]
[null,null,"科　目",null,null,"区　　分",null,null,null,null,null,null,null,"内容名",null,null,null,null,null,null,null,"単価",null,"数量",null,"単位"]
[null,null,{"$f":"IF(交付金交付請求書!C41<>\"\",交付金交付請求書!C41,\"\")","v":""},null,null,{"$f":"IF(交付金交付請求書!F41<>\"\",交付金交付請求書!F41,\"\")","v":""},null,null,null,null,{"$f":"IF(交付金交付請求書!K41<>\"\",交付金交付請求書!K41,\"\")","v":0},null,null,{"$f":"IF(交付金交付請求書!N41<>\"\",交付金交付請求書!N41,\"\")","v":""},null,null,null,null,null,null,null,{"$f":"IF(交付金交付請求書!V41<>\"\",交付金交付請求書!V41,\"\")","v":""},null,{"$f":"IF(交付金交付請求書!X41<>\"\",交付金交付請求書!X41,\"\")","v":""},null,{"$f":"IF(交付金交付請求書!Z41<>\"\",交付金交付請求書!Z41,\"\")","v":""},null,null,null,null,{"$f":"IF(AND(C41=\"\",F41=\"\",N41=\"\",V41=\"\",X41=\"\",Z41=\"\"),0,1)","v":0}]
[null,null,{"$f":"IF(交付金交付請求書!C42<>\"\",交付金交付請求書!C42,\"\")","v":""},null,null,{"$f":"IF(交付金交付請求書!F42<>\"\",交付金交付請求書!F42,\"\")","v":""},null,null,null,null,{"$f":"IF(交付金交付請求書!K42<>\"\",交付金交付請求書!K42,\"\")","v":0},null,null,{"$f":"IF(交付金交付請求書!N42<>\"\",交付金交付請求書!N42,\"\")","v":""},null,null,null,null,null,null,null,{"$f":"IF(交付金交付請求書!V42<>\"\",交付金交付請求書!V42,\"\")","v":""},null,{"$f":"IF(交付金交付請求書!X42<>\"\",交付金交付請求書!X42,\"\")","v":""},null,{"$f":"IF(交付金交付請求書!Z42<>\"\",交付金交付請求書!Z42,\"\")","v":""},null,null,null,null,{"$f":"IF(AND(C42=\"\",F42=\"\",N42=\"\",V42=\"\",X42=\"\",Z42=\"\"),0,1)","v":0}]
[null,null,{"$f":"IF(交付金交付請求書!C43<>\"\",交付金交付請求書!C43,\"\")","v":""},null,null,{"$f":"IF(交付金交付請求書!F43<>\"\",交付金交付請求書!F43,\"\")","v":""},null,null,null,null,{"$f":"IF(交付金交付請求書!K43<>\"\",交付金交付請求書!K43,\"\")","v":0},null,null,{"$f":"IF(交付金交付請求書!N43<>\"\",交付金交付請求書!N43,\"\")","v":""},null,null,null,null,null,null,null,{"$f":"IF(交付金交付請求書!V43<>\"\",交付金交付請求書!V43,\"\")","v":""},null,{"$f":"IF(交付金交付請求書!X43<>\"\",交付金交付請求書!X43,\"\")","v":""},null,{"$f":"IF(交付金交付請求書!Z43<>\"\",交付金交付請求書!Z43,\"\")","v":""},null,null,null,null,0]
[null,null,{"$f":"IF(交付金交付請求書!C44<>\"\",交付金交付請求書!C44,\"\")","v":""},null,null,{"$f":"IF(交付金交付請求書!F44<>\"\",交付金交付請求書!F44,\"\")","v":""},null,null,null,null,{"$f":"IF(交付金交付請求書!K44<>\"\",交付金交付請求書!K44,\"\")","v":0},null,null,{"$f":"IF(交付金交付請求書!N44<>\"\",交付金交付請求書!N44,\"\")","v":""},null,null,null,null,null,null,null,{"$f":"IF(交付金交付請求書!V44<>\"\",交付金交付請求書!V44,\"\")","v":""},null,{"$f":"IF(交付金交付請求書!X44<>\"\",交付金交付請求書!X44,\"\")","v":""},null,{"$f":"IF(交付金交付請求書!Z44<>\"\",交付金交付請求書!Z44,\"\")","v":""},null,null,null,null,0]
[null,null,{"$f":"IF(交付金交付請求書!C45<>\"\",交付金交付請求書!C45,\"\")","v":""},null,null,{"$f":"IF(交付金交付請求書!F45<>\"\",交付金交付請求書!F45,\"\")","v":""},null,null,null,null,{"$f":"IF(交付金交付請求書!K45<>\"\",交付金交付請求書!K45,\"\")","v":0},null,null,{"$f":"IF(交付金交付請求書!N45<>\"\",交付金交付請求書!N45,\"\")","v":""},null,null,null,null,null,null,null,{"$f":"IF(交付金交付請求書!V45<>\"\",交付金交付請求書!V45,\"\")","v":""},null,{"$f":"IF(交付金交付請求書!X45<>\"\",交付金交付請求書!X45,\"\")","v":""},null,{"$f":"IF(交付金交付請求書!Z45<>\"\",交付金交付請求書!Z45,\"\")","v":""},null,null,null,null,0]
[null,null,{"$f":"IF(交付金交付請求書!C46<>\"\",交付金交付請求書!C46,\"\")","v":""},null,null,{"$f":"IF(交付金交付請求書!F46<>\"\",交付金交付請求書!F46,\"\")","v":""},null,null,null,null,{"$f":"IF(交付金交付請求書!K46<>\"\",交付金交付請求書!K46,\"\")","v":0},null,null,{"$f":"IF(交付金交付請求書!N46<>\"\",交付金交付請求書!N46,\"\")","v":""},null,null,null,null,null,null,null,{"$f":"IF(交付金交付請求書!V46<>\"\",交付金交付請求書!V46,\"\")","v":""},null,{"$f":"IF(交付金交付請求書!X46<>\"\",交付金交付請求書!X46,\"\")","v":""},null,{"$f":"IF(交付金交付請求書!Z46<>\"\",交付金交付請求書!Z46,\"\")","v":""},null,null,null,null,0]
[null,null,{"$f":"IF(交付金交付請求書!C47<>\"\",交付金交付請求書!C47,\"\")","v":""},null,null,{"$f":"IF(交付金交付請求書!F47<>\"\",交付金交付請求書!F47,\"\")","v":""},null,null,null,null,{"$f":"IF(交付金交付請求書!K47<>\"\",交付金交付請求書!K47,\"\")","v":0},null,null,{"$f":"IF(交付金交付請求書!N47<>\"\",交付金交付請求書!N47,\"\")","v":""},null,null,null,null,null,null,null,{"$f":"IF(交付金交付請求書!V47<>\"\",交付金交付請求書!V47,\"\")","v":""},null,{"$f":"IF(交付金交付請求書!X47<>\"\",交付金交付請求書!X47,\"\")","v":""},null,{"$f":"IF(交付金交付請求書!Z47<>\"\",交付金交付請求書!Z47,\"\")","v":""},null,null,null,null,0]
[null,null,{"$f":"IF(交付金交付請求書!C48<>\"\",交付金交付請求書!C48,\"\")","v":""},null,null,{"$f":"IF(交付金交付請求書!F48<>\"\",交付金交付請求書!F48,\"\")","v":""},null,null,null,null,{"$f":"IF(交付金交付請求書!K48<>\"\",交付金交付請求書!K48,\"\")","v":0},null,null,{"$f":"IF(交付金交付請求書!N48<>\"\",交付金交付請求書!N48,\"\")","v":""},null,null,null,null,null,null,null,{"$f":"IF(交付金交付請求書!V48<>\"\",交付金交付請求書!V48,\"\")","v":""},null,{"$f":"IF(交付金交付請求書!X48<>\"\",交付金交付請求書!X48,\"\")","v":""},null,{"$f":"IF(交付金交付請求書!Z48<>\"\",交付金交付請求書!Z48,\"\")","v":""},null,null,null,null,0]
[null,null,{"$f":"IF(交付金交付請求書!C49<>\"\",交付金交付請求書!C49,\"\")","v":""},null,null,{"$f":"IF(交付金交付請求書!F49<>\"\",交付金交付請求書!F49,\"\")","v":""},null,null,null,null,{"$f":"IF(交付金交付請求書!K49<>\"\",交付金交付請求書!K49,\"\")","v":0},null,null,{"$f":"IF(交付金交付請求書!N49<>\"\",交付金交付請求書!N49,\"\")","v":""},null,null,null,null,null,null,null,{"$f":"IF(交付金交付請求書!V49<>\"\",交付金交付請求書!V49,\"\")","v":""},null,{"$f":"IF(交付金交付請求書!X49<>\"\",交付金交付請求書!X49,\"\")","v":""},null,{"$f":"IF(交付金交付請求書!Z49<>\"\",交付金交付請求書!Z49,\"\")","v":""},null,null,null,null,0]
[null,null,{"$f":"IF(交付金交付請求書!C50<>\"\",交付金交付請求書!C50,\"\")","v":""},null,null,{"$f":"IF(交付金交付請求書!F50<>\"\",交付金交付請求書!F50,\"\")","v":""},null,null,null,null,{"$f":"IF(交付金交付請求書!K50<>\"\",交付金交付請求書!K50,\"\")","v":0},null,null,{"$f":"IF(交付金交付請求書!N50<>\"\",交付金交付請求書!N50,\"\")","v":""},null,null,null,null,null,null,null,{"$f":"IF(交付金交付請求書!V50<>\"\",交付金交付請求書!V50,\"\")","v":""},null,{"$f":"IF(交付金交付請求書!X50<>\"\",交付金交付請求書!X50,\"\")","v":""},null,{"$f":"IF(交付金交付請求書!Z50<>\"\",交付金交付請求書!Z50,\"\")","v":""},null,null,null,null,0]
[null,null,{"$f":"IF(交付金交付請求書!C51<>\"\",交付金交付請求書!C51,\"\")","v":""},null,null,{"$f":"IF(交付金交付請求書!F51<>\"\",交付金交付請求書!F51,\"\")","v":""},null,null,null,null,{"$f":"IF(交付金交付請求書!K51<>\"\",交付金交付請求書!K51,\"\")","v":0},null,null,{"$f":"IF(交付金交付請求書!N51<>\"\",交付金交付請求書!N51,\"\")","v":""},null,null,null,null,null,null,null,{"$f":"IF(交付金交付請求書!V51<>\"\",交付金交付請求書!V51,\"\")","v":""},null,{"$f":"IF(交付金交付請求書!X51<>\"\",交付金交付請求書!X51,\"\")","v":""},null,{"$f":"IF(交付金交付請求書!Z51<>\"\",交付金交付請求書!Z51,\"\")","v":""},null,null,null,null,0]
[null,null,{"$f":"IF(交付金交付請求書!C52<>\"\",交付金交付請求書!C52,\"\")","v":""},null,null,{"$f":"IF(交付金交付請求書!F52<>\"\",交付金交付請求書!F52,\"\")","v":""},null,null,null,null,{"$f":"IF(交付金交付請求書!K52<>\"\",交付金交付請求書!K52,\"\")","v":0},null,null,{"$f":"IF(交付金交付請求書!N52<>\"\",交付金交付請求書!N52,\"\")","v":""},null,null,null,null,null,null,null,{"$f":"IF(交付金交付請求書!V52<>\"\",交付金交付請求書!V52,\"\")","v":""},null,{"$f":"IF(交付金交付請求書!X52<>\"\",交付金交付請求書!X52,\"\")","v":""},null,{"$f":"IF(交付金交付請求書!Z52<>\"\",交付金交付請求書!Z52,\"\")","v":""},null,null,null,null,0]
[null,null,{"$f":"IF(交付金交付請求書!C53<>\"\",交付金交付請求書!C53,\"\")","v":""},null,null,{"$f":"IF(交付金交付請求書!F53<>\"\",交付金交付請求書!F53,\"\")","v":""},null,null,null,null,{"$f":"IF(交付金交付請求書!K53<>\"\",交付金交付請求書!K53,\"\")","v":0},null,null,{"$f":"IF(交付金交付請求書!N53<>\"\",交付金交付請求書!N53,\"\")","v":""},null,null,null,null,null,null,null,{"$f":"IF(交付金交付請求書!V53<>\"\",交付金交付請求書!V53,\"\")","v":""},null,{"$f":"IF(交付金交付請求書!X53<>\"\",交付金交付請求書!X53,\"\")","v":""},null,{"$f":"IF(交付金交付請求書!Z53<>\"\",交付金交付請求書!Z53,\"\")","v":""},null,null,null,null,0]
[null,null,{"$f":"IF(交付金交付請求書!C54<>\"\",交付金交付請求書!C54,\"\")","v":""},null,null,{"$f":"IF(交付金交付請求書!F54<>\"\",交付金交付請求書!F54,\"\")","v":""},null,null,null,null,{"$f":"IF(交付金交付請求書!K54<>\"\",交付金交付請求書!K54,\"\")","v":0},null,null,{"$f":"IF(交付金交付請求書!N54<>\"\",交付金交付請求書!N54,\"\")","v":""},null,null,null,null,null,null,null,{"$f":"IF(交付金交付請求書!V54<>\"\",交付金交付請求書!V54,\"\")","v":""},null,{"$f":"IF(交付金交付請求書!X54<>\"\",交付金交付請求書!X54,\"\")","v":""},null,{"$f":"IF(交付金交付請求書!Z54<>\"\",交付金交付請求書!Z54,\"\")","v":""},null,null,null,null,0]
[null,null,{"$f":"IF(交付金交付請求書!C55<>\"\",交付金交付請求書!C55,\"\")","v":""},null,null,{"$f":"IF(交付金交付請求書!F55<>\"\",交付金交付請求書!F55,\"\")","v":""},null,null,null,null,{"$f":"IF(交付金交付請求書!K55<>\"\",交付金交付請求書!K55,\"\")","v":0},null,null,{"$f":"IF(交付金交付請求書!N55<>\"\",交付金交付請求書!N55,\"\")","v":""},null,null,null,null,null,null,null,{"$f":"IF(交付金交付請求書!V55<>\"\",交付金交付請求書!V55,\"\")","v":""},null,{"$f":"IF(交付金交付請求書!X55<>\"\",交付金交付請求書!X55,\"\")","v":""},null,{"$f":"IF(交付金交付請求書!Z55<>\"\",交付金交付請求書!Z55,\"\")","v":""},null,null,null,null,0]
[null,null,{"$f":"IF(交付金交付請求書!C56<>\"\",交付金交付請求書!C56,\"\")","v":""},null,null,{"$f":"IF(交付金交付請求書!F56<>\"\",交付金交付請求書!F56,\"\")","v":""},null,null,null,null,{"$f":"IF(交付金交付請求書!K56<>\"\",交付金交付請求書!K56,\"\")","v":0},null,null,{"$f":"IF(交付金交付請求書!N56<>\"\",交付金交付請求書!N56,\"\")","v":""},null,null,null,null,null,null,null,{"$f":"IF(交付金交付請求書!V56<>\"\",交付金交付請求書!V56,\"\")","v":""},null,{"$f":"IF(交付金交付請求書!X56<>\"\",交付金交付請求書!X56,\"\")","v":""},null,{"$f":"IF(交付金交付請求書!Z56<>\"\",交付金交付請求書!Z56,\"\")","v":""},null,null,null,null,0]
[null,null,{"$f":"IF(交付金交付請求書!C57<>\"\",交付金交付請求書!C57,\"\")","v":""},null,null,{"$f":"IF(交付金交付請求書!F57<>\"\",交付金交付請求書!F57,\"\")","v":""},null,null,null,null,{"$f":"IF(交付金交付請求書!K57<>\"\",交付金交付請求書!K57,\"\")","v":0},null,null,{"$f":"IF(交付金交付請求書!N57<>\"\",交付金交付請求書!N57,\"\")","v":""},null,null,null,null,null,null,null,{"$f":"IF(交付金交付請求書!V57<>\"\",交付金交付請求書!V57,\"\")","v":""},null,{"$f":"IF(交付金交付請求書!X57<>\"\",交付金交付請求書!X57,\"\")","v":""},null,{"$f":"IF(交付金交付請求書!Z57<>\"\",交付金交付請求書!Z57,\"\")","v":""},null,null,null,null,0]
[null,null,{"$f":"IF(交付金交付請求書!C58<>\"\",交付金交付請求書!C58,\"\")","v":""},null,null,{"$f":"IF(交付金交付請求書!F58<>\"\",交付金交付請求書!F58,\"\")","v":""},null,null,null,null,{"$f":"IF(交付金交付請求書!K58<>\"\",交付金交付請求書!K58,\"\")","v":0},null,null,{"$f":"IF(交付金交付請求書!N58<>\"\",交付金交付請求書!N58,\"\")","v":""},null,null,null,null,null,null,null,{"$f":"IF(交付金交付請求書!V58<>\"\",交付金交付請求書!V58,\"\")","v":""},null,{"$f":"IF(交付金交付請求書!X58<>\"\",交付金交付請求書!X58,\"\")","v":""},null,{"$f":"IF(交付金交付請求書!Z58<>\"\",交付金交付請求書!Z58,\"\")","v":""},null,null,null,null,0]
[null,null,{"$f":"IF(交付金交付請求書!C59<>\"\",交付金交付請求書!C59,\"\")","v":""},null,null,{"$f":"IF(交付金交付請求書!F59<>\"\",交付金交付請求書!F59,\"\")","v":""},null,null,null,null,{"$f":"IF(交付金交付請求書!K59<>\"\",交付金交付請求書!K59,\"\")","v":0},null,null,{"$f":"IF(交付金交付請求書!N59<>\"\",交付金交付請求書!N59,\"\")","v":""},null,null,null,null,null,null,null,{"$f":"IF(交付金交付請求書!V59<>\"\",交付金交付請求書!V59,\"\")","v":""},null,{"$f":"IF(交付金交付請求書!X59<>\"\",交付金交付請求書!X59,\"\")","v":""},null,{"$f":"IF(交付金交付請求書!Z59<>\"\",交付金交付請求書!Z59,\"\")","v":""},null,null,null,null,0]
[null,null,{"$f":"IF(交付金交付請求書!C60<>\"\",交付金交付請求書!C60,\"\")","v":""},null,null,{"$f":"IF(交付金交付請求書!F60<>\"\",交付金交付請求書!F60,\"\")","v":""},null,null,null,null,{"$f":"IF(交付金交付請求書!K60<>\"\",交付金交付請求書!K60,\"\")","v":0},null,null,{"$f":"IF(交付金交付請求書!N60<>\"\",交付金交付請求書!N60,\"\")","v":""},null,null,null,null,null,null,null,{"$f":"IF(交付金交付請求書!V60<>\"\",交付金交付請求書!V60,\"\")","v":""},null,{"$f":"IF(交付金交付請求書!X60<>\"\",交付金交付請求書!X60,\"\")","v":""},null,{"$f":"IF(交付金交付請求書!Z60<>\"\",交付金交付請求書!Z60,\"\")","v":""},null,null,null,null,0]
[null,null,{"$f":"IF(交付金交付請求書!C61<>\"\",交付金交付請求書!C61,\"\")","v":""},null,null,{"$f":"IF(交付金交付請求書!F61<>\"\",交付金交付請求書!F61,\"\")","v":""},null,null,null,null,{"$f":"IF(交付金交付請求書!K61<>\"\",交付金交付請求書!K61,\"\")","v":0},null,null,{"$f":"IF(交付金交付請求書!N61<>\"\",交付金交付請求書!N61,\"\")","v":""},null,null,null,null,null,null,null,{"$f":"IF(交付金交付請求書!V61<>\"\",交付金交付請求書!V61,\"\")","v":""},null,{"$f":"IF(交付金交付請求書!X61<>\"\",交付金交付請求書!X61,\"\")","v":""},null,{"$f":"IF(交付金交付請求書!Z61<>\"\",交付金交付請求書!Z61,\"\")","v":""},null,null,null,null,0]
[null,null,{"$f":"IF(交付金交付請求書!C62<>\"\",交付金交付請求書!C62,\"\")","v":""},null,null,{"$f":"IF(交付金交付請求書!F62<>\"\",交付金交付請求書!F62,\"\")","v":""},null,null,null,null,{"$f":"IF(交付金交付請求書!K62<>\"\",交付金交付請求書!K62,\"\")","v":0},null,null,{"$f":"IF(交付金交付請求書!N62<>\"\",交付金交付請求書!N62,\"\")","v":""},null,null,null,null,null,null,null,{"$f":"IF(交付金交付請求書!V62<>\"\",交付金交付請求書!V62,\"\")","v":""},null,{"$f":"IF(交付金交付請求書!X62<>\"\",交付金交付請求書!X62,\"\")","v":""},null,{"$f":"IF(交付金交付請求書!Z62<>\"\",交付金交付請求書!Z62,\"\")","v":""},null,null,null,null,0]
[null,null,{"$f":"IF(交付金交付請求書!C63<>\"\",交付金交付請求書!C63,\"\")","v":""},null,null,{"$f":"IF(交付金交付請求書!F63<>\"\",交付金交付請求書!F63,\"\")","v":""},null,null,null,null,{"$f":"IF(交付金交付請求書!K63<>\"\",交付金交付請求書!K63,\"\")","v":0},null,null,{"$f":"IF(交付金交付請求書!N63<>\"\",交付金交付請求書!N63,\"\")","v":""},null,null,null,null,null,null,null,{"$f":"IF(交付金交付請求書!V63<>\"\",交付金交付請求書!V63,\"\")","v":""},null,{"$f":"IF(交付金交付請求書!X63<>\"\",交付金交付請求書!X63,\"\")","v":""},null,{"$f":"IF(交付金交付請求書!Z63<>\"\",交付金交付請求書!Z63,\"\")","v":""},null,null,null,null,0]
[null,null,{"$f":"IF(交付金交付請求書!C64<>\"\",交付金交付請求書!C64,\"\")","v":""},null,null,{"$f":"IF(交付金交付請求書!F64<>\"\",交付金交付請求書!F64,\"\")","v":""},null,null,null,null,{"$f":"IF(交付金交付請求書!K64<>\"\",交付金交付請求書!K64,\"\")","v":0},null,null,{"$f":"IF(交付金交付請求書!N64<>\"\",交付金交付請求書!N64,\"\")","v":""},null,null,null,null,null,null,null,{"$f":"IF(交付金交付請求書!V64<>\"\",交付金交付請求書!V64,\"\")","v":""},null,{"$f":"IF(交付金交付請求書!X64<>\"\",交付金交付請求書!X64,\"\")","v":""},null,{"$f":"IF(交付金交付請求書!Z64<>\"\",交付金交付請求書!Z64,\"\")","v":""},null,null,null,null,0]
[null,null,{"$f":"IF(交付金交付請求書!C65<>\"\",交付金交付請求書!C65,\"\")","v":""},null,null,{"$f":"IF(交付金交付請求書!F65<>\"\",交付金交付請求書!F65,\"\")","v":""},null,null,null,null,{"$f":"IF(交付金交付請求書!K65<>\"\",交付金交付請求書!K65,\"\")","v":0},null,null,{"$f":"IF(交付金交付請求書!N65<>\"\",交付金交付請求書!N65,\"\")","v":""},null,null,null,null,null,null,null,{"$f":"IF(交付金交付請求書!V65<>\"\",交付金交付請求書!V65,\"\")","v":""},null,{"$f":"IF(交付金交付請求書!X65<>\"\",交付金交付請求書!X65,\"\")","v":""},null,{"$f":"IF(交付金交付請求書!Z65<>\"\",交付金交付請求書!Z65,\"\")","v":""},null,null,null,null,0]
[null,null,{"$f":"IF(交付金交付請求書!C66<>\"\",交付金交付請求書!C66,\"\")","v":""},null,null,{"$f":"IF(交付金交付請求書!F66<>\"\",交付金交付請求書!F66,\"\")","v":""},null,null,null,null,{"$f":"IF(交付金交付請求書!K66<>\"\",交付金交付請求書!K66,\"\")","v":0},null,null,{"$f":"IF(交付金交付請求書!N66<>\"\",交付金交付請求書!N66,\"\")","v":""},null,null,null,null,null,null,null,{"$f":"IF(交付金交付請求書!V66<>\"\",交付金交付請求書!V66,\"\")","v":""},null,{"$f":"IF(交付金交付請求書!X66<>\"\",交付金交付請求書!X66,\"\")","v":""},null,{"$f":"IF(交付金交付請求書!Z66<>\"\",交付金交付請求書!Z66,\"\")","v":""},null,null,null,null,0]
[null,null,{"$f":"IF(交付金交付請求書!C67<>\"\",交付金交付請求書!C67,\"\")","v":""},null,null,{"$f":"IF(交付金交付請求書!F67<>\"\",交付金交付請求書!F67,\"\")","v":""},null,null,null,null,{"$f":"IF(交付金交付請求書!K67<>\"\",交付金交付請求書!K67,\"\")","v":0},null,null,{"$f":"IF(交付金交付請求書!N67<>\"\",交付金交付請求書!N67,\"\")","v":""},null,null,null,null,null,null,null,{"$f":"IF(交付金交付請求書!V67<>\"\",交付金交付請求書!V67,\"\")","v":""},null,{"$f":"IF(交付金交付請求書!X67<>\"\",交付金交付請求書!X67,\"\")","v":""},null,{"$f":"IF(交付金交付請求書!Z67<>\"\",交付金交付請求書!Z67,\"\")","v":""},null,null,null,null,0]
[null,null,{"$f":"IF(交付金交付請求書!C68<>\"\",交付金交付請求書!C68,\"\")","v":""},null,null,{"$f":"IF(交付金交付請求書!F68<>\"\",交付金交付請求書!F68,\"\")","v":""},null,null,null,null,{"$f":"IF(交付金交付請求書!K68<>\"\",交付金交付請求書!K68,\"\")","v":0},null,null,{"$f":"IF(交付金交付請求書!N68<>\"\",交付金交付請求書!N68,\"\")","v":""},null,null,null,null,null,null,null,{"$f":"IF(交付金交付請求書!V68<>\"\",交付金交付請求書!V68,\"\")","v":""},null,{"$f":"IF(交付金交付請求書!X68<>\"\",交付金交付請求書!X68,\"\")","v":""},null,{"$f":"IF(交付金交付請求書!Z68<>\"\",交付金交付請求書!Z68,\"\")","v":""},null,null,null,null,0]
[null,null,{"$f":"IF(交付金交付請求書!C69<>\"\",交付金交付請求書!C69,\"\")","v":""},null,null,{"$f":"IF(交付金交付請求書!F69<>\"\",交付金交付請求書!F69,\"\")","v":""},null,null,null,null,{"$f":"IF(交付金交付請求書!K69<>\"\",交付金交付請求書!K69,\"\")","v":0},null,null,{"$f":"IF(交付金交付請求書!N69<>\"\",交付金交付請求書!N69,\"\")","v":""},null,null,null,null,null,null,null,{"$f":"IF(交付金交付請求書!V69<>\"\",交付金交付請求書!V69,\"\")","v":""},null,{"$f":"IF(交付金交付請求書!X69<>\"\",交付金交付請求書!X69,\"\")","v":""},null,{"$f":"IF(交付金交付請求書!Z69<>\"\",交付金交付請求書!Z69,\"\")","v":""},null,null,null,null,0]
[null,null,{"$f":"IF(交付金交付請求書!C70<>\"\",交付金交付請求書!C70,\"\")","v":""},null,null,{"$f":"IF(交付金交付請求書!F70<>\"\",交付金交付請求書!F70,\"\")","v":""},null,null,null,null,{"$f":"IF(交付金交付請求書!K70<>\"\",交付金交付請求書!K70,\"\")","v":0},null,null,{"$f":"IF(交付金交付請求書!N70<>\"\",交付金交付請求書!N70,\"\")","v":""},null,null,null,null,null,null,null,{"$f":"IF(交付金交付請求書!V70<>\"\",交付金交付請求書!V70,\"\")","v":""},null,{"$f":"IF(交付金交付請求書!X70<>\"\",交付金交付請求書!X70,\"\")","v":""},null,{"$f":"IF(交付金交付請求書!Z70<>\"\",交付金交付請求書!Z70,\"\")","v":""},null,null,null,null,0]
[null,null,{"$f":"IF(交付金交付請求書!C71<>\"\",交付金交付請求書!C71,\"\")","v":""},null,null,{"$f":"IF(交付金交付請求書!F71<>\"\",交付金交付請求書!F71,\"\")","v":""},null,null,null,null,{"$f":"IF(交付金交付請求書!K71<>\"\",交付金交付請求書!K71,\"\")","v":0},null,null,{"$f":"IF(交付金交付請求書!N71<>\"\",交付金交付請求書!N71,\"\")","v":""},null,null,null,null,null,null,null,{"$f":"IF(交付金交付請求書!V71<>\"\",交付金交付請求書!V71,\"\")","v":""},null,{"$f":"IF(交付金交付請求書!X71<>\"\",交付金交付請求書!X71,\"\")","v":""},null,{"$f":"IF(交付金交付請求書!Z71<>\"\",交付金交付請求書!Z71,\"\")","v":""},null,null,null,null,0]
[null,null,{"$f":"IF(交付金交付請求書!C72<>\"\",交付金交付請求書!C72,\"\")","v":""},null,null,{"$f":"IF(交付金交付請求書!F72<>\"\",交付金交付請求書!F72,\"\")","v":""},null,null,null,null,{"$f":"IF(交付金交付請求書!K72<>\"\",交付金交付請求書!K72,\"\")","v":0},null,null,{"$f":"IF(交付金交付請求書!N72<>\"\",交付金交付請求書!N72,\"\")","v":""},null,null,null,null,null,null,null,{"$f":"IF(交付金交付請求書!V72<>\"\",交付金交付請求書!V72,\"\")","v":""},null,{"$f":"IF(交付金交付請求書!X72<>\"\",交付金交付請求書!X72,\"\")","v":""},null,{"$f":"IF(交付金交付請求書!Z72<>\"\",交付金交付請求書!Z72,\"\")","v":""},null,null,null,null,0]
[null,null,{"$f":"IF(交付金交付請求書!C73<>\"\",交付金交付請求書!C73,\"\")","v":""},null,null,{"$f":"IF(交付金交付請求書!F73<>\"\",交付金交付請求書!F73,\"\")","v":""},null,null,null,null,{"$f":"IF(交付金交付請求書!K73<>\"\",交付金交付請求書!K73,\"\")","v":0},null,null,{"$f":"IF(交付金交付請求書!N73<>\"\",交付金交付請求書!N73,\"\")","v":""},null,null,null,null,null,null,null,{"$f":"IF(交付金交付請求書!V73<>\"\",交付金交付請求書!V73,\"\")","v":""},null,{"$f":"IF(交付金交付請求書!X73<>\"\",交付金交付請求書!X73,\"\")","v":""},null,{"$f":"IF(交付金交付請求書!Z73<>\"\",交付金交付請求書!Z73,\"\")","v":""},null,null,null,null,0]
[null,null,{"$f":"IF(交付金交付請求書!C74<>\"\",交付金交付請求書!C74,\"\")","v":""},null,null,{"$f":"IF(交付金交付請求書!F74<>\"\",交付金交付請求書!F74,\"\")","v":""},null,null,null,null,{"$f":"IF(交付金交付請求書!K74<>\"\",交付金交付請求書!K74,\"\")","v":0},null,null,{"$f":"IF(交付金交付請求書!N74<>\"\",交付金交付請求書!N74,\"\")","v":""},null,null,null,null,null,null,null,{"$f":"IF(交付金交付請求書!V74<>\"\",交付金交付請求書!V74,\"\")","v":""},null,{"$f":"IF(交付金交付請求書!X74<>\"\",交付金交付請求書!X74,\"\")","v":""},null,{"$f":"IF(交付金交付請求書!Z74<>\"\",交付金交付請求書!Z74,\"\")","v":""},null,null,null,null,0]
[null,null,{"$f":"IF(交付金交付請求書!C75<>\"\",交付金交付請求書!C75,\"\")","v":""},null,null,{"$f":"IF(交付金交付請求書!F75<>\"\",交付金交付請求書!F75,\"\")","v":""},null,null,null,null,{"$f":"IF(交付金交付請求書!K75<>\"\",交付金交付請求書!K75,\"\")","v":0},null,null,{"$f":"IF(交付金交付請求書!N75<>\"\",交付金交付請求書!N75,\"\")","v":""},null,null,null,null,null,null,null,{"$f":"IF(交付金交付請求書!V75<>\"\",交付金交付請求書!V75,\"\")","v":""},null,{"$f":"IF(交付金交付請求書!X75<>\"\",交付金交付請求書!X75,\"\")","v":""},null,{"$f":"IF(交付金交付請求書!Z75<>\"\",交付金交付請求書!Z75,\"\")","v":""},null,null,null,null,0]
[null,null,{"$f":"IF(交付金交付請求書!C76<>\"\",交付金交付請求書!C76,\"\")","v":""},null,null,{"$f":"IF(交付金交付請求書!F76<>\"\",交付金交付請求書!F76,\"\")","v":""},null,null,null,null,{"$f":"IF(交付金交付請求書!K76<>\"\",交付金交付請求書!K76,\"\")","v":0},null,null,{"$f":"IF(交付金交付請求書!N76<>\"\",交付金交付請求書!N76,\"\")","v":""},null,null,null,null,null,null,null,{"$f":"IF(交付金交付請求書!V76<>\"\",交付金交付請求書!V76,\"\")","v":""},null,{"$f":"IF(交付金交付請求書!X76<>\"\",交付金交付請求書!X76,\"\")","v":""},null,{"$f":"IF(交付金交付請求書!Z76<>\"\",交付金交付請求書!Z76,\"\")","v":""},null,null,null,null,0]
[null,null,{"$f":"IF(交付金交付請求書!C77<>\"\",交付金交付請求書!C77,\"\")","v":""},null,null,{"$f":"IF(交付金交付請求書!F77<>\"\",交付金交付請求書!F77,\"\")","v":""},null,null,null,null,{"$f":"IF(交付金交付請求書!K77<>\"\",交付金交付請求書!K77,\"\")","v":0},null,null,{"$f":"IF(交付金交付請求書!N77<>\"\",交付金交付請求書!N77,\"\")","v":""},null,null,null,null,null,null,null,{"$f":"IF(交付金交付請求書!V77<>\"\",交付金交付請求書!V77,\"\")","v":""},null,{"$f":"IF(交付金交付請求書!X77<>\"\",交付金交付請求書!X77,\"\")","v":""},null,{"$f":"IF(交付金交付請求書!Z77<>\"\",交付金交付請求書!Z77,\"\")","v":""},null,null,null,null,0]
[null,null,{"$f":"IF(交付金交付請求書!C78<>\"\",交付金交付請求書!C78,\"\")","v":""},null,null,{"$f":"IF(交付金交付請求書!F78<>\"\",交付金交付請求書!F78,\"\")","v":""},null,null,null,null,{"$f":"IF(交付金交付請求書!K78<>\"\",交付金交付請求書!K78,\"\")","v":0},null,null,{"$f":"IF(交付金交付請求書!N78<>\"\",交付金交付請求書!N78,\"\")","v":""},null,null,null,null,null,null,null,{"$f":"IF(交付金交付請求書!V78<>\"\",交付金交付請求書!V78,\"\")","v":""},null,{"$f":"IF(交付金交付請求書!X78<>\"\",交付金交付請求書!X78,\"\")","v":""},null,{"$f":"IF(交付金交付請求書!Z78<>\"\",交付金交付請求書!Z78,\"\")","v":""},null,null,null,null,0]
[null,null,{"$f":"IF(交付金交付請求書!C79<>\"\",交付金交付請求書!C79,\"\")","v":""},null,null,{"$f":"IF(交付金交付請求書!F79<>\"\",交付金交付請求書!F79,\"\")","v":""},null,null,null,null,{"$f":"IF(交付金交付請求書!K79<>\"\",交付金交付請求書!K79,\"\")","v":0},null,null,{"$f":"IF(交付金交付請求書!N79<>\"\",交付金交付請求書!N79,\"\")","v":""},null,null,null,null,null,null,null,{"$f":"IF(交付金交付請求書!V79<>\"\",交付金交付請求書!V79,\"\")","v":""},null,{"$f":"IF(交付金交付請求書!X79<>\"\",交付金交付請求書!X79,\"\")","v":""},null,{"$f":"IF(交付金交付請求書!Z79<>\"\",交付金交付請求書!Z79,\"\")","v":""},null,null,null,null,0]
[null,null,{"$f":"IF(交付金交付請求書!C80<>\"\",交付金交付請求書!C80,\"\")","v":""},null,null,{"$f":"IF(交付金交付請求書!F80<>\"\",交付金交付請求書!F80,\"\")","v":""},null,null,null,null,{"$f":"IF(交付金交付請求書!K80<>\"\",交付金交付請求書!K80,\"\")","v":0},null,null,{"$f":"IF(交付金交付請求書!N80<>\"\",交付金交付請求書!N80,\"\")","v":""},null,null,null,null,null,null,null,{"$f":"IF(交付金交付請求書!V80<>\"\",交付金交付請求書!V80,\"\")","v":""},null,{"$f":"IF(交付金交付請求書!X80<>\"\",交付金交付請求書!X80,\"\")","v":""},null,{"$f":"IF(交付金交付請求書!Z80<>\"\",交付金交付請求書!Z80,\"\")","v":""},null,null,null,null,0]
[null,null,{"$f":"IF(交付金交付請求書!C81<>\"\",交付金交付請求書!C81,\"\")","v":""},null,null,{"$f":"IF(交付金交付請求書!F81<>\"\",交付金交付請求書!F81,\"\")","v":""},null,null,null,null,{"$f":"IF(交付金交付請求書!K81<>\"\",交付金交付請求書!K81,\"\")","v":0},null,null,{"$f":"IF(交付金交付請求書!N81<>\"\",交付金交付請求書!N81,\"\")","v":""},null,null,null,null,null,null,null,{"$f":"IF(交付金交付請求書!V81<>\"\",交付金交付請求書!V81,\"\")","v":""},null,{"$f":"IF(交付金交付請求書!X81<>\"\",交付金交付請求書!X81,\"\")","v":""},null,{"$f":"IF(交付金交付請求書!Z81<>\"\",交付金交付請求書!Z81,\"\")","v":""},null,null,null,null,0]
[null,null,{"$f":"IF(交付金交付請求書!C82<>\"\",交付金交付請求書!C82,\"\")","v":""},null,null,{"$f":"IF(交付金交付請求書!F82<>\"\",交付金交付請求書!F82,\"\")","v":""},null,null,null,null,{"$f":"IF(交付金交付請求書!K82<>\"\",交付金交付請求書!K82,\"\")","v":0},null,null,{"$f":"IF(交付金交付請求書!N82<>\"\",交付金交付請求書!N82,\"\")","v":""},null,null,null,null,null,null,null,{"$f":"IF(交付金交付請求書!V82<>\"\",交付金交付請求書!V82,\"\")","v":""},null,{"$f":"IF(交付金交付請求書!X82<>\"\",交付金交付請求書!X82,\"\")","v":""},null,{"$f":"IF(交付金交付請求書!Z82<>\"\",交付金交付請求書!Z82,\"\")","v":""},null,null,null,null,0]
[null,null,{"$f":"IF(交付金交付請求書!C83<>\"\",交付金交付請求書!C83,\"\")","v":""},null,null,{"$f":"IF(交付金交付請求書!F83<>\"\",交付金交付請求書!F83,\"\")","v":""},null,null,null,null,{"$f":"IF(交付金交付請求書!K83<>\"\",交付金交付請求書!K83,\"\")","v":0},null,null,{"$f":"IF(交付金交付請求書!N83<>\"\",交付金交付請求書!N83,\"\")","v":""},null,null,null,null,null,null,null,{"$f":"IF(交付金交付請求書!V83<>\"\",交付金交付請求書!V83,\"\")","v":""},null,{"$f":"IF(交付金交付請求書!X83<>\"\",交付金交付請求書!X83,\"\")","v":""},null,{"$f":"IF(交付金交付請求書!Z83<>\"\",交付金交付請求書!Z83,\"\")","v":""},null,null,null,null,0]
[null,null,{"$f":"IF(交付金交付請求書!C84<>\"\",交付金交付請求書!C84,\"\")","v":""},null,null,{"$f":"IF(交付金交付請求書!F84<>\"\",交付金交付請求書!F84,\"\")","v":""},null,null,null,null,{"$f":"IF(交付金交付請求書!K84<>\"\",交付金交付請求書!K84,\"\")","v":0},null,null,{"$f":"IF(交付金交付請求書!N84<>\"\",交付金交付請求書!N84,\"\")","v":""},null,null,null,null,null,null,null,{"$f":"IF(交付金交付請求書!V84<>\"\",交付金交付請求書!V84,\"\")","v":""},null,{"$f":"IF(交付金交付請求書!X84<>\"\",交付金交付請求書!X84,\"\")","v":""},null,{"$f":"IF(交付金交付請求書!Z84<>\"\",交付金交付請求書!Z84,\"\")","v":""},null,null,null,null,0]
[null,null,{"$f":"IF(交付金交付請求書!C85<>\"\",交付金交付請求書!C85,\"\")","v":""},null,null,{"$f":"IF(交付金交付請求書!F85<>\"\",交付金交付請求書!F85,\"\")","v":""},null,null,null,null,{"$f":"IF(交付金交付請求書!K85<>\"\",交付金交付請求書!K85,\"\")","v":0},null,null,{"$f":"IF(交付金交付請求書!N85<>\"\",交付金交付請求書!N85,\"\")","v":""},null,null,null,null,null,null,null,{"$f":"IF(交付金交付請求書!V85<>\"\",交付金交付請求書!V85,\"\")","v":""},null,{"$f":"IF(交付金交付請求書!X85<>\"\",交付金交付請求書!X85,\"\")","v":""},null,{"$f":"IF(交付金交付請求書!Z85<>\"\",交付金交付請求書!Z85,\"\")","v":""},null,null,null,null,0]
[null,null,{"$f":"IF(交付金交付請求書!C86<>\"\",交付金交付請求書!C86,\"\")","v":""},null,null,{"$f":"IF(交付金交付請求書!F86<>\"\",交付金交付請求書!F86,\"\")","v":""},null,null,null,null,{"$f":"IF(交付金交付請求書!K86<>\"\",交付金交付請求書!K86,\"\")","v":0},null,null,{"$f":"IF(交付金交付請求書!N86<>\"\",交付金交付請求書!N86,\"\")","v":""},null,null,null,null,null,null,null,{"$f":"IF(交付金交付請求書!V86<>\"\",交付金交付請求書!V86,\"\")","v":""},null,{"$f":"IF(交付金交付請求書!X86<>\"\",交付金交付請求書!X86,\"\")","v":""},null,{"$f":"IF(交付金交付請求書!Z86<>\"\",交付金交付請求書!Z86,\"\")","v":""},null,null,null,null,0]
[null,null,{"$f":"IF(交付金交付請求書!C87<>\"\",交付金交付請求書!C87,\"\")","v":""},null,null,{"$f":"IF(交付金交付請求書!F87<>\"\",交付金交付請求書!F87,\"\")","v":""},null,null,null,null,{"$f":"IF(交付金交付請求書!K87<>\"\",交付金交付請求書!K87,\"\")","v":0},null,null,{"$f":"IF(交付金交付請求書!N87<>\"\",交付金交付請求書!N87,\"\")","v":""},null,null,null,null,null,null,null,{"$f":"IF(交付金交付請求書!V87<>\"\",交付金交付請求書!V87,\"\")","v":""},null,{"$f":"IF(交付金交付請求書!X87<>\"\",交付金交付請求書!X87,\"\")","v":""},null,{"$f":"IF(交付金交付請求書!Z87<>\"\",交付金交付請求書!Z87,\"\")","v":""},null,null,null,null,0]
[null,null,{"$f":"IF(交付金交付請求書!C88<>\"\",交付金交付請求書!C88,\"\")","v":""},null,null,{"$f":"IF(交付金交付請求書!F88<>\"\",交付金交付請求書!F88,\"\")","v":""},null,null,null,null,{"$f":"IF(交付金交付請求書!K88<>\"\",交付金交付請求書!K88,\"\")","v":0},null,null,{"$f":"IF(交付金交付請求書!N88<>\"\",交付金交付請求書!N88,\"\")","v":""},null,null,null,null,null,null,null,{"$f":"IF(交付金交付請求書!V88<>\"\",交付金交付請求書!V88,\"\")","v":""},null,{"$f":"IF(交付金交付請求書!X88<>\"\",交付金交付請求書!X88,\"\")","v":""},null,{"$f":"IF(交付金交付請求書!Z88<>\"\",交付金交付請求書!Z88,\"\")","v":""},null,null,null,null,0]
[null,null,{"$f":"IF(交付金交付請求書!C89<>\"\",交付金交付請求書!C89,\"\")","v":""},null,null,{"$f":"IF(交付金交付請求書!F89<>\"\",交付金交付請求書!F89,\"\")","v":""},null,null,null,null,{"$f":"IF(交付金交付請求書!K89<>\"\",交付金交付請求書!K89,\"\")","v":0},null,null,{"$f":"IF(交付金交付請求書!N89<>\"\",交付金交付請求書!N89,\"\")","v":""},null,null,null,null,null,null,null,{"$f":"IF(交付金交付請求書!V89<>\"\",交付金交付請求書!V89,\"\")","v":""},null,{"$f":"IF(交付金交付請求書!X89<>\"\",交付金交付請求書!X89,\"\")","v":""},null,{"$f":"IF(交付金交付請求書!Z89<>\"\",交付金交付請求書!Z89,\"\")","v":""},null,null,null,null,0]
[null,null,{"$f":"IF(交付金交付請求書!C90<>\"\",交付金交付請求書!C90,\"\")","v":""},null,null,{"$f":"IF(交付金交付請求書!F90<>\"\",交付金交付請求書!F90,\"\")","v":""},null,null,null,null,{"$f":"IF(交付金交付請求書!K90<>\"\",交付金交付請求書!K90,\"\")","v":0},null,null,{"$f":"IF(交付金交付請求書!N90<>\"\",交付金交付請求書!N90,\"\")","v":""},null,null,null,null,null,null,null,{"$f":"IF(交付金交付請求書!V90<>\"\",交付金交付請求書!V90,\"\")","v":""},null,{"$f":"IF(交付金交付請求書!X90<>\"\",交付金交付請求書!X90,\"\")","v":""},null,{"$f":"IF(交付金交付請求書!Z90<>\"\",交付金交付請求書!Z90,\"\")","v":""},null,null,null,null,0]
[null,null,"計",null,null,null,null,null,null,null,{"$f":"IF(交付金交付請求書!K91<>\"\",交付金交付請求書!K91,\"\")","v":0},null,null,null,null,null,null,null,null,null,null,null,null,null,null,null,null,null,null,null,2]
[]
[null,null,"（支出の部）　対象外経費"]
[null,null,"経　費　区　分",null,null,null,null,null,null,null,"予算額（円）",null,null,"支　出　内　容　（円）"]
[null,null,"科　目",null,null,"区　　分",null,null,null,null,null,null,null,"内容名",null,null,null,null,null,null,null,"単価",null,"数量",null,"単位"]
[null,null,{"$f":"IF(交付金交付請求書!C96<>\"\",交付金交付請求書!C96,\"\")","v":""},null,null,{"$f":"IF(交付金交付請求書!F96<>\"\",交付金交付請求書!F96,\"\")","v":""},null,null,null,null,{"$f":"IF(交付金交付請求書!K96<>\"\",交付金交付請求書!K96,\"\")","v":0},null,null,{"$f":"IF(交付金交付請求書!N96<>\"\",交付金交付請求書!N96,\"\")","v":""},null,null,null,null,null,null,null,{"$f":"IF(交付金交付請求書!V96<>\"\",交付金交付請求書!V96,\"\")","v":""},null,{"$f":"IF(交付金交付請求書!X96<>\"\",交付金交付請求書!X96,\"\")","v":""},null,{"$f":"IF(交付金交付請求書!Z96<>\"\",交付金交付請求書!Z96,\"\")","v":""},null,null,null,null,{"$f":"IF(AND(C96=\"\",F96=\"\",N96=\"\",V96=\"\",X96=\"\",Z96=\"\"),0,1)","v":0}]
[null,null,{"$f":"IF(交付金交付請求書!C97<>\"\",交付金交付請求書!C97,\"\")","v":""},null,null,{"$f":"IF(交付金交付請求書!F97<>\"\",交付金交付請求書!F97,\"\")","v":""},null,null,null,null,{"$f":"IF(交付金交付請求書!K97<>\"\",交付金交付請求書!K97,\"\")","v":0},null,null,{"$f":"IF(交付金交付請求書!N97<>\"\",交付金交付請求書!N97,\"\")","v":""},null,null,null,null,null,null,null,{"$f":"IF(交付金交付請求書!V97<>\"\",交付金交付請求書!V97,\"\")","v":""},null,{"$f":"IF(交付金交付請求書!X97<>\"\",交付金交付請求書!X97,\"\")","v":""},null,{"$f":"IF(交付金交付請求書!Z97<>\"\",交付金交付請求書!Z97,\"\")","v":""},null,null,null,null,{"$f":"IF(AND(C97=\"\",F97=\"\",N97=\"\",V97=\"\",X97=\"\",Z97=\"\"),0,1)","v":0}]
[null,null,{"$f":"IF(交付金交付請求書!C98<>\"\",交付金交付請求書!C98,\"\")","v":""},null,null,{"$f":"IF(交付金交付請求書!F98<>\"\",交付金交付請求書!F98,\"\")","v":""},null,null,null,null,{"$f":"IF(交付金交付請求書!K98<>\"\",交付金交付請求書!K98,\"\")","v":0},null,null,{"$f":"IF(交付金交付請求書!N98<>\"\",交付金交付請求書!N98,\"\")","v":""},null,null,null,null,null,null,null,{"$f":"IF(交付金交付請求書!V98<>\"\",交付金交付請求書!V98,\"\")","v":""},null,{"$f":"IF(交付金交付請求書!X98<>\"\",交付金交付請求書!X98,\"\")","v":""},null,{"$f":"IF(交付金交付請求書!Z98<>\"\",交付金交付請求書!Z98,\"\")","v":""},null,null,null,null,0]
[null,null,{"$f":"IF(交付金交付請求書!C99<>\"\",交付金交付請求書!C99,\"\")","v":""},null,null,{"$f":"IF(交付金交付請求書!F99<>\"\",交付金交付請求書!F99,\"\")","v":""},null,null,null,null,{"$f":"IF(交付金交付請求書!K99<>\"\",交付金交付請求書!K99,\"\")","v":0},null,null,{"$f":"IF(交付金交付請求書!N99<>\"\",交付金交付請求書!N99,\"\")","v":""},null,null,null,null,null,null,null,{"$f":"IF(交付金交付請求書!V99<>\"\",交付金交付請求書!V99,\"\")","v":""},null,{"$f":"IF(交付金交付請求書!X99<>\"\",交付金交付請求書!X99,\"\")","v":""},null,{"$f":"IF(交付金交付請求書!Z99<>\"\",交付金交付請求書!Z99,\"\")","v":""},null,null,null,null,0]
[null,null,{"$f":"IF(交付金交付請求書!C100<>\"\",交付金交付請求書!C100,\"\")","v":""},null,null,{"$f":"IF(交付金交付請求書!F100<>\"\",交付金交付請求書!F100,\"\")","v":""},null,null,null,null,{"$f":"IF(交付金交付請求書!K100<>\"\",交付金交付請求書!K100,\"\")","v":0},null,null,{"$f":"IF(交付金交付請求書!N100<>\"\",交付金交付請求書!N100,\"\")","v":""},null,null,null,null,null,null,null,{"$f":"IF(交付金交付請求書!V100<>\"\",交付金交付請求書!V100,\"\")","v":""},null,{"$f":"IF(交付金交付請求書!X100<>\"\",交付金交付請求書!X100,\"\")","v":""},null,{"$f":"IF(交付金交付請求書!Z100<>\"\",交付金交付請求書!Z100,\"\")","v":""},null,null,null,null,0]
[null,null,{"$f":"IF(交付金交付請求書!C101<>\"\",交付金交付請求書!C101,\"\")","v":""},null,null,{"$f":"IF(交付金交付請求書!F101<>\"\",交付金交付請求書!F101,\"\")","v":""},null,null,null,null,{"$f":"IF(交付金交付請求書!K101<>\"\",交付金交付請求書!K101,\"\")","v":0},null,null,{"$f":"IF(交付金交付請求書!N101<>\"\",交付金交付請求書!N101,\"\")","v":""},null,null,null,null,null,null,null,{"$f":"IF(交付金交付請求書!V101<>\"\",交付金交付請求書!V101,\"\")","v":""},null,{"$f":"IF(交付金交付請求書!X101<>\"\",交付金交付請求書!X101,\"\")","v":""},null,{"$f":"IF(交付金交付請求書!Z101<>\"\",交付金交付請求書!Z101,\"\")","v":""},null,null,null,null,0]
[null,null,{"$f":"IF(交付金交付請求書!C102<>\"\",交付金交付請求書!C102,\"\")","v":""},null,null,{"$f":"IF(交付金交付請求書!F102<>\"\",交付金交付請求書!F102,\"\")","v":""},null,null,null,null,{"$f":"IF(交付金交付請求書!K102<>\"\",交付金交付請求書!K102,\"\")","v":0},null,null,{"$f":"IF(交付金交付請求書!N102<>\"\",交付金交付請求書!N102,\"\")","v":""},null,null,null,null,null,null,null,{"$f":"IF(交付金交付請求書!V102<>\"\",交付金交付請求書!V102,\"\")","v":""},null,{"$f":"IF(交付金交付請求書!X102<>\"\",交付金交付請求書!X102,\"\")","v":""},null,{"$f":"IF(交付金交付請求書!Z102<>\"\",交付金交付請求書!Z102,\"\")","v":""},null,null,null,null,0]
[null,null,{"$f":"IF(交付金交付請求書!C103<>\"\",交付金交付請求書!C103,\"\")","v":""},null,null,{"$f":"IF(交付金交付請求書!F103<>\"\",交付金交付請求書!F103,\"\")","v":""},null,null,null,null,{"$f":"IF(交付金交付請求書!K103<>\"\",交付金交付請求書!K103,\"\")","v":0},null,null,{"$f":"IF(交付金交付請求書!N103<>\"\",交付金交付請求書!N103,\"\")","v":""},null,null,null,null,null,null,null,{"$f":"IF(交付金交付請求書!V103<>\"\",交付金交付請求書!V103,\"\")","v":""},null,{"$f":"IF(交付金交付請求書!X103<>\"\",交付金交付請求書!X103,\"\")","v":""},null,{"$f":"IF(交付金交付請求書!Z103<>\"\",交付金交付請求書!Z103,\"\")","v":""},null,null,null,null,0]
[null,null,{"$f":"IF(交付金交付請求書!C104<>\"\",交付金交付請求書!C104,\"\")","v":""},null,null,{"$f":"IF(交付金交付請求書!F104<>\"\",交付金交付請求書!F104,\"\")","v":""},null,null,null,null,{"$f":"IF(交付金交付請求書!K104<>\"\",交付金交付請求書!K104,\"\")","v":0},null,null,{"$f":"IF(交付金交付請求書!N104<>\"\",交付金交付請求書!N104,\"\")","v":""},null,null,null,null,null,null,null,{"$f":"IF(交付金交付請求書!V104<>\"\",交付金交付請求書!V104,\"\")","v":""},null,{"$f":"IF(交付金交付請求書!X104<>\"\",交付金交付請求書!X104,\"\")","v":""},null,{"$f":"IF(交付金交付請求書!Z104<>\"\",交付金交付請求書!Z104,\"\")","v":""},null,null,null,null,0]
[null,null,{"$f":"IF(交付金交付請求書!C105<>\"\",交付金交付請求書!C105,\"\")","v":""},null,null,{"$f":"IF(交付金交付請求書!F105<>\"\",交付金交付請求書!F105,\"\")","v":""},null,null,null,null,{"$f":"IF(交付金交付請求書!K105<>\"\",交付金交付請求書!K105,\"\")","v":0},null,null,{"$f":"IF(交付金交付請求書!N105<>\"\",交付金交付請求書!N105,\"\")","v":""},null,null,null,null,null,null,null,{"$f":"IF(交付金交付請求書!V105<>\"\",交付金交付請求書!V105,\"\")","v":""},null,{"$f":"IF(交付金交付請求書!X105<>\"\",交付金交付請求書!X105,\"\")","v":""},null,{"$f":"IF(交付金交付請求書!Z105<>\"\",交付金交付請求書!Z105,\"\")","v":""},null,null,null,null,0]
[null,null,"計",null,null,null,null,null,null,null,{"$f":"IF(交付金交付請求書!K106<>\"\",交付金交付請求書!K106,\"\")","v":0},null,null,null,null,null,null,null,null,null,null,null,null,null,null,null,null,null,null,null,2]
[]
[null,null,"支出の部合計",null,null,null,null,null,null,null,{"$f":"IF(交付金交付請求書!K108<>\"\",交付金交付請求書!K108,\"\")","v":0}]
[]
[null,null,"（注）　・経費区分欄は、交付対象経費、対象外経費に分けて記載する。ただし、交付対象外経"]
[null,null,"　　　　　費のない場合は交付対象外経費欄を省略して差し支えない。"]
[null,null,"　　　　・支出内容は数量、規模、単価等の積算根拠等を記載する。"]
[]
[null,"４　交付希望時期"]
[null,null,"令和",null,{"$f":"IF(交付金交付請求書!E115<>\"\",交付金交付請求書!E115,\"\")","v":""},null,"年",{"$f":"IF(交付金交付請求書!H115<>\"\",交付金交付請求書!H115,\"\")","v":""},null,"月",{"$f":"IF(交付金交付請求書!K115<>\"\",交付金交付請求書!K115,\"\")","v":""},null,"日"]
[null,null,"（注） 交付金の資金状況から遅れて交付することがある。"]
[]
[null,"５　振込先"]
[null,null,"銀行名・支店名",null,null,null,null,{"$f":"IF(交付金交付請求書!H119<>\"\",交付金交付請求書!H119,\"\")","v":""}]
[null,null,"口座番号",null,null,null,null,{"$f":"IF(交付金交付請求書!H120<>\"\",交付金交付請求書!H120,\"\")","v":""}]
[null,null,"口座名義人",null,null,null,null,{"$f":"IF(交付金交付請求書!H121<>\"\",交付金交付請求書!H121,\"\")","v":""}]
[]
[]
[null,null,null,null,null,"地区緑推\n経由",null,null,null,null,null,null,null,null,null,null,"市町村進達"]
[null,null,"名称",null,null,{"$f":"IF(交付金交付請求書!F125<>\"\",交付金交付請求書!F125,\"\")","v":""},null,null,null,null,null,null,null,null,null,null,{"$f":"IF(交付金交付請求書!Q125<>\"\",交付金交付請求書!Q125,\"\")","v":""}]
[null,null,"年月日",null,null,"令和",null,{"$f":"IF(交付金交付請求書!H126<>\"\",交付金交付請求書!H126,\"\")","v":""},null,"年",{"$f":"IF(交付金交付請求書!K126<>\"\",交付金交付請求書!K126,\"\")","v":""},null,"月",{"$f":"IF(交付金交付請求書!N126<>\"\",交付金交付請求書!N126,\"\")","v":""},null,"日","令和",null,{"$f":"IF(交付金交付請求書!S126<>\"\",交付金交付請求書!S126,\"\")","v":""},null,"年",{"$f":"IF(交付金交付請求書!V126<>\"\",交付金交付請求書!V126,\"\")","v":""},null,"月",{"$f":"IF(交付金交付請求書!Y126<>\"\",交付金交付請求書!Y126,\"\")","v":""},null,"日"]
[null,null,"文書番号",null,null,{"$f":"IF(交付金交付請求書!F127<>\"\",交付金交付請求書!F127,\"\")","v":""},null,null,null,null,null,"第",{"$f":"IF(交付金交付請求書!M127<>\"\",交付金交付請求書!M127,\"\")","v":""},null,null,"号",{"$f":"IF(交付金交付請求書!Q127<>\"\",交付金交付請求書!Q127,\"\")","v":""},null,null,null,null,null,{"$f":"IF(交付金交付請求書!W127<>\"\",交付金交付請求書!W127,\"\")","v":"第"},{"$f":"IF(交付金交付請求書!X127<>\"\",交付金交付請求書!X127,\"\")","v":""},null,null,"号"]

{"sheet":"実績報告","index":6,"n_rows":150,"n_cols":33,"rows_kept":150,"cut":false,"hidden":false,"merged":[[149,1,149,3],[149,4,149,9],[149,11,149,13],[149,15,149,20],[149,22,149,24],[40,3,41,8],[51,3,52,8],[118,7,119,9],[118,10,119,12],[118,13,119,15],[42,3,43,8],[44,3,48,8],[63,7,64,9],[63,10,64,12],[63,13,64,15],[146,1,146,3],[146,4,146,14],[146,15,146,25],[147,1,147,3],[147,4,147,14],[147,15,147,25],[148,1,148,3],[148,4,148,5],[148,6,148,7],[148,9,148,10],[148,12,148,13],[148,15,148,16],[148,17,148,18],[148,20,148,21],[148,23,148,24],[130,1,130,6],[130,7,130,9],[130,10,130,12],[130,13,130,15],[132,1,132,6],[132,7,132,9],[132,10,132,12],[132,13,132,15],[143,2,143,26],[129,1,129,2],[129,3,129,6],[129,7,129,9],[129,10,129,12],[129,13,129,15],[129,16,129,20],[129,21,129,22],[129,23,129,24],[129,25,129,26],[128,1,128,2],[128,3,128,6],[128,7,128,9],[128,10,128,12],[128,13,128,15],[128,16,128,20],[128,21,128,22],[128,23,128,24],[128,25,128,26],[127,1,127,2],[127,3,127,6],[127,7,127,9],[127,10,127,12],[127,13,127,15],[127,16,127,20],[127,21,127,22],[127,23,127,24],[127,25,127,26],[126,1,126,2],[126,3,126,6],[126,7,126,9],[126,10,126,12],[126,13,126,15],[126,16,126,20],[126,21,126,22],[126,23,126,24],[126,25,126,26],[125,1,125,2],[125,3,125,6],[125,7,125,9],[125,10,125,12],[125,13,125,15],[125,16,125,20],[125,21,125,22],[125,23,125,24],[125,25,125,26],[124,1,124,2],[124,3,124,6],[124,7,124,9],[124,10,124,12],[124,13,124,15],[124,16,124,20],[124,21,124,22],[124,23,124,24],[124,25,124,26],[123,1,123,2],[123,3,123,6],[123,7,123,9],[123,10,123,12],[123,13,123,15],[123,16,123,20],[123,21,123,22],[123,23,123,24],[123,25,123,26],[122,1,122,2],[122,3,122,6],[122,7,122,9],[122,10,122,12],[122,13,122,15],[122,16,122,20],[122,21,122,22],[122,23,122,24],[122,25,122,26],[121,1,121,2],[121,3,121,6],[121,7,121,9],[121,10,121,12],[121,13,121,15],[121,16,121,20],[121,21,121,22],[121,23,121,24],[121,25,121,26],[120,1,120,2],[120,3,120,6],[120,7,120,9],[120,10,120,12],[120,13,120,15],[120,16,120,20],[120,21,120,22],[120,23,120,24],[120,25,120,26],[115,1,115,6],[115,7,115,9],[115,10,115,12],[115,13,115,15],[118,1,118,6],[118,16,118,26],[119,1,119,2],[119,3,119,6],[119,16,119,20],[119,21,119,22],[119,23,119,24],[119,25,119,26],[114,1,114,2],[114,3,114,6],[114,7,114,9],[114,10,114,12],[114,13,114,15],[114,16,114,20],[114,21,114,22],[114,23,114,24],[114,25,114,26],[113,1,113,2],[113,3,113,6],[113,7,113,9],[113,10,113,12],[113,13,113,15],[113,16,113,20],[113,21,113,22],[113,23,113,24],[113,25,113,26],[112,1,112,2],[112,3,112,6],[112,7,112,9],[112,10,112,12],[112,13,112,15],[112,16,112,20],[112,21,112,22],[112,23,112,24],[112,25,112,26],[111,1,111,2],[111,3,111,6],[111,7,111,9],[111,10,111,12],[111,13,111,15],[111,16,111,20],[111,21,111,22],[111,23,111,24],[111,25,111,26],[110,1,110,2],[110,3,110,6],[110,7,110,9],[110,10,110,12],[110,13,110,15],[110,16,110,20],[110,21,110,22],[110,23,110,24],[110,25,110,26],[109,1,109,2],[109,3,109,6],[109,7,109,9],[109,10,109,12],[109,13,109,15],[109,16,109,20],[109,21,109,22],[109,23,109,24],[109,25,109,26],[108,1,108,2],[108,3,108,6],[108,7,108,9],[108,10,108,12],[108,13,108,15],[108,16,108,20],[108,21,108,22],[108,23,108,24],[108,25,108,26],[107,1,107,2],[107,3,107,6],[107,7,107,9],[107,10,107,12],[107,13,107,15],[107,16,107,20],[107,21,107,22],[107,23,107,24],[107,25,107,26],[106,1,106,2],[106,3,106,6],[106,7,106,9],[106,10,106,12],[106,13,106,15],[106,16,106,20],[106,21,106,22],[106,23,106,24],[106,25,106,26],[105,1,105,2],[105,3,105,6],[105,7,105,9],[105,10,105,12],[105,13,105,15],[105,16,105,20],[105,21,105,22],[105,23,105,24],[105,25,105,26],[104,1,104,2],[104,3,104,6],[104,7,104,9],[104,10,104,12],[104,13,104,15],[104,16,104,20],[104,21,104,22],[104,23,104,24],[104,25,104,26],[103,1,103,2],[103,3,103,6],[103,7,103,9],[103,10,103,12],[103,13,103,15],[103,16,103,20],[103,21,103,22],[103,23,103,24],[103,25,103,26],[102,1,102,2],[102,3,102,6],[102,7,102,9],[102,10,102,12],[102,13,102,15],[102,16,102,20],[102,21,102,22],[102,23,102,24],[102,25,102,26],[101,1,101,2],[101,3,101,6],[101,7,101,9],[101,10,101,12],[101,13,101,15],[101,16,101,20],[101,21,101,22],[101,23,101,24],[101,25,101,26],[100,1,100,2],[100,3,100,6],[100,7,100,9],[100,10,100,12],[100,13,100,15],[100,16,100,20],[100,21,100,22],[100,23,100,24],[100,25,100,26],[99,1,99,2],[99,3,99,6],[99,7,99,9],[99,10,99,12],[99,13,99,15],[99,16,99,20],[99,21,99,22],[99,23,99,24],[99,25,99,26],[98,1,98,2],[98,3,98,6],[98,7,98,9],[98,10,98,12],[98,13,98,15],[98,16,98,20],[98,21,98,22],[98,23,98,24],[98,25,98,26],[97,1,97,2],[97,3,97,6],[97,7,97,9],[97,10,97,12],[97,13,97,15],[97,16,97,20],[97,21,97,22],[97,23,97,24],[97,25,97,26],[96,1,96,2],[96,3,96,6],[96,7,96,9],[96,10,96,12],[96,13,96,15],[96,16,96,20],[96,21,96,22],[96,23,96,24],[96,25,96,26],[95,1,95,2],[95,3,95,6],[95,7,95,9],[95,10,95,12],[95,13,95,15],[95,16,95,20],[95,21,95,22],[95,23,95,24],[95,25,95,26],[94,1,94,2],[94,3,94,6],[94,7,94,9],[94,10,94,12],[94,13,94,15],[94,16,94,20],[94,21,94,22],[94,23,94,24],[94,25,94,26],[93,1,93,2],[93,3,93,6],[93,7,93,9],[93,10,93,12],[93,13,93,15],[93,16,93,20],[93,21,93,22],[93,23,93,24],[93,25,93,26],[92,1,92,2],[92,3,92,6],[92,7,92,9],[92,10,92,12],[92,13,92,15],[92,16,92,20],[92,21,92,22],[92,23,92,24],[92,25,92,26],[91,1,91,2],[91,3,91,6],[91,7,91,9],[91,10,91,12],[91,13,91,15],[91,16,91,20],[91,21,91,22],[91,23,91,24],[91,25,91,26],[90,1,90,2],[90,3,90,6],[90,7,90,9],[90,10,90,12],[90,13,90,15],[90,16,90,20],[90,21,90,22],[90,23,90,24],[90,25,90,26],[89,1,89,2],[89,3,89,6],[89,7,89,9],[89,10,89,12],[89,13,89,15],[89,16,89,20],[89,21,89,22],[89,23,89,24],[89,25,89,26],[88,1,88,2],[88,3,88,6],[88,7,88,9],[88,10,88,12],[88,13,88,15],[88,16,88,20],[88,21,88,22],[88,23,88,24],[88,25,88,26],[87,1,87,2],[87,3,87,6],[87,7,87,9],[87,10,87,12],[87,13,87,15],[87,16,87,20],[87,21,87,22],[87,23,87,24],[87,25,87,26],[86,1,86,2],[86,3,86,6],[86,7,86,9],[86,10,86,12],[86,13,86,15],[86,16,86,20],[86,21,86,22],[86,23,86,24],[86,25,86,26],[85,1,85,2],[85,3,85,6],[85,7,85,9],[85,10,85,12],[85,13,85,15],[85,16,85,20],[85,21,85,22],[85,23,85,24],[85,25,85,26],[84,1,84,2],[84,3,84,6],[84,7,84,9],[84,10,84,12],[84,13,84,15],[84,16,84,20],[84,21,84,22],[84,23,84,24],[84,25,84,26],[83,1,83,2],[83,3,83,6],[83,7,83,9],[83,10,83,12],[83,13,83,15],[83,16,83,20],[83,21,83,22],[83,23,83,24],[83,25,83,26],[82,1,82,2],[82,3,82,6],[82,7,82,9],[82,10,82,12],[82,13,82,15],[82,16,82,20],[82,21,82,22],[82,23,82,24],[82,25,82,26],[81,1,81,2],[81,3,81,6],[81,7,81,9],[81,10,81,12],[81,13,81,15],[81,16,81,20],[81,21,81,22],[81,23,81,24],[81,25,81,26],[80,1,80,2],[80,3,80,6],[80,7,80,9],[80,10,80,12],[80,13,80,15],[80,16,80,20],[80,21,80,22],[80,23,80,24],[80,25,80,26],[79,1,79,2],[79,3,79,6],[79,7,79,9],[79,10,79,12],[79,13,79,15],[79,16,79,20],[79,21,79,22],[79,23,79,24],[79,25,79,26],[78,1,78,2],[78,3,78,6],[78,7,78,9],[78,10,78,12],[78,13,78,15],[78,16,78,20],[78,21,78,22],[78,23,78,24],[78,25,78,26],[77,1,77,2],[77,3,77,6],[77,7,77,9],[77,10,77,12],[77,13,77,15],[77,16,77,20],[77,21,77,22],[77,23,77,24],[77,25,77,26],[76,1,76,2],[76,3,76,6],[76,7,76,9],[76,10,76,12],[76,13,76,15],[76,16,76,20],[76,21,76,22],[76,23,76,24],[76,25,76,26],[75,1,75,2],[75,3,75,6],[75,7,75,9],[75,10,75,12],[75,13,75,15],[75,16,75,20],[75,21,75,22],[75,23,75,24],[75,25,75,26],[74,1,74,2],[74,3,74,6],[74,7,74,9],[74,10,74,12],[74,13,74,15],[74,16,74,20],[74,21,74,22],[74,23,74,24],[74,25,74,26],[73,1,73,2],[73,3,73,6],[73,7,73,9],[73,10,73,12],[73,13,73,15],[73,16,73,20],[73,21,73,22],[73,23,73,24],[73,25,73,26],[72,1,72,2],[72,3,72,6],[72,7,72,9],[72,10,72,12],[72,13,72,15],[72,16,72,20],[72,21,72,22],[72,23,72,24],[72,25,72,26],[71,1,71,2],[71,3,71,6],[71,7,71,9],[71,10,71,12],[71,13,71,15],[71,16,71,20],[71,21,71,22],[71,23,71,24],[71,25,71,26],[70,1,70,2],[70,3,70,6],[70,7,70,9],[70,10,70,12],[70,13,70,15],[70,16,70,20],[70,21,70,22],[70,23,70,24],[70,25,70,26],[69,1,69,2],[69,3,69,6],[69,7,69,9],[69,10,69,12],[69,13,69,15],[69,16,69,20],[69,21,69,22],[69,23,69,24],[69,25,69,26],[68,1,68,2],[68,3,68,6],[68,7,68,9],[68,10,68,12],[68,13,68,15],[68,16,68,20],[68,21,68,22],[68,23,68,24],[68,25,68,26],[67,1,67,2],[67,3,67,6],[67,7,67,9],[67,10,67,12],[67,13,67,15],[67,16,67,20],[67,21,67,22],[67,23,67,24],[67,25,67,26],[66,1,66,2],[66,3,66,6],[66,7,66,9],[66,10,66,12],[66,13,66,15],[66,16,66,20],[66,21,66,22],[66,23,66,24],[66,25,66,26],[65,1,65,2],[65,3,65,6],[65,7,65,9],[65,10,65,12],[65,13,65,15],[65,16,65,20],[65,21,65,22],[65,23,65,24],[65,25,65,26],[60,1,60,7],[60,8,60,11],[60,12,60,15],[60,16,60,19],[60,20,60,26],[63,1,63,6],[63,16,63,26],[64,1,64,2],[64,3,64,6],[64,16,64,20],[64,21,64,22],[64,23,64,24],[64,25,64,26],[58,1,58,7],[58,8,58,11],[58,12,58,15],[58,16,58,19],[58,20,58,26],[59,1,59,7],[59,8,59,11],[59,12,59,15],[59,16,59,19],[59,20,59,26],[56,1,56,7],[56,8,56,11],[56,12,56,15],[56,16,56,19],[56,20,56,26],[57,1,57,7],[57,8,57,11],[57,12,57,15],[57,16,57,19],[57,20,57,26],[46,9,46,17],[46,18,46,22],[47,9,47,17],[47,18,47,22],[48,9,48,17],[48,18,48,22],[51,9,51,17],[51,18,51,22],[52,9,52,17],[52,18,52,22],[41,9,41,17],[41,18,41,22],[42,9,42,17],[42,18,42,22],[43,9,43,17],[43,18,43,22],[44,9,44,17],[44,18,44,22],[45,9,45,17],[45,18,45,22],[17,1,17,26],[21,3,21,15],[21,17,21,25],[24,3,24,26],[28,4,28,26],[31,4,31,26],[34,4,34,26],[37,4,37,26],[40,9,40,17],[40,18,40,22],[9,17,9,18],[9,20,9,22],[10,16,10,26],[11,16,11,26],[12,16,12,26],[14,1,14,26],[16,2,16,3],[16,4,16,5],[16,7,16,8],[16,10,16,11],[16,14,16,18],[16,20,16,23],[3,16,3,20],[3,22,3,25],[4,16,4,17],[4,18,4,19],[4,21,4,22],[4,24,4,25],[5,1,5,26],[7,1,7,2],[7,3,7,7]]}
[]
[]
["第5号様式"]
[null,null,null,null,null,null,null,null,null,null,null,null,null,null,null,null,null,null,null,null,null,"第",null,null,null,null,"号"]
[null,null,null,null,null,null,null,null,null,null,null,null,null,null,null,null,"令和",null,null,null,"年",null,null,"月",null,null,"日"]
[null,"（公財）山梨県緑化推進機構",null,null,null,null,null,null,null,null,null,null,null,null,null,null,null,null,null,null,null,null,null,null,null,null,null,null,null,null,null,null,"※事業認定申請書の情報が反映されます"]
[null,null,null,null,null,null,null,null,null,null,null,null,null,null,null,null,null,null,null,null,null,null,null,null,null,null,null,null,null,null,null,null,"※事業名に値が入力されている場合、情報の反映は実行されませんので注意してください"]
[null,"代表理事",null,"鷹野　裕司",null,null,null,null,"殿"]
[null,null,null,null,null,null,null,null,null,null,null,null,null,null,null,"（被交付者）"]
[null,null,null,null,null,null,null,null,null,null,null,null,null,null,null,null,"〒",null,null,"－"]
[null,null,null,null,null,null,null,null,null,null,null,null,null,null,null,null,"[住所]"]
[null,null,null,null,null,null,null,null,null,null,null,null,null,null,null,null,"[法人・団体の名称]"]
[null,null,null,null,null,null,null,null,null,null,null,null,null,null,null,null,"[代表者役職名・氏名]"]
[]
[null,"令和８年度　緑の募金事業実績報告書"]
[]
[null,null,"令和",null,null,null,"年",null,null,"月",null,null,"日付け",null,null,null,null,null,null,"第",null,null,null,null,"号","で"]
[null,"交付決定通知のあった緑の募金事業を、次のとおり実施したので、その実績を報告します。"]
[]
[null,"１　緑の募金事業実績報告"]
[null,null,"（１）　事業名"]
[]
[]
[null,null,"（２）　事業目的"]
[]
[]
[null,null,"（３）　事業内容　（事業認定（交付金交付）申請書　３（１）の「事業の内容」ごとに記入）"]
[null,null,null,"①　実施場所"]
[]
[]
[null,null,null,"②　実施年月日"]
[]
[]
[null,null,null,"③　実施内容"]
[]
[]
[null,null,null,"④　事業への参加者数・イベント等への来場者数"]
[]
[]
[null,null,"※　上記③の内、次の項目についての合計数"]
[null,null,null," 植栽本数",null,null,null,null,null," 樹木の植栽本数",null,null,null,null,null,null,null,null,null,null,null,null,null,"本"]
[null,null,null,null,null,null,null,null,null," 草花の植栽本数",null,null,null,null,null,null,null,null,null,null,null,null,null,"本"]
[null,null,null," 配付本数",null,null,null,null,null," イベント等での樹木の配付",null,null,null,null,null,null,null,null,null,null,null,null,null,"本"]
[null,null,null,null,null,null,null,null,null," イベント等での草花の配付",null,null,null,null,null,null,null,null,null,null,null,null,null,"本"]
[null,null,null," 森林整備面積",null,null,null,null,null," 植栽",null,null,null,null,null,null,null,null,null,null,null,null,null,"ha"]
[null,null,null,null,null,null,null,null,null," 下刈",null,null,null,null,null,null,null,null,null,null,null,null,null,"ha"]
[null,null,null,null,null,null,null,null,null," 除間伐",null,null,null,null,null,null,null,null,null,null,null,null,null,"ha"]
[null,null,null,null,null,null,null,null,null," 枝打",null,null,null,null,null,null,null,null,null,null,null,null,null,"ha"]
[null,null,null,null,null,null,null,null,null," その他"]
[]
[null,null,"※　上記④の項目についての合計数（のべ数）"]
[null,null,null," 参加・来場者数",null,null,null,null,null," のべ参加者（事業等）",null,null,null,null,null,null,null,null,null,null,null,null,null,"人"]
[null,null,null,null,null,null,null,null,null," 来場者（イベント等）",null,null,null,null,null,null,null,null,null,null,null,null,null,"人"]
[]
[null,"２　決算報告"]
[null,null,"（１）　収入の部"]
[null,"収 入 区 分",null,null,null,null,null,null,"予 算 額",null,null,null,"決 算 額",null,null,null,"差 引 増 減",null,null,null,"摘　　　　要"]
[null,"　緑の募金交付金",null,null,null,null,null,null,0,null,null,null,null,null,null,null,{"$f":"M58-I58","v":0}]
[null,"　その他の助成金",null,null,null,null,null,null,0,null,null,null,null,null,null,null,{"$f":"M59-I59","v":0}]
[null,"　自己資金",null,null,null,null,null,null,0,null,null,null,null,null,null,null,{"$f":"M60-I60","v":0}]
[null,"計",null,null,null,null,null,null,{"$f":"SUM(I58:L60)","v":0},null,null,null,{"$f":"SUM(M58:P60)","v":0},null,null,null,{"$f":"SUM(Q58:T60)","v":0}]
[]
[null,null,"（２）　支出の部　交付対象経費"]
[null,"経　費　区　分",null,null,null,null,null,"予 算 額",null,null,"決 算 額",null,null,"差引増減",null,null,"支　出　内　容　（円）"]
[null,"科 目",null,"区　分",null,null,null,null,null,null,null,null,null,null,null,null,"内容名",null,null,null,null,"単価",null,"数量",null,"単位"]
[null,null,null,null,null,null,null,0,null,null,{"$f":"V66*X66","v":0},null,null,{"$f":"K66-H66","v":0}]
[null,null,null,null,null,null,null,0,null,null,{"$f":"V67*X67","v":0},null,null,{"$f":"K67-H67","v":0}]
[null,null,null,null,null,null,null,0,null,null,{"$f":"V68*X68","v":0},null,null,{"$f":"K68-H68","v":0}]
[null,null,null,null,null,null,null,0,null,null,{"$f":"V69*X69","v":0},null,null,{"$f":"K69-H69","v":0}]
[null,null,null,null,null,null,null,0,null,null,0,null,null,0]
[null,null,null,null,null,null,null,0,null,null,0,null,null,0]
[null,null,null,null,null,null,null,0,null,null,0,null,null,0]
[null,null,null,null,null,null,null,0,null,null,0,null,null,0]
[null,null,null,null,null,null,null,0,null,null,0,null,null,0]
[null,null,null,null,null,null,null,0,null,null,0,null,null,0]
[null,null,null,null,null,null,null,0,null,null,0,null,null,0]
[null,null,null,null,null,null,null,0,null,null,0,null,null,0]
[null,null,null,null,null,null,null,0,null,null,0,null,null,0]
[null,null,null,null,null,null,null,0,null,null,0,null,null,0]
[null,null,null,null,null,null,null,0,null,null,0,null,null,0]
[null,null,null,null,null,null,null,0,null,null,0,null,null,0]
[null,null,null,null,null,null,null,0,null,null,0,null,null,0]
[null,null,null,null,null,null,null,0,null,null,0,null,null,0]
[null,null,null,null,null,null,null,0,null,null,0,null,null,0]
[null,null,null,null,null,null,null,0,null,null,0,null,null,0]
[null,null,null,null,null,null,null,0,null,null,0,null,null,0]
[null,null,null,null,null,null,null,0,null,null,0,null,null,0]
[null,null,null,null,null,null,null,0,null,null,0,null,null,0]
[null,null,null,null,null,null,null,0,null,null,0,null,null,0]
[null,null,null,null,null,null,null,0,null,null,0,null,null,0]
[null,null,null,null,null,null,null,0,null,null,0,null,null,0]
[null,null,null,null,null,null,null,0,null,null,0,null,null,0]
[null,null,null,null,null,null,null,0,null,null,0,null,null,0]
[null,null,null,null,null,null,null,0,null,null,0,null,null,0]
[null,null,null,null,null,null,null,0,null,null,0,null,null,0]
[null,null,null,null,null,null,null,0,null,null,0,null,null,0]
[null,null,null,null,null,null,null,0,null,null,0,null,null,0]
[null,null,null,null,null,null,null,0,null,null,0,null,null,0]
[null,null,null,null,null,null,null,0,null,null,0,null,null,0]
[null,null,null,null,null,null,null,0,null,null,0,null,null,0]
[null,null,null,null,null,null,null,0,null,null,0,null,null,0]
[null,null,null,null,null,null,null,0,null,null,0,null,null,0]
[null,null,null,null,null,null,null,0,null,null,0,null,null,0]
[null,null,null,null,null,null,null,0,null,null,0,null,null,0]
[null,null,null,null,null,null,null,0,null,null,0,null,null,0]
[null,null,null,null,null,null,null,0,null,null,0,null,null,0]
[null,null,null,null,null,null,null,0,null,null,0,null,null,0]
[null,null,null,null,null,null,null,0,null,null,0,null,null,0]
[null,null,null,null,null,null,null,0,null,null,0,null,null,0]
[null,null,null,null,null,null,null,0,null,null,0,null,null,0]
[null,null,null,null,null,null,null,0,null,null,0,null,null,0]
[null,null,null,null,null,null,null,0,null,null,0,null,null,0]
[null,null,null,null,null,null,null,0,null,null,0,null,null,0]
[null,null,null,null,null,null,null,0,null,null,0,null,null,0]
[null,null,null,null,null,null,null,0,null,null,0,null,null,0]
[null,"小 計",null,null,null,null,null,{"$f":"SUM(H66:J115)","v":0},null,null,{"$f":"SUM(K66:M115)","v":0},null,null,{"$f":"SUM(N66:P115)","v":0}]
[]
[null,null,"（３）　支出の部　対象外経費"]
[null,"経　費　区　分",null,null,null,null,null,"予 算 額",null,null,"決 算 額",null,null,"差引増減",null,null,"支　出　内　容　（円）"]
[null,"科 目",null,"区　分",null,null,null,null,null,null,null,null,null,null,null,null,"内容名",null,null,null,null,"単価",null,"数量",null,"単位"]
[null,null,null,null,null,null,null,0,null,null,{"$f":"V121*X121","v":0},null,null,{"$f":"K121-H121","v":0}]
[null,null,null,null,null,null,null,0,null,null,{"$f":"V122*X122","v":0},null,null,{"$f":"K122-H122","v":0}]
[null,null,null,null,null,null,null,0,null,null,{"$f":"V123*X123","v":0},null,null,0]
[null,null,null,null,null,null,null,0,null,null,0,null,null,0]
[null,null,null,null,null,null,null,0,null,null,0,null,null,0]
[null,null,null,null,null,null,null,0,null,null,0,null,null,0]
[null,null,null,null,null,null,null,0,null,null,0,null,null,0]
[null,null,null,null,null,null,null,0,null,null,0,null,null,0]
[null,null,null,null,null,null,null,0,null,null,0,null,null,0]
[null,null,null,null,null,null,null,0,null,null,0,null,null,0]
[null,"小 計",null,null,null,null,null,{"$f":"SUM(H121:J130)","v":0},null,null,{"$f":"SUM(K121:M130)","v":0},null,null,{"$f":"SUM(N121:P130)","v":0}]
[null,null,null,null,null,null,null,null,null,null,null,null,null,null,null,null,null,{"$f":"IF(I61<>H133,\"※予算額の「収入の部計」と「支出の部計」の値が異なっています\",\"\")","v":""}]
[null,"支出の部合計",null,null,null,null,null,{"$f":"H116+H131","v":0},null,null,{"$f":"K116+K131","v":0},null,null,{"$f":"N116+N131","v":0},null,null,null,{"$f":"IF(M61<>K133,\"※決算額の「収入の部計」と「支出の部計」の値が異なっています\",\"\")","v":""}]
[]
[null,null,"（注）　１　経費区分欄は、交付対象経費、交付対象外経費に分け、経費区分ごとに記載する。"]
[null,null,"　　　　２　交付対象外経費のないものは、交付対象外経費欄は省略して差しつかえない。"]
[null,null,"　　　　３　支出内容は数量、規模、単価等の支出内訳を記載する。"]
[]
[null,null,"添付書類"]
[null,null,"　　　　１　交付対象経費の支出を証する領収書の写し。"]
[null,null,"　　　　２　緑の募金事業により実施したことを明らかにした標識または標示の写真。"]
[null,null,"　　　　３　位置図、完成設計書、パンフレット、実施状況写真等の実績内容のわかる資料。"]
[null,null,"（以下に添付ファイル名を記入する。）"]
[]
[]
[null,"※以下事務局使用欄（申請者には入力不要です）"]
[null,null,null,null,"地区緑推\n経由",null,null,null,null,null,null,null,null,null,null,"市町村進達"]
[null,"名称"]
[null,"年月日",null,null,"令和",null,null,null,"年",null,null,"月",null,null,"日","令和",null,null,null,"年",null,null,"月",null,null,"日"]
[null,"文書番号",null,null,{"$f":"IF(E148<>\"\",VLOOKUP(E148,地区緑推一覧!A:C,3,FALSE),\"\")","v":""},null,null,null,null,null,"第",null,null,null,"号",null,null,null,null,null,null,"第",null,null,null,"号"]

{"sheet":"【印刷】実績報告","index":7,"n_rows":150,"n_cols":31,"rows_kept":150,"cut":false,"hidden":false,"merged":[[149,1,149,3],[149,4,149,9],[149,11,149,13],[149,15,149,20],[149,22,149,24],[40,3,41,8],[42,3,43,8],[44,3,48,8],[51,3,52,8],[63,7,64,9],[63,10,64,12],[63,13,64,15],[118,7,119,9],[118,10,119,12],[118,13,119,15],[146,1,146,3],[146,4,146,14],[146,15,146,25],[147,1,147,3],[147,4,147,14],[147,15,147,25],[148,1,148,3],[148,4,148,5],[148,6,148,7],[148,9,148,10],[148,12,148,13],[148,15,148,16],[148,17,148,18],[148,20,148,21],[148,23,148,24],[130,1,130,6],[130,7,130,9],[130,10,130,12],[130,13,130,15],[132,1,132,6],[132,7,132,9],[132,10,132,12],[132,13,132,15],[143,2,143,26],[129,1,129,2],[129,3,129,6],[129,7,129,9],[129,10,129,12],[129,13,129,15],[129,16,129,20],[129,21,129,22],[129,23,129,24],[129,25,129,26],[128,1,128,2],[128,3,128,6],[128,7,128,9],[128,10,128,12],[128,13,128,15],[128,16,128,20],[128,21,128,22],[128,23,128,24],[128,25,128,26],[127,1,127,2],[127,3,127,6],[127,7,127,9],[127,10,127,12],[127,13,127,15],[127,16,127,20],[127,21,127,22],[127,23,127,24],[127,25,127,26],[126,1,126,2],[126,3,126,6],[126,7,126,9],[126,10,126,12],[126,13,126,15],[126,16,126,20],[126,21,126,22],[126,23,126,24],[126,25,126,26],[125,1,125,2],[125,3,125,6],[125,7,125,9],[125,10,125,12],[125,13,125,15],[125,16,125,20],[125,21,125,22],[125,23,125,24],[125,25,125,26],[124,1,124,2],[124,3,124,6],[124,7,124,9],[124,10,124,12],[124,13,124,15],[124,16,124,20],[124,21,124,22],[124,23,124,24],[124,25,124,26],[123,1,123,2],[123,3,123,6],[123,7,123,9],[123,10,123,12],[123,13,123,15],[123,16,123,20],[123,21,123,22],[123,23,123,24],[123,25,123,26],[122,1,122,2],[122,3,122,6],[122,7,122,9],[122,10,122,12],[122,13,122,15],[122,16,122,20],[122,21,122,22],[122,23,122,24],[122,25,122,26],[121,1,121,2],[121,3,121,6],[121,7,121,9],[121,10,121,12],[121,13,121,15],[121,16,121,20],[121,21,121,22],[121,23,121,24],[121,25,121,26],[120,1,120,2],[120,3,120,6],[120,7,120,9],[120,10,120,12],[120,13,120,15],[120,16,120,20],[120,21,120,22],[120,23,120,24],[120,25,120,26],[115,1,115,6],[115,7,115,9],[115,10,115,12],[115,13,115,15],[118,1,118,6],[118,16,118,26],[119,1,119,2],[119,3,119,6],[119,16,119,20],[119,21,119,22],[119,23,119,24],[119,25,119,26],[114,1,114,2],[114,3,114,6],[114,7,114,9],[114,10,114,12],[114,13,114,15],[114,16,114,20],[114,21,114,22],[114,23,114,24],[114,25,114,26],[113,1,113,2],[113,3,113,6],[113,7,113,9],[113,10,113,12],[113,13,113,15],[113,16,113,20],[113,21,113,22],[113,23,113,24],[113,25,113,26],[112,1,112,2],[112,3,112,6],[112,7,112,9],[112,10,112,12],[112,13,112,15],[112,16,112,20],[112,21,112,22],[112,23,112,24],[112,25,112,26],[111,1,111,2],[111,3,111,6],[111,7,111,9],[111,10,111,12],[111,13,111,15],[111,16,111,20],[111,21,111,22],[111,23,111,24],[111,25,111,26],[110,1,110,2],[110,3,110,6],[110,7,110,9],[110,10,110,12],[110,13,110,15],[110,16,110,20],[110,21,110,22],[110,23,110,24],[110,25,110,26],[109,1,109,2],[109,3,109,6],[109,7,109,9],[109,10,109,12],[109,13,109,15],[109,16,109,20],[109,21,109,22],[109,23,109,24],[109,25,109,26],[108,1,108,2],[108,3,108,6],[108,7,108,9],[108,10,108,12],[108,13,108,15],[108,16,108,20],[108,21,108,22],[108,23,108,24],[108,25,108,26],[107,1,107,2],[107,3,107,6],[107,7,107,9],[107,10,107,12],[107,13,107,15],[107,16,107,20],[107,21,107,22],[107,23,107,24],[107,25,107,26],[106,1,106,2],[106,3,106,6],[106,7,106,9],[106,10,106,12],[106,13,106,15],[106,16,106,20],[106,21,106,22],[106,23,106,24],[106,25,106,26],[105,1,105,2],[105,3,105,6],[105,7,105,9],[105,10,105,12],[105,13,105,15],[105,16,105,20],[105,21,105,22],[105,23,105,24],[105,25,105,26],[104,1,104,2],[104,3,104,6],[104,7,104,9],[104,10,104,12],[104,13,104,15],[104,16,104,20],[104,21,104,22],[104,23,104,24],[104,25,104,26],[103,1,103,2],[103,3,103,6],[103,7,103,9],[103,10,103,12],[103,13,103,15],[103,16,103,20],[103,21,103,22],[103,23,103,24],[103,25,103,26],[102,1,102,2],[102,3,102,6],[102,7,102,9],[102,10,102,12],[102,13,102,15],[102,16,102,20],[102,21,102,22],[102,23,102,24],[102,25,102,26],[101,1,101,2],[101,3,101,6],[101,7,101,9],[101,10,101,12],[101,13,101,15],[101,16,101,20],[101,21,101,22],[101,23,101,24],[101,25,101,26],[100,1,100,2],[100,3,100,6],[100,7,100,9],[100,10,100,12],[100,13,100,15],[100,16,100,20],[100,21,100,22],[100,23,100,24],[100,25,100,26],[99,1,99,2],[99,3,99,6],[99,7,99,9],[99,10,99,12],[99,13,99,15],[99,16,99,20],[99,21,99,22],[99,23,99,24],[99,25,99,26],[98,1,98,2],[98,3,98,6],[98,7,98,9],[98,10,98,12],[98,13,98,15],[98,16,98,20],[98,21,98,22],[98,23,98,24],[98,25,98,26],[97,1,97,2],[97,3,97,6],[97,7,97,9],[97,10,97,12],[97,13,97,15],[97,16,97,20],[97,21,97,22],[97,23,97,24],[97,25,97,26],[96,1,96,2],[96,3,96,6],[96,7,96,9],[96,10,96,12],[96,13,96,15],[96,16,96,20],[96,21,96,22],[96,23,96,24],[96,25,96,26],[95,1,95,2],[95,3,95,6],[95,7,95,9],[95,10,95,12],[95,13,95,15],[95,16,95,20],[95,21,95,22],[95,23,95,24],[95,25,95,26],[94,1,94,2],[94,3,94,6],[94,7,94,9],[94,10,94,12],[94,13,94,15],[94,16,94,20],[94,21,94,22],[94,23,94,24],[94,25,94,26],[93,1,93,2],[93,3,93,6],[93,7,93,9],[93,10,93,12],[93,13,93,15],[93,16,93,20],[93,21,93,22],[93,23,93,24],[93,25,93,26],[92,1,92,2],[92,3,92,6],[92,7,92,9],[92,10,92,12],[92,13,92,15],[92,16,92,20],[92,21,92,22],[92,23,92,24],[92,25,92,26],[91,1,91,2],[91,3,91,6],[91,7,91,9],[91,10,91,12],[91,13,91,15],[91,16,91,20],[91,21,91,22],[91,23,91,24],[91,25,91,26],[90,1,90,2],[90,3,90,6],[90,7,90,9],[90,10,90,12],[90,13,90,15],[90,16,90,20],[90,21,90,22],[90,23,90,24],[90,25,90,26],[89,1,89,2],[89,3,89,6],[89,7,89,9],[89,10,89,12],[89,13,89,15],[89,16,89,20],[89,21,89,22],[89,23,89,24],[89,25,89,26],[88,1,88,2],[88,3,88,6],[88,7,88,9],[88,10,88,12],[88,13,88,15],[88,16,88,20],[88,21,88,22],[88,23,88,24],[88,25,88,26],[87,1,87,2],[87,3,87,6],[87,7,87,9],[87,10,87,12],[87,13,87,15],[87,16,87,20],[87,21,87,22],[87,23,87,24],[87,25,87,26],[86,1,86,2],[86,3,86,6],[86,7,86,9],[86,10,86,12],[86,13,86,15],[86,16,86,20],[86,21,86,22],[86,23,86,24],[86,25,86,26],[85,1,85,2],[85,3,85,6],[85,7,85,9],[85,10,85,12],[85,13,85,15],[85,16,85,20],[85,21,85,22],[85,23,85,24],[85,25,85,26],[84,1,84,2],[84,3,84,6],[84,7,84,9],[84,10,84,12],[84,13,84,15],[84,16,84,20],[84,21,84,22],[84,23,84,24],[84,25,84,26],[83,1,83,2],[83,3,83,6],[83,7,83,9],[83,10,83,12],[83,13,83,15],[83,16,83,20],[83,21,83,22],[83,23,83,24],[83,25,83,26],[82,1,82,2],[82,3,82,6],[82,7,82,9],[82,10,82,12],[82,13,82,15],[82,16,82,20],[82,21,82,22],[82,23,82,24],[82,25,82,26],[81,1,81,2],[81,3,81,6],[81,7,81,9],[81,10,81,12],[81,13,81,15],[81,16,81,20],[81,21,81,22],[81,23,81,24],[81,25,81,26],[80,1,80,2],[80,3,80,6],[80,7,80,9],[80,10,80,12],[80,13,80,15],[80,16,80,20],[80,21,80,22],[80,23,80,24],[80,25,80,26],[79,1,79,2],[79,3,79,6],[79,7,79,9],[79,10,79,12],[79,13,79,15],[79,16,79,20],[79,21,79,22],[79,23,79,24],[79,25,79,26],[78,1,78,2],[78,3,78,6],[78,7,78,9],[78,10,78,12],[78,13,78,15],[78,16,78,20],[78,21,78,22],[78,23,78,24],[78,25,78,26],[77,1,77,2],[77,3,77,6],[77,7,77,9],[77,10,77,12],[77,13,77,15],[77,16,77,20],[77,21,77,22],[77,23,77,24],[77,25,77,26],[76,1,76,2],[76,3,76,6],[76,7,76,9],[76,10,76,12],[76,13,76,15],[76,16,76,20],[76,21,76,22],[76,23,76,24],[76,25,76,26],[75,1,75,2],[75,3,75,6],[75,7,75,9],[75,10,75,12],[75,13,75,15],[75,16,75,20],[75,21,75,22],[75,23,75,24],[75,25,75,26],[74,1,74,2],[74,3,74,6],[74,7,74,9],[74,10,74,12],[74,13,74,15],[74,16,74,20],[74,21,74,22],[74,23,74,24],[74,25,74,26],[73,1,73,2],[73,3,73,6],[73,7,73,9],[73,10,73,12],[73,13,73,15],[73,16,73,20],[73,21,73,22],[73,23,73,24],[73,25,73,26],[72,1,72,2],[72,3,72,6],[72,7,72,9],[72,10,72,12],[72,13,72,15],[72,16,72,20],[72,21,72,22],[72,23,72,24],[72,25,72,26],[71,1,71,2],[71,3,71,6],[71,7,71,9],[71,10,71,12],[71,13,71,15],[71,16,71,20],[71,21,71,22],[71,23,71,24],[71,25,71,26],[70,1,70,2],[70,3,70,6],[70,7,70,9],[70,10,70,12],[70,13,70,15],[70,16,70,20],[70,21,70,22],[70,23,70,24],[70,25,70,26],[69,1,69,2],[69,3,69,6],[69,7,69,9],[69,10,69,12],[69,13,69,15],[69,16,69,20],[69,21,69,22],[69,23,69,24],[69,25,69,26],[68,1,68,2],[68,3,68,6],[68,7,68,9],[68,10,68,12],[68,13,68,15],[68,16,68,20],[68,21,68,22],[68,23,68,24],[68,25,68,26],[67,1,67,2],[67,3,67,6],[67,7,67,9],[67,10,67,12],[67,13,67,15],[67,16,67,20],[67,21,67,22],[67,23,67,24],[67,25,67,26],[66,1,66,2],[66,3,66,6],[66,7,66,9],[66,10,66,12],[66,13,66,15],[66,16,66,20],[66,21,66,22],[66,23,66,24],[66,25,66,26],[65,1,65,2],[65,3,65,6],[65,7,65,9],[65,10,65,12],[65,13,65,15],[65,16,65,20],[65,21,65,22],[65,23,65,24],[65,25,65,26],[60,1,60,7],[60,8,60,11],[60,12,60,15],[60,16,60,19],[60,20,60,26],[63,1,63,6],[63,16,63,26],[64,1,64,2],[64,3,64,6],[64,16,64,20],[64,21,64,22],[64,23,64,24],[64,25,64,26],[58,1,58,7],[58,8,58,11],[58,12,58,15],[58,16,58,19],[58,20,58,26],[59,1,59,7],[59,8,59,11],[59,12,59,15],[59,16,59,19],[59,20,59,26],[56,1,56,7],[56,8,56,11],[56,12,56,15],[56,16,56,19],[56,20,56,26],[57,1,57,7],[57,8,57,11],[57,12,57,15],[57,16,57,19],[57,20,57,26],[46,9,46,17],[46,18,46,22],[47,9,47,17],[47,18,47,22],[48,9,48,17],[48,18,48,22],[51,9,51,17],[51,18,51,22],[52,9,52,17],[52,18,52,22],[41,9,41,17],[41,18,41,22],[42,9,42,17],[42,18,42,22],[43,9,43,17],[43,18,43,22],[44,9,44,17],[44,18,44,22],[45,9,45,17],[45,18,45,22],[17,1,17,26],[21,3,21,15],[21,17,21,25],[24,3,24,26],[28,4,28,26],[31,4,31,26],[34,4,34,26],[37,4,37,26],[40,9,40,17],[40,18,40,22],[9,17,9,18],[9,20,9,22],[10,16,10,26],[11,16,11,26],[12,16,12,26],[14,1,14,26],[16,2,16,3],[16,4,16,5],[16,7,16,8],[16,10,16,11],[16,14,16,18],[16,20,16,23],[3,16,3,20],[3,22,3,25],[4,16,4,17],[4,18,4,19],[4,21,4,22],[4,24,4,25],[5,1,5,26],[7,1,7,2],[7,3,7,7]]}
[]
[]
["第5号様式"]
[null,null,null,null,null,null,null,null,null,null,null,null,null,null,null,null,{"$f":"IF(実績報告!Q4<>\"\",実績報告!Q4,\"\")","v":""},null,null,null,null,{"$f":"IF(実績報告!V4<>\"\",実績報告!V4,\"\")","v":"第"},{"$f":"IF(実績報告!W4<>\"\",実績報告!W4,\"\")","v":""},null,null,null,"号"]
[null,null,null,null,null,null,null,null,null,null,null,null,null,null,null,null,"令和",null,{"$f":"IF(実績報告!S5<>\"\",実績報告!S5,\"\")","v":""},null,"年",{"$f":"IF(実績報告!V5<>\"\",実績報告!V5,\"\")","v":""},null,"月",{"$f":"IF(実績報告!Y5<>\"\",実績報告!Y5,\"\")","v":""},null,"日"]
[null,"（公財）山梨県緑化推進機構"]
[]
[null,"代表理事",null,{"$f":"IF(実績報告!D8<>\"\",実績報告!D8,\"\")","v":"鷹野　裕司"},null,null,null,null,"殿"]
[null,null,null,null,null,null,null,null,null,null,null,null,null,null,null,"（被交付者）"]
[null,null,null,null,null,null,null,null,null,null,null,null,null,null,null,null,"〒",{"$f":"IF(実績報告!R10<>\"\",実績報告!R10,\"\")","v":""},null,"－",{"$f":"IF(実績報告!U10<>\"\",実績報告!U10,\"\")","v":""}]
[null,null,null,null,null,null,null,null,null,null,null,null,null,null,null,null,{"$f":"IF(実績報告!Q11<>\"\",実績報告!Q11,\"\")","v":"[住所]"}]
[null,null,null,null,null,null,null,null,null,null,null,null,null,null,null,null,{"$f":"IF(実績報告!Q12<>\"\",実績報告!Q12,\"\")","v":"[法人・団体の名称]"}]
[null,null,null,null,null,null,null,null,null,null,null,null,null,null,null,null,{"$f":"IF(実績報告!Q13<>\"\",実績報告!Q13,\"\")","v":"[代表者役職名・氏名]"}]
[]
[null,"令和８年度　緑の募金事業実績報告書"]
[]
[null,null,"令和",null,{"$f":"IF(実績報告!E17<>\"\",実績報告!E17,\"\")","v":""},null,"年",{"$f":"IF(実績報告!H17<>\"\",実績報告!H17,\"\")","v":""},null,"月",{"$f":"IF(実績報告!K17<>\"\",実績報告!K17,\"\")","v":""},null,"日付け",null,{"$f":"IF(実績報告!O17<>\"\",実績報告!O17,\"\")","v":""},null,null,null,null,"第",{"$f":"IF(実績報告!U17<>\"\",実績報告!U17,\"\")","v":""},null,null,null,"号","で"]
[null,"交付決定通知のあった緑の募金事業を、次のとおり実施したので、その実績を報告します。"]
[]
[null,"１　緑の募金事業実績報告"]
[null,null,"（１）　事業名"]
[null,null,null,{"$f":"IF(実績報告!D22<>\"\",実績報告!D22,\"\")","v":""},null,null,null,null,null,null,null,null,null,null,null,null,null,{"$f":"IF(実績報告!R22<>\"\",実績報告!R22,\"\")","v":""}]
[]
[null,null,"（２）　事業目的"]
[null,null,null,{"$f":"IF(実績報告!D25<>\"\",実績報告!D25,\"\")","v":""}]
[]
[null,null,"（３）　事業内容　（事業認定（交付金交付）申請書　３（１）の「事業の内容」ごとに記入）"]
[null,null,null,"①　実施場所"]
[null,null,null,null,{"$f":"IF(実績報告!E29<>\"\",実績報告!E29,\"\")","v":""}]
[]
[null,null,null,"②　実施年月日"]
[null,null,null,null,{"$f":"IF(実績報告!E32<>\"\",実績報告!E32,\"\")","v":""}]
[]
[null,null,null,"③　実施内容"]
[null,null,null,null,{"$f":"IF(実績報告!E35<>\"\",実績報告!E35,\"\")","v":""}]
[]
[null,null,null,"④　事業への参加者数・イベント等への来場者数"]
[null,null,null,null,{"$f":"IF(実績報告!E38<>\"\",実績報告!E38,\"\")","v":""}]
[]
[null,null,"※　上記③の内、次の項目についての合計数"]
[null,null,null," 植栽本数",null,null,null,null,null," 樹木の植栽本数",null,null,null,null,null,null,null,null,{"$f":"IF(実績報告!S41<>\"\",実績報告!S41,\"\")","v":""},null,null,null,null,"本"]
[null,null,null,null,null,null,null,null,null," 草花の植栽本数",null,null,null,null,null,null,null,null,{"$f":"IF(実績報告!S42<>\"\",実績報告!S42,\"\")","v":""},null,null,null,null,"本"]
[null,null,null," 配付本数",null,null,null,null,null," イベント等での樹木の配付",null,null,null,null,null,null,null,null,{"$f":"IF(実績報告!S43<>\"\",実績報告!S43,\"\")","v":""},null,null,null,null,"本"]
[null,null,null,null,null,null,null,null,null," イベント等での草花の配付",null,null,null,null,null,null,null,null,{"$f":"IF(実績報告!S44<>\"\",実績報告!S44,\"\")","v":""},null,null,null,null,"本"]
[null,null,null," 森林整備面積",null,null,null,null,null," 植栽",null,null,null,null,null,null,null,null,{"$f":"IF(実績報告!S45<>\"\",実績報告!S45,\"\")","v":""},null,null,null,null,"ha"]
[null,null,null,null,null,null,null,null,null," 下刈",null,null,null,null,null,null,null,null,{"$f":"IF(実績報告!S46<>\"\",実績報告!S46,\"\")","v":""},null,null,null,null,"ha"]
[null,null,null,null,null,null,null,null,null," 除間伐",null,null,null,null,null,null,null,null,{"$f":"IF(実績報告!S47<>\"\",実績報告!S47,\"\")","v":""},null,null,null,null,"ha"]
[null,null,null,null,null,null,null,null,null," 枝打",null,null,null,null,null,null,null,null,{"$f":"IF(実績報告!S48<>\"\",実績報告!S48,\"\")","v":""},null,null,null,null,"ha"]
[null,null,null,null,null,null,null,null,null," その他",null,null,null,null,null,null,null,null,{"$f":"IF(実績報告!S49<>\"\",実績報告!S49,\"\")","v":""},null,null,null,null,{"$f":"IF(実績報告!X49<>\"\",実績報告!X49,\"\")","v":""}]
[]
[null,null,"※　上記④の項目についての合計数（のべ数）"]
[null,null,null," 参加・来場者数",null,null,null,null,null," のべ参加者（事業等）",null,null,null,null,null,null,null,null,{"$f":"IF(実績報告!S52<>\"\",実績報告!S52,\"\")","v":""},null,null,null,null,"人"]
[null,null,null,null,null,null,null,null,null," 来場者（イベント等）",null,null,null,null,null,null,null,null,{"$f":"IF(実績報告!S53<>\"\",実績報告!S53,\"\")","v":""},null,null,null,null,"人"]
[]
[null,"２　決算報告"]
[null,null,"（１）　収入の部"]
[null,"収 入 区 分",null,null,null,null,null,null,"予 算 額",null,null,null,"決 算 額",null,null,null,"差 引 増 減",null,null,null,"摘　　　　要"]
[null,"　緑の募金交付金",null,null,null,null,null,null,{"$f":"IF(実績報告!I58<>\"\",実績報告!I58,\"\")","v":0},null,null,null,{"$f":"IF(実績報告!M58<>\"\",実績報告!M58,\"\")","v":""},null,null,null,{"$f":"IF(実績報告!Q58<>\"\",実績報告!Q58,\"\")","v":0},null,null,null,{"$f":"IF(実績報告!U58<>\"\",実績報告!U58,\"\")","v":""}]
[null,"　その他の助成金",null,null,null,null,null,null,{"$f":"IF(実績報告!I59<>\"\",実績報告!I59,\"\")","v":0},null,null,null,{"$f":"IF(実績報告!M59<>\"\",実績報告!M59,\"\")","v":""},null,null,null,{"$f":"IF(実績報告!Q59<>\"\",実績報告!Q59,\"\")","v":0},null,null,null,{"$f":"IF(実績報告!U59<>\"\",実績報告!U59,\"\")","v":""}]
[null,"　自己資金",null,null,null,null,null,null,{"$f":"IF(実績報告!I60<>\"\",実績報告!I60,\"\")","v":0},null,null,null,{"$f":"IF(実績報告!M60<>\"\",実績報告!M60,\"\")","v":""},null,null,null,{"$f":"IF(実績報告!Q60<>\"\",実績報告!Q60,\"\")","v":0},null,null,null,{"$f":"IF(実績報告!U60<>\"\",実績報告!U60,\"\")","v":""}]
[null,"計",null,null,null,null,null,null,{"$f":"IF(実績報告!I61<>\"\",実績報告!I61,\"\")","v":0},null,null,null,{"$f":"IF(実績報告!M61<>\"\",実績報告!M61,\"\")","v":0},null,null,null,{"$f":"IF(実績報告!Q61<>\"\",実績報告!Q61,\"\")","v":0},null,null,null,{"$f":"IF(実績報告!U61<>\"\",実績報告!U61,\"\")","v":""}]
[]
[null,null,"（２）　支出の部　交付対象経費"]
[null,"経　費　区　分",null,null,null,null,null,"予 算 額",null,null,"決 算 額",null,null,"差引増減",null,null,"支　出　内　容　（円）"]
[null,"科 目",null,"区　分",null,null,null,null,null,null,null,null,null,null,null,null,"内容名",null,null,null,null,"単価",null,"数量",null,"単位"]
[null,{"$f":"IF(実績報告!B66<>\"\",実績報告!B66,\"\")","v":""},null,{"$f":"IF(実績報告!D66<>\"\",実績報告!D66,\"\")","v":""},null,null,null,{"$f":"IF(実績報告!H66<>\"\",実績報告!H66,\"\")","v":0},null,null,{"$f":"IF(実績報告!K66<>\"\",実績報告!K66,\"\")","v":0},null,null,{"$f":"IF(実績報告!N66<>\"\",実績報告!N66,\"\")","v":0},null,null,{"$f":"IF(実績報告!Q66<>\"\",実績報告!Q66,\"\")","v":""},null,null,null,null,{"$f":"IF(実績報告!V66<>\"\",実績報告!V66,\"\")","v":""},null,{"$f":"IF(実績報告!X66<>\"\",実績報告!X66,\"\")","v":""},null,{"$f":"IF(実績報告!Z66<>\"\",実績報告!Z66,\"\")","v":""},null,{"$f":"IF(実績報告!AB66<>\"\",実績報告!AB66,\"\")","v":""},null,null,{"$f":"IF(AND(B66=\"\",D66=\"\",Q66=\"\",V66=\"\",X66=\"\",Z66),0,1)","v":0}]
[null,{"$f":"IF(実績報告!B67<>\"\",実績報告!B67,\"\")","v":""},null,{"$f":"IF(実績報告!D67<>\"\",実績報告!D67,\"\")","v":""},null,null,null,{"$f":"IF(実績報告!H67<>\"\",実績報告!H67,\"\")","v":0},null,null,{"$f":"IF(実績報告!K67<>\"\",実績報告!K67,\"\")","v":0},null,null,{"$f":"IF(実績報告!N67<>\"\",実績報告!N67,\"\")","v":0},null,null,{"$f":"IF(実績報告!Q67<>\"\",実績報告!Q67,\"\")","v":""},null,null,null,null,{"$f":"IF(実績報告!V67<>\"\",実績報告!V67,\"\")","v":""},null,{"$f":"IF(実績報告!X67<>\"\",実績報告!X67,\"\")","v":""},null,{"$f":"IF(実績報告!Z67<>\"\",実績報告!Z67,\"\")","v":""},null,{"$f":"IF(実績報告!AB67<>\"\",実績報告!AB67,\"\")","v":""},null,null,{"$f":"IF(AND(B67=\"\",D67=\"\",Q67=\"\",V67=\"\",X67=\"\",Z67),0,1)","v":0}]
[null,{"$f":"IF(実績報告!B68<>\"\",実績報告!B68,\"\")","v":""},null,{"$f":"IF(実績報告!D68<>\"\",実績報告!D68,\"\")","v":""},null,null,null,{"$f":"IF(実績報告!H68<>\"\",実績報告!H68,\"\")","v":0},null,null,{"$f":"IF(実績報告!K68<>\"\",実績報告!K68,\"\")","v":0},null,null,{"$f":"IF(実績報告!N68<>\"\",実績報告!N68,\"\")","v":0},null,null,{"$f":"IF(実績報告!Q68<>\"\",実績報告!Q68,\"\")","v":""},null,null,null,null,{"$f":"IF(実績報告!V68<>\"\",実績報告!V68,\"\")","v":""},null,{"$f":"IF(実績報告!X68<>\"\",実績報告!X68,\"\")","v":""},null,{"$f":"IF(実績報告!Z68<>\"\",実績報告!Z68,\"\")","v":""},null,{"$f":"IF(実績報告!AB68<>\"\",実績報告!AB68,\"\")","v":""},null,null,0]
[null,{"$f":"IF(実績報告!B69<>\"\",実績報告!B69,\"\")","v":""},null,{"$f":"IF(実績報告!D69<>\"\",実績報告!D69,\"\")","v":""},null,null,null,{"$f":"IF(実績報告!H69<>\"\",実績報告!H69,\"\")","v":0},null,null,{"$f":"IF(実績報告!K69<>\"\",実績報告!K69,\"\")","v":0},null,null,{"$f":"IF(実績報告!N69<>\"\",実績報告!N69,\"\")","v":0},null,null,{"$f":"IF(実績報告!Q69<>\"\",実績報告!Q69,\"\")","v":""},null,null,null,null,{"$f":"IF(実績報告!V69<>\"\",実績報告!V69,\"\")","v":""},null,{"$f":"IF(実績報告!X69<>\"\",実績報告!X69,\"\")","v":""},null,{"$f":"IF(実績報告!Z69<>\"\",実績報告!Z69,\"\")","v":""},null,{"$f":"IF(実績報告!AB69<>\"\",実績報告!AB69,\"\")","v":""},null,null,0]
[null,{"$f":"IF(実績報告!B70<>\"\",実績報告!B70,\"\")","v":""},null,{"$f":"IF(実績報告!D70<>\"\",実績報告!D70,\"\")","v":""},null,null,null,{"$f":"IF(実績報告!H70<>\"\",実績報告!H70,\"\")","v":0},null,null,{"$f":"IF(実績報告!K70<>\"\",実績報告!K70,\"\")","v":0},null,null,{"$f":"IF(実績報告!N70<>\"\",実績報告!N70,\"\")","v":0},null,null,{"$f":"IF(実績報告!Q70<>\"\",実績報告!Q70,\"\")","v":""},null,null,null,null,{"$f":"IF(実績報告!V70<>\"\",実績報告!V70,\"\")","v":""},null,{"$f":"IF(実績報告!X70<>\"\",実績報告!X70,\"\")","v":""},null,{"$f":"IF(実績報告!Z70<>\"\",実績報告!Z70,\"\")","v":""},null,{"$f":"IF(実績報告!AB70<>\"\",実績報告!AB70,\"\")","v":""},null,null,0]
[null,{"$f":"IF(実績報告!B71<>\"\",実績報告!B71,\"\")","v":""},null,{"$f":"IF(実績報告!D71<>\"\",実績報告!D71,\"\")","v":""},null,null,null,{"$f":"IF(実績報告!H71<>\"\",実績報告!H71,\"\")","v":0},null,null,{"$f":"IF(実績報告!K71<>\"\",実績報告!K71,\"\")","v":0},null,null,{"$f":"IF(実績報告!N71<>\"\",実績報告!N71,\"\")","v":0},null,null,{"$f":"IF(実績報告!Q71<>\"\",実績報告!Q71,\"\")","v":""},null,null,null,null,{"$f":"IF(実績報告!V71<>\"\",実績報告!V71,\"\")","v":""},null,{"$f":"IF(実績報告!X71<>\"\",実績報告!X71,\"\")","v":""},null,{"$f":"IF(実績報告!Z71<>\"\",実績報告!Z71,\"\")","v":""},null,{"$f":"IF(実績報告!AB71<>\"\",実績報告!AB71,\"\")","v":""},null,null,0]
[null,{"$f":"IF(実績報告!B72<>\"\",実績報告!B72,\"\")","v":""},null,{"$f":"IF(実績報告!D72<>\"\",実績報告!D72,\"\")","v":""},null,null,null,{"$f":"IF(実績報告!H72<>\"\",実績報告!H72,\"\")","v":0},null,null,{"$f":"IF(実績報告!K72<>\"\",実績報告!K72,\"\")","v":0},null,null,{"$f":"IF(実績報告!N72<>\"\",実績報告!N72,\"\")","v":0},null,null,{"$f":"IF(実績報告!Q72<>\"\",実績報告!Q72,\"\")","v":""},null,null,null,null,{"$f":"IF(実績報告!V72<>\"\",実績報告!V72,\"\")","v":""},null,{"$f":"IF(実績報告!X72<>\"\",実績報告!X72,\"\")","v":""},null,{"$f":"IF(実績報告!Z72<>\"\",実績報告!Z72,\"\")","v":""},null,{"$f":"IF(実績報告!AB72<>\"\",実績報告!AB72,\"\")","v":""},null,null,0]
[null,{"$f":"IF(実績報告!B73<>\"\",実績報告!B73,\"\")","v":""},null,{"$f":"IF(実績報告!D73<>\"\",実績報告!D73,\"\")","v":""},null,null,null,{"$f":"IF(実績報告!H73<>\"\",実績報告!H73,\"\")","v":0},null,null,{"$f":"IF(実績報告!K73<>\"\",実績報告!K73,\"\")","v":0},null,null,{"$f":"IF(実績報告!N73<>\"\",実績報告!N73,\"\")","v":0},null,null,{"$f":"IF(実績報告!Q73<>\"\",実績報告!Q73,\"\")","v":""},null,null,null,null,{"$f":"IF(実績報告!V73<>\"\",実績報告!V73,\"\")","v":""},null,{"$f":"IF(実績報告!X73<>\"\",実績報告!X73,\"\")","v":""},null,{"$f":"IF(実績報告!Z73<>\"\",実績報告!Z73,\"\")","v":""},null,{"$f":"IF(実績報告!AB73<>\"\",実績報告!AB73,\"\")","v":""},null,null,0]
[null,{"$f":"IF(実績報告!B74<>\"\",実績報告!B74,\"\")","v":""},null,{"$f":"IF(実績報告!D74<>\"\",実績報告!D74,\"\")","v":""},null,null,null,{"$f":"IF(実績報告!H74<>\"\",実績報告!H74,\"\")","v":0},null,null,{"$f":"IF(実績報告!K74<>\"\",実績報告!K74,\"\")","v":0},null,null,{"$f":"IF(実績報告!N74<>\"\",実績報告!N74,\"\")","v":0},null,null,{"$f":"IF(実績報告!Q74<>\"\",実績報告!Q74,\"\")","v":""},null,null,null,null,{"$f":"IF(実績報告!V74<>\"\",実績報告!V74,\"\")","v":""},null,{"$f":"IF(実績報告!X74<>\"\",実績報告!X74,\"\")","v":""},null,{"$f":"IF(実績報告!Z74<>\"\",実績報告!Z74,\"\")","v":""},null,{"$f":"IF(実績報告!AB74<>\"\",実績報告!AB74,\"\")","v":""},null,null,0]
[null,{"$f":"IF(実績報告!B75<>\"\",実績報告!B75,\"\")","v":""},null,{"$f":"IF(実績報告!D75<>\"\",実績報告!D75,\"\")","v":""},null,null,null,{"$f":"IF(実績報告!H75<>\"\",実績報告!H75,\"\")","v":0},null,null,{"$f":"IF(実績報告!K75<>\"\",実績報告!K75,\"\")","v":0},null,null,{"$f":"IF(実績報告!N75<>\"\",実績報告!N75,\"\")","v":0},null,null,{"$f":"IF(実績報告!Q75<>\"\",実績報告!Q75,\"\")","v":""},null,null,null,null,{"$f":"IF(実績報告!V75<>\"\",実績報告!V75,\"\")","v":""},null,{"$f":"IF(実績報告!X75<>\"\",実績報告!X75,\"\")","v":""},null,{"$f":"IF(実績報告!Z75<>\"\",実績報告!Z75,\"\")","v":""},null,{"$f":"IF(実績報告!AB75<>\"\",実績報告!AB75,\"\")","v":""},null,null,0]
[null,{"$f":"IF(実績報告!B76<>\"\",実績報告!B76,\"\")","v":""},null,{"$f":"IF(実績報告!D76<>\"\",実績報告!D76,\"\")","v":""},null,null,null,{"$f":"IF(実績報告!H76<>\"\",実績報告!H76,\"\")","v":0},null,null,{"$f":"IF(実績報告!K76<>\"\",実績報告!K76,\"\")","v":0},null,null,{"$f":"IF(実績報告!N76<>\"\",実績報告!N76,\"\")","v":0},null,null,{"$f":"IF(実績報告!Q76<>\"\",実績報告!Q76,\"\")","v":""},null,null,null,null,{"$f":"IF(実績報告!V76<>\"\",実績報告!V76,\"\")","v":""},null,{"$f":"IF(実績報告!X76<>\"\",実績報告!X76,\"\")","v":""},null,{"$f":"IF(実績報告!Z76<>\"\",実績報告!Z76,\"\")","v":""},null,{"$f":"IF(実績報告!AB76<>\"\",実績報告!AB76,\"\")","v":""},null,null,0]
[null,{"$f":"IF(実績報告!B77<>\"\",実績報告!B77,\"\")","v":""},null,{"$f":"IF(実績報告!D77<>\"\",実績報告!D77,\"\")","v":""},null,null,null,{"$f":"IF(実績報告!H77<>\"\",実績報告!H77,\"\")","v":0},null,null,{"$f":"IF(実績報告!K77<>\"\",実績報告!K77,\"\")","v":0},null,null,{"$f":"IF(実績報告!N77<>\"\",実績報告!N77,\"\")","v":0},null,null,{"$f":"IF(実績報告!Q77<>\"\",実績報告!Q77,\"\")","v":""},null,null,null,null,{"$f":"IF(実績報告!V77<>\"\",実績報告!V77,\"\")","v":""},null,{"$f":"IF(実績報告!X77<>\"\",実績報告!X77,\"\")","v":""},null,{"$f":"IF(実績報告!Z77<>\"\",実績報告!Z77,\"\")","v":""},null,{"$f":"IF(実績報告!AB77<>\"\",実績報告!AB77,\"\")","v":""},null,null,0]
[null,{"$f":"IF(実績報告!B78<>\"\",実績報告!B78,\"\")","v":""},null,{"$f":"IF(実績報告!D78<>\"\",実績報告!D78,\"\")","v":""},null,null,null,{"$f":"IF(実績報告!H78<>\"\",実績報告!H78,\"\")","v":0},null,null,{"$f":"IF(実績報告!K78<>\"\",実績報告!K78,\"\")","v":0},null,null,{"$f":"IF(実績報告!N78<>\"\",実績報告!N78,\"\")","v":0},null,null,{"$f":"IF(実績報告!Q78<>\"\",実績報告!Q78,\"\")","v":""},null,null,null,null,{"$f":"IF(実績報告!V78<>\"\",実績報告!V78,\"\")","v":""},null,{"$f":"IF(実績報告!X78<>\"\",実績報告!X78,\"\")","v":""},null,{"$f":"IF(実績報告!Z78<>\"\",実績報告!Z78,\"\")","v":""},null,{"$f":"IF(実績報告!AB78<>\"\",実績報告!AB78,\"\")","v":""},null,null,0]
[null,{"$f":"IF(実績報告!B79<>\"\",実績報告!B79,\"\")","v":""},null,{"$f":"IF(実績報告!D79<>\"\",実績報告!D79,\"\")","v":""},null,null,null,{"$f":"IF(実績報告!H79<>\"\",実績報告!H79,\"\")","v":0},null,null,{"$f":"IF(実績報告!K79<>\"\",実績報告!K79,\"\")","v":0},null,null,{"$f":"IF(実績報告!N79<>\"\",実績報告!N79,\"\")","v":0},null,null,{"$f":"IF(実績報告!Q79<>\"\",実績報告!Q79,\"\")","v":""},null,null,null,null,{"$f":"IF(実績報告!V79<>\"\",実績報告!V79,\"\")","v":""},null,{"$f":"IF(実績報告!X79<>\"\",実績報告!X79,\"\")","v":""},null,{"$f":"IF(実績報告!Z79<>\"\",実績報告!Z79,\"\")","v":""},null,{"$f":"IF(実績報告!AB79<>\"\",実績報告!AB79,\"\")","v":""},null,null,0]
[null,{"$f":"IF(実績報告!B80<>\"\",実績報告!B80,\"\")","v":""},null,{"$f":"IF(実績報告!D80<>\"\",実績報告!D80,\"\")","v":""},null,null,null,{"$f":"IF(実績報告!H80<>\"\",実績報告!H80,\"\")","v":0},null,null,{"$f":"IF(実績報告!K80<>\"\",実績報告!K80,\"\")","v":0},null,null,{"$f":"IF(実績報告!N80<>\"\",実績報告!N80,\"\")","v":0},null,null,{"$f":"IF(実績報告!Q80<>\"\",実績報告!Q80,\"\")","v":""},null,null,null,null,{"$f":"IF(実績報告!V80<>\"\",実績報告!V80,\"\")","v":""},null,{"$f":"IF(実績報告!X80<>\"\",実績報告!X80,\"\")","v":""},null,{"$f":"IF(実績報告!Z80<>\"\",実績報告!Z80,\"\")","v":""},null,{"$f":"IF(実績報告!AB80<>\"\",実績報告!AB80,\"\")","v":""},null,null,0]
[null,{"$f":"IF(実績報告!B81<>\"\",実績報告!B81,\"\")","v":""},null,{"$f":"IF(実績報告!D81<>\"\",実績報告!D81,\"\")","v":""},null,null,null,{"$f":"IF(実績報告!H81<>\"\",実績報告!H81,\"\")","v":0},null,null,{"$f":"IF(実績報告!K81<>\"\",実績報告!K81,\"\")","v":0},null,null,{"$f":"IF(実績報告!N81<>\"\",実績報告!N81,\"\")","v":0},null,null,{"$f":"IF(実績報告!Q81<>\"\",実績報告!Q81,\"\")","v":""},null,null,null,null,{"$f":"IF(実績報告!V81<>\"\",実績報告!V81,\"\")","v":""},null,{"$f":"IF(実績報告!X81<>\"\",実績報告!X81,\"\")","v":""},null,{"$f":"IF(実績報告!Z81<>\"\",実績報告!Z81,\"\")","v":""},null,{"$f":"IF(実績報告!AB81<>\"\",実績報告!AB81,\"\")","v":""},null,null,0]
[null,{"$f":"IF(実績報告!B82<>\"\",実績報告!B82,\"\")","v":""},null,{"$f":"IF(実績報告!D82<>\"\",実績報告!D82,\"\")","v":""},null,null,null,{"$f":"IF(実績報告!H82<>\"\",実績報告!H82,\"\")","v":0},null,null,{"$f":"IF(実績報告!K82<>\"\",実績報告!K82,\"\")","v":0},null,null,{"$f":"IF(実績報告!N82<>\"\",実績報告!N82,\"\")","v":0},null,null,{"$f":"IF(実績報告!Q82<>\"\",実績報告!Q82,\"\")","v":""},null,null,null,null,{"$f":"IF(実績報告!V82<>\"\",実績報告!V82,\"\")","v":""},null,{"$f":"IF(実績報告!X82<>\"\",実績報告!X82,\"\")","v":""},null,{"$f":"IF(実績報告!Z82<>\"\",実績報告!Z82,\"\")","v":""},null,{"$f":"IF(実績報告!AB82<>\"\",実績報告!AB82,\"\")","v":""},null,null,0]
[null,{"$f":"IF(実績報告!B83<>\"\",実績報告!B83,\"\")","v":""},null,{"$f":"IF(実績報告!D83<>\"\",実績報告!D83,\"\")","v":""},null,null,null,{"$f":"IF(実績報告!H83<>\"\",実績報告!H83,\"\")","v":0},null,null,{"$f":"IF(実績報告!K83<>\"\",実績報告!K83,\"\")","v":0},null,null,{"$f":"IF(実績報告!N83<>\"\",実績報告!N83,\"\")","v":0},null,null,{"$f":"IF(実績報告!Q83<>\"\",実績報告!Q83,\"\")","v":""},null,null,null,null,{"$f":"IF(実績報告!V83<>\"\",実績報告!V83,\"\")","v":""},null,{"$f":"IF(実績報告!X83<>\"\",実績報告!X83,\"\")","v":""},null,{"$f":"IF(実績報告!Z83<>\"\",実績報告!Z83,\"\")","v":""},null,{"$f":"IF(実績報告!AB83<>\"\",実績報告!AB83,\"\")","v":""},null,null,0]
[null,{"$f":"IF(実績報告!B84<>\"\",実績報告!B84,\"\")","v":""},null,{"$f":"IF(実績報告!D84<>\"\",実績報告!D84,\"\")","v":""},null,null,null,{"$f":"IF(実績報告!H84<>\"\",実績報告!H84,\"\")","v":0},null,null,{"$f":"IF(実績報告!K84<>\"\",実績報告!K84,\"\")","v":0},null,null,{"$f":"IF(実績報告!N84<>\"\",実績報告!N84,\"\")","v":0},null,null,{"$f":"IF(実績報告!Q84<>\"\",実績報告!Q84,\"\")","v":""},null,null,null,null,{"$f":"IF(実績報告!V84<>\"\",実績報告!V84,\"\")","v":""},null,{"$f":"IF(実績報告!X84<>\"\",実績報告!X84,\"\")","v":""},null,{"$f":"IF(実績報告!Z84<>\"\",実績報告!Z84,\"\")","v":""},null,{"$f":"IF(実績報告!AB84<>\"\",実績報告!AB84,\"\")","v":""},null,null,0]
[null,{"$f":"IF(実績報告!B85<>\"\",実績報告!B85,\"\")","v":""},null,{"$f":"IF(実績報告!D85<>\"\",実績報告!D85,\"\")","v":""},null,null,null,{"$f":"IF(実績報告!H85<>\"\",実績報告!H85,\"\")","v":0},null,null,{"$f":"IF(実績報告!K85<>\"\",実績報告!K85,\"\")","v":0},null,null,{"$f":"IF(実績報告!N85<>\"\",実績報告!N85,\"\")","v":0},null,null,{"$f":"IF(実績報告!Q85<>\"\",実績報告!Q85,\"\")","v":""},null,null,null,null,{"$f":"IF(実績報告!V85<>\"\",実績報告!V85,\"\")","v":""},null,{"$f":"IF(実績報告!X85<>\"\",実績報告!X85,\"\")","v":""},null,{"$f":"IF(実績報告!Z85<>\"\",実績報告!Z85,\"\")","v":""},null,{"$f":"IF(実績報告!AB85<>\"\",実績報告!AB85,\"\")","v":""},null,null,0]
[null,{"$f":"IF(実績報告!B86<>\"\",実績報告!B86,\"\")","v":""},null,{"$f":"IF(実績報告!D86<>\"\",実績報告!D86,\"\")","v":""},null,null,null,{"$f":"IF(実績報告!H86<>\"\",実績報告!H86,\"\")","v":0},null,null,{"$f":"IF(実績報告!K86<>\"\",実績報告!K86,\"\")","v":0},null,null,{"$f":"IF(実績報告!N86<>\"\",実績報告!N86,\"\")","v":0},null,null,{"$f":"IF(実績報告!Q86<>\"\",実績報告!Q86,\"\")","v":""},null,null,null,null,{"$f":"IF(実績報告!V86<>\"\",実績報告!V86,\"\")","v":""},null,{"$f":"IF(実績報告!X86<>\"\",実績報告!X86,\"\")","v":""},null,{"$f":"IF(実績報告!Z86<>\"\",実績報告!Z86,\"\")","v":""},null,{"$f":"IF(実績報告!AB86<>\"\",実績報告!AB86,\"\")","v":""},null,null,0]
[null,{"$f":"IF(実績報告!B87<>\"\",実績報告!B87,\"\")","v":""},null,{"$f":"IF(実績報告!D87<>\"\",実績報告!D87,\"\")","v":""},null,null,null,{"$f":"IF(実績報告!H87<>\"\",実績報告!H87,\"\")","v":0},null,null,{"$f":"IF(実績報告!K87<>\"\",実績報告!K87,\"\")","v":0},null,null,{"$f":"IF(実績報告!N87<>\"\",実績報告!N87,\"\")","v":0},null,null,{"$f":"IF(実績報告!Q87<>\"\",実績報告!Q87,\"\")","v":""},null,null,null,null,{"$f":"IF(実績報告!V87<>\"\",実績報告!V87,\"\")","v":""},null,{"$f":"IF(実績報告!X87<>\"\",実績報告!X87,\"\")","v":""},null,{"$f":"IF(実績報告!Z87<>\"\",実績報告!Z87,\"\")","v":""},null,{"$f":"IF(実績報告!AB87<>\"\",実績報告!AB87,\"\")","v":""},null,null,0]
[null,{"$f":"IF(実績報告!B88<>\"\",実績報告!B88,\"\")","v":""},null,{"$f":"IF(実績報告!D88<>\"\",実績報告!D88,\"\")","v":""},null,null,null,{"$f":"IF(実績報告!H88<>\"\",実績報告!H88,\"\")","v":0},null,null,{"$f":"IF(実績報告!K88<>\"\",実績報告!K88,\"\")","v":0},null,null,{"$f":"IF(実績報告!N88<>\"\",実績報告!N88,\"\")","v":0},null,null,{"$f":"IF(実績報告!Q88<>\"\",実績報告!Q88,\"\")","v":""},null,null,null,null,{"$f":"IF(実績報告!V88<>\"\",実績報告!V88,\"\")","v":""},null,{"$f":"IF(実績報告!X88<>\"\",実績報告!X88,\"\")","v":""},null,{"$f":"IF(実績報告!Z88<>\"\",実績報告!Z88,\"\")","v":""},null,{"$f":"IF(実績報告!AB88<>\"\",実績報告!AB88,\"\")","v":""},null,null,0]
[null,{"$f":"IF(実績報告!B89<>\"\",実績報告!B89,\"\")","v":""},null,{"$f":"IF(実績報告!D89<>\"\",実績報告!D89,\"\")","v":""},null,null,null,{"$f":"IF(実績報告!H89<>\"\",実績報告!H89,\"\")","v":0},null,null,{"$f":"IF(実績報告!K89<>\"\",実績報告!K89,\"\")","v":0},null,null,{"$f":"IF(実績報告!N89<>\"\",実績報告!N89,\"\")","v":0},null,null,{"$f":"IF(実績報告!Q89<>\"\",実績報告!Q89,\"\")","v":""},null,null,null,null,{"$f":"IF(実績報告!V89<>\"\",実績報告!V89,\"\")","v":""},null,{"$f":"IF(実績報告!X89<>\"\",実績報告!X89,\"\")","v":""},null,{"$f":"IF(実績報告!Z89<>\"\",実績報告!Z89,\"\")","v":""},null,{"$f":"IF(実績報告!AB89<>\"\",実績報告!AB89,\"\")","v":""},null,null,0]
[null,{"$f":"IF(実績報告!B90<>\"\",実績報告!B90,\"\")","v":""},null,{"$f":"IF(実績報告!D90<>\"\",実績報告!D90,\"\")","v":""},null,null,null,{"$f":"IF(実績報告!H90<>\"\",実績報告!H90,\"\")","v":0},null,null,{"$f":"IF(実績報告!K90<>\"\",実績報告!K90,\"\")","v":0},null,null,{"$f":"IF(実績報告!N90<>\"\",実績報告!N90,\"\")","v":0},null,null,{"$f":"IF(実績報告!Q90<>\"\",実績報告!Q90,\"\")","v":""},null,null,null,null,{"$f":"IF(実績報告!V90<>\"\",実績報告!V90,\"\")","v":""},null,{"$f":"IF(実績報告!X90<>\"\",実績報告!X90,\"\")","v":""},null,{"$f":"IF(実績報告!Z90<>\"\",実績報告!Z90,\"\")","v":""},null,{"$f":"IF(実績報告!AB90<>\"\",実績報告!AB90,\"\")","v":""},null,null,0]
[null,{"$f":"IF(実績報告!B91<>\"\",実績報告!B91,\"\")","v":""},null,{"$f":"IF(実績報告!D91<>\"\",実績報告!D91,\"\")","v":""},null,null,null,{"$f":"IF(実績報告!H91<>\"\",実績報告!H91,\"\")","v":0},null,null,{"$f":"IF(実績報告!K91<>\"\",実績報告!K91,\"\")","v":0},null,null,{"$f":"IF(実績報告!N91<>\"\",実績報告!N91,\"\")","v":0},null,null,{"$f":"IF(実績報告!Q91<>\"\",実績報告!Q91,\"\")","v":""},null,null,null,null,{"$f":"IF(実績報告!V91<>\"\",実績報告!V91,\"\")","v":""},null,{"$f":"IF(実績報告!X91<>\"\",実績報告!X91,\"\")","v":""},null,{"$f":"IF(実績報告!Z91<>\"\",実績報告!Z91,\"\")","v":""},null,{"$f":"IF(実績報告!AB91<>\"\",実績報告!AB91,\"\")","v":""},null,null,0]
[null,{"$f":"IF(実績報告!B92<>\"\",実績報告!B92,\"\")","v":""},null,{"$f":"IF(実績報告!D92<>\"\",実績報告!D92,\"\")","v":""},null,null,null,{"$f":"IF(実績報告!H92<>\"\",実績報告!H92,\"\")","v":0},null,null,{"$f":"IF(実績報告!K92<>\"\",実績報告!K92,\"\")","v":0},null,null,{"$f":"IF(実績報告!N92<>\"\",実績報告!N92,\"\")","v":0},null,null,{"$f":"IF(実績報告!Q92<>\"\",実績報告!Q92,\"\")","v":""},null,null,null,null,{"$f":"IF(実績報告!V92<>\"\",実績報告!V92,\"\")","v":""},null,{"$f":"IF(実績報告!X92<>\"\",実績報告!X92,\"\")","v":""},null,{"$f":"IF(実績報告!Z92<>\"\",実績報告!Z92,\"\")","v":""},null,{"$f":"IF(実績報告!AB92<>\"\",実績報告!AB92,\"\")","v":""},null,null,0]
[null,{"$f":"IF(実績報告!B93<>\"\",実績報告!B93,\"\")","v":""},null,{"$f":"IF(実績報告!D93<>\"\",実績報告!D93,\"\")","v":""},null,null,null,{"$f":"IF(実績報告!H93<>\"\",実績報告!H93,\"\")","v":0},null,null,{"$f":"IF(実績報告!K93<>\"\",実績報告!K93,\"\")","v":0},null,null,{"$f":"IF(実績報告!N93<>\"\",実績報告!N93,\"\")","v":0},null,null,{"$f":"IF(実績報告!Q93<>\"\",実績報告!Q93,\"\")","v":""},null,null,null,null,{"$f":"IF(実績報告!V93<>\"\",実績報告!V93,\"\")","v":""},null,{"$f":"IF(実績報告!X93<>\"\",実績報告!X93,\"\")","v":""},null,{"$f":"IF(実績報告!Z93<>\"\",実績報告!Z93,\"\")","v":""},null,{"$f":"IF(実績報告!AB93<>\"\",実績報告!AB93,\"\")","v":""},null,null,0]
[null,{"$f":"IF(実績報告!B94<>\"\",実績報告!B94,\"\")","v":""},null,{"$f":"IF(実績報告!D94<>\"\",実績報告!D94,\"\")","v":""},null,null,null,{"$f":"IF(実績報告!H94<>\"\",実績報告!H94,\"\")","v":0},null,null,{"$f":"IF(実績報告!K94<>\"\",実績報告!K94,\"\")","v":0},null,null,{"$f":"IF(実績報告!N94<>\"\",実績報告!N94,\"\")","v":0},null,null,{"$f":"IF(実績報告!Q94<>\"\",実績報告!Q94,\"\")","v":""},null,null,null,null,{"$f":"IF(実績報告!V94<>\"\",実績報告!V94,\"\")","v":""},null,{"$f":"IF(実績報告!X94<>\"\",実績報告!X94,\"\")","v":""},null,{"$f":"IF(実績報告!Z94<>\"\",実績報告!Z94,\"\")","v":""},null,{"$f":"IF(実績報告!AB94<>\"\",実績報告!AB94,\"\")","v":""},null,null,0]
[null,{"$f":"IF(実績報告!B95<>\"\",実績報告!B95,\"\")","v":""},null,{"$f":"IF(実績報告!D95<>\"\",実績報告!D95,\"\")","v":""},null,null,null,{"$f":"IF(実績報告!H95<>\"\",実績報告!H95,\"\")","v":0},null,null,{"$f":"IF(実績報告!K95<>\"\",実績報告!K95,\"\")","v":0},null,null,{"$f":"IF(実績報告!N95<>\"\",実績報告!N95,\"\")","v":0},null,null,{"$f":"IF(実績報告!Q95<>\"\",実績報告!Q95,\"\")","v":""},null,null,null,null,{"$f":"IF(実績報告!V95<>\"\",実績報告!V95,\"\")","v":""},null,{"$f":"IF(実績報告!X95<>\"\",実績報告!X95,\"\")","v":""},null,{"$f":"IF(実績報告!Z95<>\"\",実績報告!Z95,\"\")","v":""},null,{"$f":"IF(実績報告!AB95<>\"\",実績報告!AB95,\"\")","v":""},null,null,0]
[null,{"$f":"IF(実績報告!B96<>\"\",実績報告!B96,\"\")","v":""},null,{"$f":"IF(実績報告!D96<>\"\",実績報告!D96,\"\")","v":""},null,null,null,{"$f":"IF(実績報告!H96<>\"\",実績報告!H96,\"\")","v":0},null,null,{"$f":"IF(実績報告!K96<>\"\",実績報告!K96,\"\")","v":0},null,null,{"$f":"IF(実績報告!N96<>\"\",実績報告!N96,\"\")","v":0},null,null,{"$f":"IF(実績報告!Q96<>\"\",実績報告!Q96,\"\")","v":""},null,null,null,null,{"$f":"IF(実績報告!V96<>\"\",実績報告!V96,\"\")","v":""},null,{"$f":"IF(実績報告!X96<>\"\",実績報告!X96,\"\")","v":""},null,{"$f":"IF(実績報告!Z96<>\"\",実績報告!Z96,\"\")","v":""},null,{"$f":"IF(実績報告!AB96<>\"\",実績報告!AB96,\"\")","v":""},null,null,0]
[null,{"$f":"IF(実績報告!B97<>\"\",実績報告!B97,\"\")","v":""},null,{"$f":"IF(実績報告!D97<>\"\",実績報告!D97,\"\")","v":""},null,null,null,{"$f":"IF(実績報告!H97<>\"\",実績報告!H97,\"\")","v":0},null,null,{"$f":"IF(実績報告!K97<>\"\",実績報告!K97,\"\")","v":0},null,null,{"$f":"IF(実績報告!N97<>\"\",実績報告!N97,\"\")","v":0},null,null,{"$f":"IF(実績報告!Q97<>\"\",実績報告!Q97,\"\")","v":""},null,null,null,null,{"$f":"IF(実績報告!V97<>\"\",実績報告!V97,\"\")","v":""},null,{"$f":"IF(実績報告!X97<>\"\",実績報告!X97,\"\")","v":""},null,{"$f":"IF(実績報告!Z97<>\"\",実績報告!Z97,\"\")","v":""},null,{"$f":"IF(実績報告!AB97<>\"\",実績報告!AB97,\"\")","v":""},null,null,0]
[null,{"$f":"IF(実績報告!B98<>\"\",実績報告!B98,\"\")","v":""},null,{"$f":"IF(実績報告!D98<>\"\",実績報告!D98,\"\")","v":""},null,null,null,{"$f":"IF(実績報告!H98<>\"\",実績報告!H98,\"\")","v":0},null,null,{"$f":"IF(実績報告!K98<>\"\",実績報告!K98,\"\")","v":0},null,null,{"$f":"IF(実績報告!N98<>\"\",実績報告!N98,\"\")","v":0},null,null,{"$f":"IF(実績報告!Q98<>\"\",実績報告!Q98,\"\")","v":""},null,null,null,null,{"$f":"IF(実績報告!V98<>\"\",実績報告!V98,\"\")","v":""},null,{"$f":"IF(実績報告!X98<>\"\",実績報告!X98,\"\")","v":""},null,{"$f":"IF(実績報告!Z98<>\"\",実績報告!Z98,\"\")","v":""},null,{"$f":"IF(実績報告!AB98<>\"\",実績報告!AB98,\"\")","v":""},null,null,0]
[null,{"$f":"IF(実績報告!B99<>\"\",実績報告!B99,\"\")","v":""},null,{"$f":"IF(実績報告!D99<>\"\",実績報告!D99,\"\")","v":""},null,null,null,{"$f":"IF(実績報告!H99<>\"\",実績報告!H99,\"\")","v":0},null,null,{"$f":"IF(実績報告!K99<>\"\",実績報告!K99,\"\")","v":0},null,null,{"$f":"IF(実績報告!N99<>\"\",実績報告!N99,\"\")","v":0},null,null,{"$f":"IF(実績報告!Q99<>\"\",実績報告!Q99,\"\")","v":""},null,null,null,null,{"$f":"IF(実績報告!V99<>\"\",実績報告!V99,\"\")","v":""},null,{"$f":"IF(実績報告!X99<>\"\",実績報告!X99,\"\")","v":""},null,{"$f":"IF(実績報告!Z99<>\"\",実績報告!Z99,\"\")","v":""},null,{"$f":"IF(実績報告!AB99<>\"\",実績報告!AB99,\"\")","v":""},null,null,0]
[null,{"$f":"IF(実績報告!B100<>\"\",実績報告!B100,\"\")","v":""},null,{"$f":"IF(実績報告!D100<>\"\",実績報告!D100,\"\")","v":""},null,null,null,{"$f":"IF(実績報告!H100<>\"\",実績報告!H100,\"\")","v":0},null,null,{"$f":"IF(実績報告!K100<>\"\",実績報告!K100,\"\")","v":0},null,null,{"$f":"IF(実績報告!N100<>\"\",実績報告!N100,\"\")","v":0},null,null,{"$f":"IF(実績報告!Q100<>\"\",実績報告!Q100,\"\")","v":""},null,null,null,null,{"$f":"IF(実績報告!V100<>\"\",実績報告!V100,\"\")","v":""},null,{"$f":"IF(実績報告!X100<>\"\",実績報告!X100,\"\")","v":""},null,{"$f":"IF(実績報告!Z100<>\"\",実績報告!Z100,\"\")","v":""},null,{"$f":"IF(実績報告!AB100<>\"\",実績報告!AB100,\"\")","v":""},null,null,0]
[null,{"$f":"IF(実績報告!B101<>\"\",実績報告!B101,\"\")","v":""},null,{"$f":"IF(実績報告!D101<>\"\",実績報告!D101,\"\")","v":""},null,null,null,{"$f":"IF(実績報告!H101<>\"\",実績報告!H101,\"\")","v":0},null,null,{"$f":"IF(実績報告!K101<>\"\",実績報告!K101,\"\")","v":0},null,null,{"$f":"IF(実績報告!N101<>\"\",実績報告!N101,\"\")","v":0},null,null,{"$f":"IF(実績報告!Q101<>\"\",実績報告!Q101,\"\")","v":""},null,null,null,null,{"$f":"IF(実績報告!V101<>\"\",実績報告!V101,\"\")","v":""},null,{"$f":"IF(実績報告!X101<>\"\",実績報告!X101,\"\")","v":""},null,{"$f":"IF(実績報告!Z101<>\"\",実績報告!Z101,\"\")","v":""},null,{"$f":"IF(実績報告!AB101<>\"\",実績報告!AB101,\"\")","v":""},null,null,0]
[null,{"$f":"IF(実績報告!B102<>\"\",実績報告!B102,\"\")","v":""},null,{"$f":"IF(実績報告!D102<>\"\",実績報告!D102,\"\")","v":""},null,null,null,{"$f":"IF(実績報告!H102<>\"\",実績報告!H102,\"\")","v":0},null,null,{"$f":"IF(実績報告!K102<>\"\",実績報告!K102,\"\")","v":0},null,null,{"$f":"IF(実績報告!N102<>\"\",実績報告!N102,\"\")","v":0},null,null,{"$f":"IF(実績報告!Q102<>\"\",実績報告!Q102,\"\")","v":""},null,null,null,null,{"$f":"IF(実績報告!V102<>\"\",実績報告!V102,\"\")","v":""},null,{"$f":"IF(実績報告!X102<>\"\",実績報告!X102,\"\")","v":""},null,{"$f":"IF(実績報告!Z102<>\"\",実績報告!Z102,\"\")","v":""},null,{"$f":"IF(実績報告!AB102<>\"\",実績報告!AB102,\"\")","v":""},null,null,0]
[null,{"$f":"IF(実績報告!B103<>\"\",実績報告!B103,\"\")","v":""},null,{"$f":"IF(実績報告!D103<>\"\",実績報告!D103,\"\")","v":""},null,null,null,{"$f":"IF(実績報告!H103<>\"\",実績報告!H103,\"\")","v":0},null,null,{"$f":"IF(実績報告!K103<>\"\",実績報告!K103,\"\")","v":0},null,null,{"$f":"IF(実績報告!N103<>\"\",実績報告!N103,\"\")","v":0},null,null,{"$f":"IF(実績報告!Q103<>\"\",実績報告!Q103,\"\")","v":""},null,null,null,null,{"$f":"IF(実績報告!V103<>\"\",実績報告!V103,\"\")","v":""},null,{"$f":"IF(実績報告!X103<>\"\",実績報告!X103,\"\")","v":""},null,{"$f":"IF(実績報告!Z103<>\"\",実績報告!Z103,\"\")","v":""},null,{"$f":"IF(実績報告!AB103<>\"\",実績報告!AB103,\"\")","v":""},null,null,0]
[null,{"$f":"IF(実績報告!B104<>\"\",実績報告!B104,\"\")","v":""},null,{"$f":"IF(実績報告!D104<>\"\",実績報告!D104,\"\")","v":""},null,null,null,{"$f":"IF(実績報告!H104<>\"\",実績報告!H104,\"\")","v":0},null,null,{"$f":"IF(実績報告!K104<>\"\",実績報告!K104,\"\")","v":0},null,null,{"$f":"IF(実績報告!N104<>\"\",実績報告!N104,\"\")","v":0},null,null,{"$f":"IF(実績報告!Q104<>\"\",実績報告!Q104,\"\")","v":""},null,null,null,null,{"$f":"IF(実績報告!V104<>\"\",実績報告!V104,\"\")","v":""},null,{"$f":"IF(実績報告!X104<>\"\",実績報告!X104,\"\")","v":""},null,{"$f":"IF(実績報告!Z104<>\"\",実績報告!Z104,\"\")","v":""},null,{"$f":"IF(実績報告!AB104<>\"\",実績報告!AB104,\"\")","v":""},null,null,0]
[null,{"$f":"IF(実績報告!B105<>\"\",実績報告!B105,\"\")","v":""},null,{"$f":"IF(実績報告!D105<>\"\",実績報告!D105,\"\")","v":""},null,null,null,{"$f":"IF(実績報告!H105<>\"\",実績報告!H105,\"\")","v":0},null,null,{"$f":"IF(実績報告!K105<>\"\",実績報告!K105,\"\")","v":0},null,null,{"$f":"IF(実績報告!N105<>\"\",実績報告!N105,\"\")","v":0},null,null,{"$f":"IF(実績報告!Q105<>\"\",実績報告!Q105,\"\")","v":""},null,null,null,null,{"$f":"IF(実績報告!V105<>\"\",実績報告!V105,\"\")","v":""},null,{"$f":"IF(実績報告!X105<>\"\",実績報告!X105,\"\")","v":""},null,{"$f":"IF(実績報告!Z105<>\"\",実績報告!Z105,\"\")","v":""},null,{"$f":"IF(実績報告!AB105<>\"\",実績報告!AB105,\"\")","v":""},null,null,0]
[null,{"$f":"IF(実績報告!B106<>\"\",実績報告!B106,\"\")","v":""},null,{"$f":"IF(実績報告!D106<>\"\",実績報告!D106,\"\")","v":""},null,null,null,{"$f":"IF(実績報告!H106<>\"\",実績報告!H106,\"\")","v":0},null,null,{"$f":"IF(実績報告!K106<>\"\",実績報告!K106,\"\")","v":0},null,null,{"$f":"IF(実績報告!N106<>\"\",実績報告!N106,\"\")","v":0},null,null,{"$f":"IF(実績報告!Q106<>\"\",実績報告!Q106,\"\")","v":""},null,null,null,null,{"$f":"IF(実績報告!V106<>\"\",実績報告!V106,\"\")","v":""},null,{"$f":"IF(実績報告!X106<>\"\",実績報告!X106,\"\")","v":""},null,{"$f":"IF(実績報告!Z106<>\"\",実績報告!Z106,\"\")","v":""},null,{"$f":"IF(実績報告!AB106<>\"\",実績報告!AB106,\"\")","v":""},null,null,0]
[null,{"$f":"IF(実績報告!B107<>\"\",実績報告!B107,\"\")","v":""},null,{"$f":"IF(実績報告!D107<>\"\",実績報告!D107,\"\")","v":""},null,null,null,{"$f":"IF(実績報告!H107<>\"\",実績報告!H107,\"\")","v":0},null,null,{"$f":"IF(実績報告!K107<>\"\",実績報告!K107,\"\")","v":0},null,null,{"$f":"IF(実績報告!N107<>\"\",実績報告!N107,\"\")","v":0},null,null,{"$f":"IF(実績報告!Q107<>\"\",実績報告!Q107,\"\")","v":""},null,null,null,null,{"$f":"IF(実績報告!V107<>\"\",実績報告!V107,\"\")","v":""},null,{"$f":"IF(実績報告!X107<>\"\",実績報告!X107,\"\")","v":""},null,{"$f":"IF(実績報告!Z107<>\"\",実績報告!Z107,\"\")","v":""},null,{"$f":"IF(実績報告!AB107<>\"\",実績報告!AB107,\"\")","v":""},null,null,0]
[null,{"$f":"IF(実績報告!B108<>\"\",実績報告!B108,\"\")","v":""},null,{"$f":"IF(実績報告!D108<>\"\",実績報告!D108,\"\")","v":""},null,null,null,{"$f":"IF(実績報告!H108<>\"\",実績報告!H108,\"\")","v":0},null,null,{"$f":"IF(実績報告!K108<>\"\",実績報告!K108,\"\")","v":0},null,null,{"$f":"IF(実績報告!N108<>\"\",実績報告!N108,\"\")","v":0},null,null,{"$f":"IF(実績報告!Q108<>\"\",実績報告!Q108,\"\")","v":""},null,null,null,null,{"$f":"IF(実績報告!V108<>\"\",実績報告!V108,\"\")","v":""},null,{"$f":"IF(実績報告!X108<>\"\",実績報告!X108,\"\")","v":""},null,{"$f":"IF(実績報告!Z108<>\"\",実績報告!Z108,\"\")","v":""},null,{"$f":"IF(実績報告!AB108<>\"\",実績報告!AB108,\"\")","v":""},null,null,0]
[null,{"$f":"IF(実績報告!B109<>\"\",実績報告!B109,\"\")","v":""},null,{"$f":"IF(実績報告!D109<>\"\",実績報告!D109,\"\")","v":""},null,null,null,{"$f":"IF(実績報告!H109<>\"\",実績報告!H109,\"\")","v":0},null,null,{"$f":"IF(実績報告!K109<>\"\",実績報告!K109,\"\")","v":0},null,null,{"$f":"IF(実績報告!N109<>\"\",実績報告!N109,\"\")","v":0},null,null,{"$f":"IF(実績報告!Q109<>\"\",実績報告!Q109,\"\")","v":""},null,null,null,null,{"$f":"IF(実績報告!V109<>\"\",実績報告!V109,\"\")","v":""},null,{"$f":"IF(実績報告!X109<>\"\",実績報告!X109,\"\")","v":""},null,{"$f":"IF(実績報告!Z109<>\"\",実績報告!Z109,\"\")","v":""},null,{"$f":"IF(実績報告!AB109<>\"\",実績報告!AB109,\"\")","v":""},null,null,0]
[null,{"$f":"IF(実績報告!B110<>\"\",実績報告!B110,\"\")","v":""},null,{"$f":"IF(実績報告!D110<>\"\",実績報告!D110,\"\")","v":""},null,null,null,{"$f":"IF(実績報告!H110<>\"\",実績報告!H110,\"\")","v":0},null,null,{"$f":"IF(実績報告!K110<>\"\",実績報告!K110,\"\")","v":0},null,null,{"$f":"IF(実績報告!N110<>\"\",実績報告!N110,\"\")","v":0},null,null,{"$f":"IF(実績報告!Q110<>\"\",実績報告!Q110,\"\")","v":""},null,null,null,null,{"$f":"IF(実績報告!V110<>\"\",実績報告!V110,\"\")","v":""},null,{"$f":"IF(実績報告!X110<>\"\",実績報告!X110,\"\")","v":""},null,{"$f":"IF(実績報告!Z110<>\"\",実績報告!Z110,\"\")","v":""},null,{"$f":"IF(実績報告!AB110<>\"\",実績報告!AB110,\"\")","v":""},null,null,0]
[null,{"$f":"IF(実績報告!B111<>\"\",実績報告!B111,\"\")","v":""},null,{"$f":"IF(実績報告!D111<>\"\",実績報告!D111,\"\")","v":""},null,null,null,{"$f":"IF(実績報告!H111<>\"\",実績報告!H111,\"\")","v":0},null,null,{"$f":"IF(実績報告!K111<>\"\",実績報告!K111,\"\")","v":0},null,null,{"$f":"IF(実績報告!N111<>\"\",実績報告!N111,\"\")","v":0},null,null,{"$f":"IF(実績報告!Q111<>\"\",実績報告!Q111,\"\")","v":""},null,null,null,null,{"$f":"IF(実績報告!V111<>\"\",実績報告!V111,\"\")","v":""},null,{"$f":"IF(実績報告!X111<>\"\",実績報告!X111,\"\")","v":""},null,{"$f":"IF(実績報告!Z111<>\"\",実績報告!Z111,\"\")","v":""},null,{"$f":"IF(実績報告!AB111<>\"\",実績報告!AB111,\"\")","v":""},null,null,0]
[null,{"$f":"IF(実績報告!B112<>\"\",実績報告!B112,\"\")","v":""},null,{"$f":"IF(実績報告!D112<>\"\",実績報告!D112,\"\")","v":""},null,null,null,{"$f":"IF(実績報告!H112<>\"\",実績報告!H112,\"\")","v":0},null,null,{"$f":"IF(実績報告!K112<>\"\",実績報告!K112,\"\")","v":0},null,null,{"$f":"IF(実績報告!N112<>\"\",実績報告!N112,\"\")","v":0},null,null,{"$f":"IF(実績報告!Q112<>\"\",実績報告!Q112,\"\")","v":""},null,null,null,null,{"$f":"IF(実績報告!V112<>\"\",実績報告!V112,\"\")","v":""},null,{"$f":"IF(実績報告!X112<>\"\",実績報告!X112,\"\")","v":""},null,{"$f":"IF(実績報告!Z112<>\"\",実績報告!Z112,\"\")","v":""},null,{"$f":"IF(実績報告!AB112<>\"\",実績報告!AB112,\"\")","v":""},null,null,0]
[null,{"$f":"IF(実績報告!B113<>\"\",実績報告!B113,\"\")","v":""},null,{"$f":"IF(実績報告!D113<>\"\",実績報告!D113,\"\")","v":""},null,null,null,{"$f":"IF(実績報告!H113<>\"\",実績報告!H113,\"\")","v":0},null,null,{"$f":"IF(実績報告!K113<>\"\",実績報告!K113,\"\")","v":0},null,null,{"$f":"IF(実績報告!N113<>\"\",実績報告!N113,\"\")","v":0},null,null,{"$f":"IF(実績報告!Q113<>\"\",実績報告!Q113,\"\")","v":""},null,null,null,null,{"$f":"IF(実績報告!V113<>\"\",実績報告!V113,\"\")","v":""},null,{"$f":"IF(実績報告!X113<>\"\",実績報告!X113,\"\")","v":""},null,{"$f":"IF(実績報告!Z113<>\"\",実績報告!Z113,\"\")","v":""},null,{"$f":"IF(実績報告!AB113<>\"\",実績報告!AB113,\"\")","v":""},null,null,0]
[null,{"$f":"IF(実績報告!B114<>\"\",実績報告!B114,\"\")","v":""},null,{"$f":"IF(実績報告!D114<>\"\",実績報告!D114,\"\")","v":""},null,null,null,{"$f":"IF(実績報告!H114<>\"\",実績報告!H114,\"\")","v":0},null,null,{"$f":"IF(実績報告!K114<>\"\",実績報告!K114,\"\")","v":0},null,null,{"$f":"IF(実績報告!N114<>\"\",実績報告!N114,\"\")","v":0},null,null,{"$f":"IF(実績報告!Q114<>\"\",実績報告!Q114,\"\")","v":""},null,null,null,null,{"$f":"IF(実績報告!V114<>\"\",実績報告!V114,\"\")","v":""},null,{"$f":"IF(実績報告!X114<>\"\",実績報告!X114,\"\")","v":""},null,{"$f":"IF(実績報告!Z114<>\"\",実績報告!Z114,\"\")","v":""},null,{"$f":"IF(実績報告!AB114<>\"\",実績報告!AB114,\"\")","v":""},null,null,0]
[null,{"$f":"IF(実績報告!B115<>\"\",実績報告!B115,\"\")","v":""},null,{"$f":"IF(実績報告!D115<>\"\",実績報告!D115,\"\")","v":""},null,null,null,{"$f":"IF(実績報告!H115<>\"\",実績報告!H115,\"\")","v":0},null,null,{"$f":"IF(実績報告!K115<>\"\",実績報告!K115,\"\")","v":0},null,null,{"$f":"IF(実績報告!N115<>\"\",実績報告!N115,\"\")","v":0},null,null,{"$f":"IF(実績報告!Q115<>\"\",実績報告!Q115,\"\")","v":""},null,null,null,null,{"$f":"IF(実績報告!V115<>\"\",実績報告!V115,\"\")","v":""},null,{"$f":"IF(実績報告!X115<>\"\",実績報告!X115,\"\")","v":""},null,{"$f":"IF(実績報告!Z115<>\"\",実績報告!Z115,\"\")","v":""},null,{"$f":"IF(実績報告!AB115<>\"\",実績報告!AB115,\"\")","v":""},null,null,0]
[null,"小 計",null,null,null,null,null,{"$f":"IF(実績報告!H116<>\"\",実績報告!H116,\"\")","v":0},null,null,{"$f":"IF(実績報告!K116<>\"\",実績報告!K116,\"\")","v":0},null,null,{"$f":"IF(実績報告!N116<>\"\",実績報告!N116,\"\")","v":0},null,null,null,null,null,null,null,null,null,null,null,null,null,null,null,null,2]
[]
[null,null,"（３）　支出の部　対象外経費"]
[null,"経　費　区　分",null,null,null,null,null,"予 算 額",null,null,"決 算 額",null,null,"差引増減",null,null,"支　出　内　容　（円）"]
[null,"科 目",null,"区　分",null,null,null,null,null,null,null,null,null,null,null,null,"内容名",null,null,null,null,"単価",null,"数量",null,"単位"]
[null,{"$f":"IF(実績報告!B121<>\"\",実績報告!B121,\"\")","v":""},null,{"$f":"IF(実績報告!D121<>\"\",実績報告!D121,\"\")","v":""},null,null,null,{"$f":"IF(実績報告!H121<>\"\",実績報告!H121,\"\")","v":0},null,null,{"$f":"IF(実績報告!K121<>\"\",実績報告!K121,\"\")","v":0},null,null,{"$f":"IF(実績報告!N121<>\"\",実績報告!N121,\"\")","v":0},null,null,{"$f":"IF(実績報告!Q121<>\"\",実績報告!Q121,\"\")","v":""},null,null,null,null,{"$f":"IF(実績報告!V121<>\"\",実績報告!V121,\"\")","v":""},null,{"$f":"IF(実績報告!X121<>\"\",実績報告!X121,\"\")","v":""},null,{"$f":"IF(実績報告!Z121<>\"\",実績報告!Z121,\"\")","v":""},null,{"$f":"IF(実績報告!AB121<>\"\",実績報告!AB121,\"\")","v":""},null,null,{"$f":"IF(AND(B121=\"\",D121=\"\",Q121=\"\",V121=\"\",X121=\"\",Z121),0,1)","v":0}]
[null,{"$f":"IF(実績報告!B122<>\"\",実績報告!B122,\"\")","v":""},null,{"$f":"IF(実績報告!D122<>\"\",実績報告!D122,\"\")","v":""},null,null,null,{"$f":"IF(実績報告!H122<>\"\",実績報告!H122,\"\")","v":0},null,null,{"$f":"IF(実績報告!K122<>\"\",実績報告!K122,\"\")","v":0},null,null,{"$f":"IF(実績報告!N122<>\"\",実績報告!N122,\"\")","v":0},null,null,{"$f":"IF(実績報告!Q122<>\"\",実績報告!Q122,\"\")","v":""},null,null,null,null,{"$f":"IF(実績報告!V122<>\"\",実績報告!V122,\"\")","v":""},null,{"$f":"IF(実績報告!X122<>\"\",実績報告!X122,\"\")","v":""},null,{"$f":"IF(実績報告!Z122<>\"\",実績報告!Z122,\"\")","v":""},null,{"$f":"IF(実績報告!AB122<>\"\",実績報告!AB122,\"\")","v":""},null,null,{"$f":"IF(AND(B122=\"\",D122=\"\",Q122=\"\",V122=\"\",X122=\"\",Z122),0,1)","v":0}]
[null,{"$f":"IF(実績報告!B123<>\"\",実績報告!B123,\"\")","v":""},null,{"$f":"IF(実績報告!D123<>\"\",実績報告!D123,\"\")","v":""},null,null,null,{"$f":"IF(実績報告!H123<>\"\",実績報告!H123,\"\")","v":0},null,null,{"$f":"IF(実績報告!K123<>\"\",実績報告!K123,\"\")","v":0},null,null,{"$f":"IF(実績報告!N123<>\"\",実績報告!N123,\"\")","v":0},null,null,{"$f":"IF(実績報告!Q123<>\"\",実績報告!Q123,\"\")","v":""},null,null,null,null,{"$f":"IF(実績報告!V123<>\"\",実績報告!V123,\"\")","v":""},null,{"$f":"IF(実績報告!X123<>\"\",実績報告!X123,\"\")","v":""},null,{"$f":"IF(実績報告!Z123<>\"\",実績報告!Z123,\"\")","v":""},null,{"$f":"IF(実績報告!AB123<>\"\",実績報告!AB123,\"\")","v":""},null,null,0]
[null,{"$f":"IF(実績報告!B124<>\"\",実績報告!B124,\"\")","v":""},null,{"$f":"IF(実績報告!D124<>\"\",実績報告!D124,\"\")","v":""},null,null,null,{"$f":"IF(実績報告!H124<>\"\",実績報告!H124,\"\")","v":0},null,null,{"$f":"IF(実績報告!K124<>\"\",実績報告!K124,\"\")","v":0},null,null,{"$f":"IF(実績報告!N124<>\"\",実績報告!N124,\"\")","v":0},null,null,{"$f":"IF(実績報告!Q124<>\"\",実績報告!Q124,\"\")","v":""},null,null,null,null,{"$f":"IF(実績報告!V124<>\"\",実績報告!V124,\"\")","v":""},null,{"$f":"IF(実績報告!X124<>\"\",実績報告!X124,\"\")","v":""},null,{"$f":"IF(実績報告!Z124<>\"\",実績報告!Z124,\"\")","v":""},null,{"$f":"IF(実績報告!AB124<>\"\",実績報告!AB124,\"\")","v":""},null,null,0]
[null,{"$f":"IF(実績報告!B125<>\"\",実績報告!B125,\"\")","v":""},null,{"$f":"IF(実績報告!D125<>\"\",実績報告!D125,\"\")","v":""},null,null,null,{"$f":"IF(実績報告!H125<>\"\",実績報告!H125,\"\")","v":0},null,null,{"$f":"IF(実績報告!K125<>\"\",実績報告!K125,\"\")","v":0},null,null,{"$f":"IF(実績報告!N125<>\"\",実績報告!N125,\"\")","v":0},null,null,{"$f":"IF(実績報告!Q125<>\"\",実績報告!Q125,\"\")","v":""},null,null,null,null,{"$f":"IF(実績報告!V125<>\"\",実績報告!V125,\"\")","v":""},null,{"$f":"IF(実績報告!X125<>\"\",実績報告!X125,\"\")","v":""},null,{"$f":"IF(実績報告!Z125<>\"\",実績報告!Z125,\"\")","v":""},null,{"$f":"IF(実績報告!AB125<>\"\",実績報告!AB125,\"\")","v":""},null,null,0]
[null,{"$f":"IF(実績報告!B126<>\"\",実績報告!B126,\"\")","v":""},null,{"$f":"IF(実績報告!D126<>\"\",実績報告!D126,\"\")","v":""},null,null,null,{"$f":"IF(実績報告!H126<>\"\",実績報告!H126,\"\")","v":0},null,null,{"$f":"IF(実績報告!K126<>\"\",実績報告!K126,\"\")","v":0},null,null,{"$f":"IF(実績報告!N126<>\"\",実績報告!N126,\"\")","v":0},null,null,{"$f":"IF(実績報告!Q126<>\"\",実績報告!Q126,\"\")","v":""},null,null,null,null,{"$f":"IF(実績報告!V126<>\"\",実績報告!V126,\"\")","v":""},null,{"$f":"IF(実績報告!X126<>\"\",実績報告!X126,\"\")","v":""},null,{"$f":"IF(実績報告!Z126<>\"\",実績報告!Z126,\"\")","v":""},null,{"$f":"IF(実績報告!AB126<>\"\",実績報告!AB126,\"\")","v":""},null,null,0]
[null,{"$f":"IF(実績報告!B127<>\"\",実績報告!B127,\"\")","v":""},null,{"$f":"IF(実績報告!D127<>\"\",実績報告!D127,\"\")","v":""},null,null,null,{"$f":"IF(実績報告!H127<>\"\",実績報告!H127,\"\")","v":0},null,null,{"$f":"IF(実績報告!K127<>\"\",実績報告!K127,\"\")","v":0},null,null,{"$f":"IF(実績報告!N127<>\"\",実績報告!N127,\"\")","v":0},null,null,{"$f":"IF(実績報告!Q127<>\"\",実績報告!Q127,\"\")","v":""},null,null,null,null,{"$f":"IF(実績報告!V127<>\"\",実績報告!V127,\"\")","v":""},null,{"$f":"IF(実績報告!X127<>\"\",実績報告!X127,\"\")","v":""},null,{"$f":"IF(実績報告!Z127<>\"\",実績報告!Z127,\"\")","v":""},null,{"$f":"IF(実績報告!AB127<>\"\",実績報告!AB127,\"\")","v":""},null,null,0]
[null,{"$f":"IF(実績報告!B128<>\"\",実績報告!B128,\"\")","v":""},null,{"$f":"IF(実績報告!D128<>\"\",実績報告!D128,\"\")","v":""},null,null,null,{"$f":"IF(実績報告!H128<>\"\",実績報告!H128,\"\")","v":0},null,null,{"$f":"IF(実績報告!K128<>\"\",実績報告!K128,\"\")","v":0},null,null,{"$f":"IF(実績報告!N128<>\"\",実績報告!N128,\"\")","v":0},null,null,{"$f":"IF(実績報告!Q128<>\"\",実績報告!Q128,\"\")","v":""},null,null,null,null,{"$f":"IF(実績報告!V128<>\"\",実績報告!V128,\"\")","v":""},null,{"$f":"IF(実績報告!X128<>\"\",実績報告!X128,\"\")","v":""},null,{"$f":"IF(実績報告!Z128<>\"\",実績報告!Z128,\"\")","v":""},null,{"$f":"IF(実績報告!AB128<>\"\",実績報告!AB128,\"\")","v":""},null,null,0]
[null,{"$f":"IF(実績報告!B129<>\"\",実績報告!B129,\"\")","v":""},null,{"$f":"IF(実績報告!D129<>\"\",実績報告!D129,\"\")","v":""},null,null,null,{"$f":"IF(実績報告!H129<>\"\",実績報告!H129,\"\")","v":0},null,null,{"$f":"IF(実績報告!K129<>\"\",実績報告!K129,\"\")","v":0},null,null,{"$f":"IF(実績報告!N129<>\"\",実績報告!N129,\"\")","v":0},null,null,{"$f":"IF(実績報告!Q129<>\"\",実績報告!Q129,\"\")","v":""},null,null,null,null,{"$f":"IF(実績報告!V129<>\"\",実績報告!V129,\"\")","v":""},null,{"$f":"IF(実績報告!X129<>\"\",実績報告!X129,\"\")","v":""},null,{"$f":"IF(実績報告!Z129<>\"\",実績報告!Z129,\"\")","v":""},null,{"$f":"IF(実績報告!AB129<>\"\",実績報告!AB129,\"\")","v":""},null,null,0]
[null,{"$f":"IF(実績報告!B130<>\"\",実績報告!B130,\"\")","v":""},null,{"$f":"IF(実績報告!D130<>\"\",実績報告!D130,\"\")","v":""},null,null,null,{"$f":"IF(実績報告!H130<>\"\",実績報告!H130,\"\")","v":0},null,null,{"$f":"IF(実績報告!K130<>\"\",実績報告!K130,\"\")","v":0},null,null,{"$f":"IF(実績報告!N130<>\"\",実績報告!N130,\"\")","v":0},null,null,{"$f":"IF(実績報告!Q130<>\"\",実績報告!Q130,\"\")","v":""},null,null,null,null,{"$f":"IF(実績報告!V130<>\"\",実績報告!V130,\"\")","v":""},null,{"$f":"IF(実績報告!X130<>\"\",実績報告!X130,\"\")","v":""},null,{"$f":"IF(実績報告!Z130<>\"\",実績報告!Z130,\"\")","v":""},null,{"$f":"IF(実績報告!AB130<>\"\",実績報告!AB130,\"\")","v":""},null,null,0]
[null,"小 計",null,null,null,null,null,{"$f":"IF(実績報告!H131<>\"\",実績報告!H131,\"\")","v":0},null,null,{"$f":"IF(実績報告!K131<>\"\",実績報告!K131,\"\")","v":0},null,null,{"$f":"IF(実績報告!N131<>\"\",実績報告!N131,\"\")","v":0},null,null,null,null,null,null,null,null,null,null,null,null,null,null,null,null,2]
[]
[null,"支出の部合計",null,null,null,null,null,{"$f":"IF(実績報告!H133<>\"\",実績報告!H133,\"\")","v":0},null,null,{"$f":"IF(実績報告!K133<>\"\",実績報告!K133,\"\")","v":0},null,null,{"$f":"IF(実績報告!N133<>\"\",実績報告!N133,\"\")","v":0}]
[]
[null,null,"（注）　１　経費区分欄は、交付対象経費、交付対象外経費に分け、経費区分ごとに記載する。"]
[null,null,"　　　　２　交付対象外経費のないものは、交付対象外経費欄は省略して差しつかえない。"]
[null,null,"　　　　３　支出内容は数量、規模、単価等の支出内訳を記載する。"]
[]
[null,null,"添付書類"]
[null,null,"　　　　１　交付対象経費の支出を証する領収書の写し。"]
[null,null,"　　　　２　緑の募金事業により実施したことを明らかにした標識または標示の写真。"]
[null,null,"　　　　３　位置図、完成設計書、パンフレット、実施状況写真等の実績内容のわかる資料。"]
[null,null,"（以下に添付ファイル名を記入する。）"]
[]
[]
[]
[null,null,null,null,"地区緑推\n経由",null,null,null,null,null,null,null,null,null,null,"市町村進達"]
[null,"名称",null,null,{"$f":"IF(実績報告!E148<>\"\",実績報告!E148,\"\")","v":""},null,null,null,null,null,null,null,null,null,null,{"$f":"IF(実績報告!P148<>\"\",実績報告!P148,\"\")","v":""}]
[null,"年月日",null,null,"令和",null,{"$f":"IF(実績報告!G149<>\"\",実績報告!G149,\"\")","v":""},null,"年",{"$f":"IF(実績報告!J149<>\"\",実績報告!J149,\"\")","v":""},null,"月",{"$f":"IF(実績報告!M149<>\"\",実績報告!M149,\"\")","v":""},null,"日","令和",null,{"$f":"IF(実績報告!R149<>\"\",実績報告!R149,\"\")","v":""},null,"年",{"$f":"IF(実績報告!U149<>\"\",実績報告!U149,\"\")","v":""},null,"月",{"$f":"IF(実績報告!X149<>\"\",実績報告!X149,\"\")","v":""},null,"日"]
[null,"文書番号",null,null,{"$f":"IF(実績報告!E150<>\"\",実績報告!E150,\"\")","v":""},null,null,null,null,null,"第",{"$f":"IF(実績報告!L150<>\"\",実績報告!L150,\"\")","v":""},null,null,"号",{"$f":"IF(実績報告!P150<>\"\",実績報告!P150,\"\")","v":""},null,null,null,null,null,{"$f":"IF(実績報告!V150<>\"\",実績報告!V150,\"\")","v":"第"},{"$f":"IF(実績報告!W150<>\"\",実績報告!W150,\"\")","v":""},null,null,"号"]

{"sheet":"金額確認一覧","index":8,"n_rows":116,"n_cols":5,"rows_kept":116,"cut":false,"hidden":false,"merged":[[114,0,114,1],[115,0,115,1],[102,0,102,1],[103,0,103,1],[107,0,107,1],[107,2,107,4],[111,0,111,1],[88,0,88,1],[90,0,90,1],[92,0,92,1],[94,0,94,1],[96,0,96,1],[70,0,70,1],[71,0,71,1],[75,0,75,1],[75,2,75,4],[81,0,81,1],[57,0,57,1],[59,0,59,1],[61,0,61,1],[66,0,66,1],[68,0,68,1],[47,0,47,1],[49,0,49,1],[50,0,50,1],[54,0,54,1],[54,2,54,4],[36,0,36,1],[36,2,36,4],[39,0,39,1],[41,0,41,1],[43,0,43,1],[21,0,21,1],[23,0,23,1],[29,0,29,1],[31,0,31,1],[32,0,32,1],[4,0,4,1],[4,2,4,4],[10,0,10,1],[17,0,17,1],[19,0,19,1]]}
["金額確認一覧（支出の部・交付対象経費の各種集計）"]
[]
["（１）森林の整備①"]
["　　　地区緑推森林整備事業、森づくり活動支援事業、学校林整備・保全推進事業、市町村緑化推進組織活動事業"]
["経費区分",null,"予算額計"]
["科目","区分","認定申請","変更申請","実績報告"]
["行動費","交通費",{"$f":"IF(OR(事業認定申請書!$C$21=事業一覧!$A$3,事業認定申請書!$C$21=事業一覧!$A$5,事業認定申請書!$C$21=事業一覧!$A$6,事業認定申請書!$C$21=事業一覧!$A$13),SUMIFS(事業認定申請書!$K$57:$K$106,事業認定申請書!$C$57:$C$106,金額確認一覧!$A7,事業認定申請書!$F$57:$F$106,金額確認一覧!$B7),0)","v":0},{"$f":"IF(OR(事業変更申請書!$C$22=事業一覧!$A$3,事業変更申請書!$C$22=事業一覧!$A$5,事業変更申請書!$C$22=事業一覧!$A$6,事業変更申請書!$C$22=事業一覧!$A$13),SUMIFS(金額確認一覧計算用!$C$3:$C$52,金額確認一覧計算用!$A$3:$A$52,金額確認一覧!$A7,金額確認一覧計算用!$B$3:$B$52,金額確認一覧!$B7),0)","v":0},{"$f":"IF(OR(実績報告!$D$22=事業一覧!$A$3,実績報告!$D$22=事業一覧!$A$5,実績報告!$D$22=事業一覧!$A$6,実績報告!$D$22=事業一覧!$A$13),SUMIFS(実績報告!$K$66:$K$115,実績報告!$B$66:$B$115,金額確認一覧!$A7,実績報告!$D$66:$D$115,金額確認一覧!$B7),0)","v":0}]
["行動費","保険料",{"$f":"IF(OR(事業認定申請書!$C$21=事業一覧!$A$3,事業認定申請書!$C$21=事業一覧!$A$5,事業認定申請書!$C$21=事業一覧!$A$6,事業認定申請書!$C$21=事業一覧!$A$13),SUMIFS(事業認定申請書!$K$57:$K$106,事業認定申請書!$C$57:$C$106,金額確認一覧!$A8,事業認定申請書!$F$57:$F$106,金額確認一覧!$B8),0)","v":0},{"$f":"IF(OR(事業変更申請書!$C$22=事業一覧!$A$3,事業変更申請書!$C$22=事業一覧!$A$5,事業変更申請書!$C$22=事業一覧!$A$6,事業変更申請書!$C$22=事業一覧!$A$13),SUMIFS(金額確認一覧計算用!$C$3:$C$52,金額確認一覧計算用!$A$3:$A$52,金額確認一覧!$A8,金額確認一覧計算用!$B$3:$B$52,金額確認一覧!$B8),0)","v":0},{"$f":"IF(OR(実績報告!$D$22=事業一覧!$A$3,実績報告!$D$22=事業一覧!$A$5,実績報告!$D$22=事業一覧!$A$6,実績報告!$D$22=事業一覧!$A$13),SUMIFS(実績報告!$K$66:$K$115,実績報告!$B$66:$B$115,金額確認一覧!$A8,実績報告!$D$66:$D$115,金額確認一覧!$B8),0)","v":0}]
["行動費","調査費",{"$f":"IF(OR(事業認定申請書!$C$21=事業一覧!$A$3,事業認定申請書!$C$21=事業一覧!$A$5,事業認定申請書!$C$21=事業一覧!$A$6,事業認定申請書!$C$21=事業一覧!$A$13),SUMIFS(事業認定申請書!$K$57:$K$106,事業認定申請書!$C$57:$C$106,金額確認一覧!$A9,事業認定申請書!$F$57:$F$106,金額確認一覧!$B9),0)","v":0},{"$f":"IF(OR(事業変更申請書!$C$22=事業一覧!$A$3,事業変更申請書!$C$22=事業一覧!$A$5,事業変更申請書!$C$22=事業一覧!$A$6,事業変更申請書!$C$22=事業一覧!$A$13),SUMIFS(金額確認一覧計算用!$C$3:$C$52,金額確認一覧計算用!$A$3:$A$52,金額確認一覧!$A9,金額確認一覧計算用!$B$3:$B$52,金額確認一覧!$B9),0)","v":0},{"$f":"IF(OR(実績報告!$D$22=事業一覧!$A$3,実績報告!$D$22=事業一覧!$A$5,実績報告!$D$22=事業一覧!$A$6,実績報告!$D$22=事業一覧!$A$13),SUMIFS(実績報告!$K$66:$K$115,実績報告!$B$66:$B$115,金額確認一覧!$A9,実績報告!$D$66:$D$115,金額確認一覧!$B9),0)","v":0}]
["行動費","雑費",{"$f":"IF(OR(事業認定申請書!$C$21=事業一覧!$A$3,事業認定申請書!$C$21=事業一覧!$A$5,事業認定申請書!$C$21=事業一覧!$A$6,事業認定申請書!$C$21=事業一覧!$A$13),SUMIFS(事業認定申請書!$K$57:$K$106,事業認定申請書!$C$57:$C$106,金額確認一覧!$A10,事業認定申請書!$F$57:$F$106,金額確認一覧!$B10),0)","v":0},{"$f":"IF(OR(事業変更申請書!$C$22=事業一覧!$A$3,事業変更申請書!$C$22=事業一覧!$A$5,事業変更申請書!$C$22=事業一覧!$A$6,事業変更申請書!$C$22=事業一覧!$A$13),SUMIFS(金額確認一覧計算用!$C$3:$C$52,金額確認一覧計算用!$A$3:$A$52,金額確認一覧!$A10,金額確認一覧計算用!$B$3:$B$52,金額確認一覧!$B10),0)","v":0},{"$f":"IF(OR(実績報告!$D$22=事業一覧!$A$3,実績報告!$D$22=事業一覧!$A$5,実績報告!$D$22=事業一覧!$A$6,実績報告!$D$22=事業一覧!$A$13),SUMIFS(実績報告!$K$66:$K$115,実績報告!$B$66:$B$115,金額確認一覧!$A10,実績報告!$D$66:$D$115,金額確認一覧!$B10),0)","v":0}]
["行動費　計",null,{"$f":"SUM(C7:C10)","v":0},{"$f":"SUM(D7:D10)","v":0},{"$f":"SUM(E7:E10)","v":0}]
["資材費","苗木",{"$f":"IF(OR(事業認定申請書!$C$21=事業一覧!$A$3,事業認定申請書!$C$21=事業一覧!$A$5,事業認定申請書!$C$21=事業一覧!$A$6,事業認定申請書!$C$21=事業一覧!$A$13),SUMIFS(事業認定申請書!$K$57:$K$106,事業認定申請書!$C$57:$C$106,金額確認一覧!$A12,事業認定申請書!$F$57:$F$106,金額確認一覧!$B12),0)","v":0},{"$f":"IF(OR(事業変更申請書!$C$22=事業一覧!$A$3,事業変更申請書!$C$22=事業一覧!$A$5,事業変更申請書!$C$22=事業一覧!$A$6,事業変更申請書!$C$22=事業一覧!$A$13),SUMIFS(金額確認一覧計算用!$C$3:$C$52,金額確認一覧計算用!$A$3:$A$52,金額確認一覧!$A12,金額確認一覧計算用!$B$3:$B$52,金額確認一覧!$B12),0)","v":0},{"$f":"IF(OR(実績報告!$D$22=事業一覧!$A$3,実績報告!$D$22=事業一覧!$A$5,実績報告!$D$22=事業一覧!$A$6,実績報告!$D$22=事業一覧!$A$13),SUMIFS(実績報告!$K$66:$K$115,実績報告!$B$66:$B$115,金額確認一覧!$A12,実績報告!$D$66:$D$115,金額確認一覧!$B12),0)","v":0}]
["資材費","肥料",{"$f":"IF(OR(事業認定申請書!$C$21=事業一覧!$A$3,事業認定申請書!$C$21=事業一覧!$A$5,事業認定申請書!$C$21=事業一覧!$A$6,事業認定申請書!$C$21=事業一覧!$A$13),SUMIFS(事業認定申請書!$K$57:$K$106,事業認定申請書!$C$57:$C$106,金額確認一覧!$A13,事業認定申請書!$F$57:$F$106,金額確認一覧!$B13),0)","v":0},{"$f":"IF(OR(事業変更申請書!$C$22=事業一覧!$A$3,事業変更申請書!$C$22=事業一覧!$A$5,事業変更申請書!$C$22=事業一覧!$A$6,事業変更申請書!$C$22=事業一覧!$A$13),SUMIFS(金額確認一覧計算用!$C$3:$C$52,金額確認一覧計算用!$A$3:$A$52,金額確認一覧!$A13,金額確認一覧計算用!$B$3:$B$52,金額確認一覧!$B13),0)","v":0},{"$f":"IF(OR(実績報告!$D$22=事業一覧!$A$3,実績報告!$D$22=事業一覧!$A$5,実績報告!$D$22=事業一覧!$A$6,実績報告!$D$22=事業一覧!$A$13),SUMIFS(実績報告!$K$66:$K$115,実績報告!$B$66:$B$115,金額確認一覧!$A13,実績報告!$D$66:$D$115,金額確認一覧!$B13),0)","v":0}]
["資材費","機械・器具等購入費",{"$f":"IF(OR(事業認定申請書!$C$21=事業一覧!$A$3,事業認定申請書!$C$21=事業一覧!$A$5,事業認定申請書!$C$21=事業一覧!$A$6,事業認定申請書!$C$21=事業一覧!$A$13),SUMIFS(事業認定申請書!$K$57:$K$106,事業認定申請書!$C$57:$C$106,金額確認一覧!$A14,事業認定申請書!$F$57:$F$106,金額確認一覧!$B14),0)","v":0},{"$f":"IF(OR(事業変更申請書!$C$22=事業一覧!$A$3,事業変更申請書!$C$22=事業一覧!$A$5,事業変更申請書!$C$22=事業一覧!$A$6,事業変更申請書!$C$22=事業一覧!$A$13),SUMIFS(金額確認一覧計算用!$C$3:$C$52,金額確認一覧計算用!$A$3:$A$52,金額確認一覧!$A14,金額確認一覧計算用!$B$3:$B$52,金額確認一覧!$B14),0)","v":0},{"$f":"IF(OR(実績報告!$D$22=事業一覧!$A$3,実績報告!$D$22=事業一覧!$A$5,実績報告!$D$22=事業一覧!$A$6,実績報告!$D$22=事業一覧!$A$13),SUMIFS(実績報告!$K$66:$K$115,実績報告!$B$66:$B$115,金額確認一覧!$A14,実績報告!$D$66:$D$115,金額確認一覧!$B14),0)","v":0}]
["資材費","機械・器具等借上費",{"$f":"IF(OR(事業認定申請書!$C$21=事業一覧!$A$3,事業認定申請書!$C$21=事業一覧!$A$5,事業認定申請書!$C$21=事業一覧!$A$6,事業認定申請書!$C$21=事業一覧!$A$13),SUMIFS(事業認定申請書!$K$57:$K$106,事業認定申請書!$C$57:$C$106,金額確認一覧!$A15,事業認定申請書!$F$57:$F$106,金額確認一覧!$B15),0)","v":0},{"$f":"IF(OR(事業変更申請書!$C$22=事業一覧!$A$3,事業変更申請書!$C$22=事業一覧!$A$5,事業変更申請書!$C$22=事業一覧!$A$6,事業変更申請書!$C$22=事業一覧!$A$13),SUMIFS(金額確認一覧計算用!$C$3:$C$52,金額確認一覧計算用!$A$3:$A$52,金額確認一覧!$A15,金額確認一覧計算用!$B$3:$B$52,金額確認一覧!$B15),0)","v":0},{"$f":"IF(OR(実績報告!$D$22=事業一覧!$A$3,実績報告!$D$22=事業一覧!$A$5,実績報告!$D$22=事業一覧!$A$6,実績報告!$D$22=事業一覧!$A$13),SUMIFS(実績報告!$K$66:$K$115,実績報告!$B$66:$B$115,金額確認一覧!$A15,実績報告!$D$66:$D$115,金額確認一覧!$B15),0)","v":0}]
["資材費","看板・表示板",{"$f":"IF(OR(事業認定申請書!$C$21=事業一覧!$A$3,事業認定申請書!$C$21=事業一覧!$A$5,事業認定申請書!$C$21=事業一覧!$A$6,事業認定申請書!$C$21=事業一覧!$A$13),SUMIFS(事業認定申請書!$K$57:$K$106,事業認定申請書!$C$57:$C$106,金額確認一覧!$A16,事業認定申請書!$F$57:$F$106,金額確認一覧!$B16),0)","v":0},{"$f":"IF(OR(事業変更申請書!$C$22=事業一覧!$A$3,事業変更申請書!$C$22=事業一覧!$A$5,事業変更申請書!$C$22=事業一覧!$A$6,事業変更申請書!$C$22=事業一覧!$A$13),SUMIFS(金額確認一覧計算用!$C$3:$C$52,金額確認一覧計算用!$A$3:$A$52,金額確認一覧!$A16,金額確認一覧計算用!$B$3:$B$52,金額確認一覧!$B16),0)","v":0},{"$f":"IF(OR(実績報告!$D$22=事業一覧!$A$3,実績報告!$D$22=事業一覧!$A$5,実績報告!$D$22=事業一覧!$A$6,実績報告!$D$22=事業一覧!$A$13),SUMIFS(実績報告!$K$66:$K$115,実績報告!$B$66:$B$115,金額確認一覧!$A16,実績報告!$D$66:$D$115,金額確認一覧!$B16),0)","v":0}]
["資材費","杭・支柱等",{"$f":"IF(OR(事業認定申請書!$C$21=事業一覧!$A$3,事業認定申請書!$C$21=事業一覧!$A$5,事業認定申請書!$C$21=事業一覧!$A$6,事業認定申請書!$C$21=事業一覧!$A$13),SUMIFS(事業認定申請書!$K$57:$K$106,事業認定申請書!$C$57:$C$106,金額確認一覧!$A17,事業認定申請書!$F$57:$F$106,金額確認一覧!$B17),0)","v":0},{"$f":"IF(OR(事業変更申請書!$C$22=事業一覧!$A$3,事業変更申請書!$C$22=事業一覧!$A$5,事業変更申請書!$C$22=事業一覧!$A$6,事業変更申請書!$C$22=事業一覧!$A$13),SUMIFS(金額確認一覧計算用!$C$3:$C$52,金額確認一覧計算用!$A$3:$A$52,金額確認一覧!$A17,金額確認一覧計算用!$B$3:$B$52,金額確認一覧!$B17),0)","v":0},{"$f":"IF(OR(実績報告!$D$22=事業一覧!$A$3,実績報告!$D$22=事業一覧!$A$5,実績報告!$D$22=事業一覧!$A$6,実績報告!$D$22=事業一覧!$A$13),SUMIFS(実績報告!$K$66:$K$115,実績報告!$B$66:$B$115,金額確認一覧!$A17,実績報告!$D$66:$D$115,金額確認一覧!$B17),0)","v":0}]
["資材費　計",null,{"$f":"SUM(C12:C17)","v":0},{"$f":"SUM(D12:D17)","v":0},{"$f":"SUM(E12:E17)","v":0}]
["資材運搬費","借上費",{"$f":"IF(OR(事業認定申請書!$C$21=事業一覧!$A$3,事業認定申請書!$C$21=事業一覧!$A$5,事業認定申請書!$C$21=事業一覧!$A$6,事業認定申請書!$C$21=事業一覧!$A$13),SUMIFS(事業認定申請書!$K$57:$K$106,事業認定申請書!$C$57:$C$106,金額確認一覧!$A19,事業認定申請書!$F$57:$F$106,金額確認一覧!$B19),0)","v":0},{"$f":"IF(OR(事業変更申請書!$C$22=事業一覧!$A$3,事業変更申請書!$C$22=事業一覧!$A$5,事業変更申請書!$C$22=事業一覧!$A$6,事業変更申請書!$C$22=事業一覧!$A$13),SUMIFS(金額確認一覧計算用!$C$3:$C$52,金額確認一覧計算用!$A$3:$A$52,金額確認一覧!$A19,金額確認一覧計算用!$B$3:$B$52,金額確認一覧!$B19),0)","v":0},{"$f":"IF(OR(実績報告!$D$22=事業一覧!$A$3,実績報告!$D$22=事業一覧!$A$5,実績報告!$D$22=事業一覧!$A$6,実績報告!$D$22=事業一覧!$A$13),SUMIFS(実績報告!$K$66:$K$115,実績報告!$B$66:$B$115,金額確認一覧!$A19,実績報告!$D$66:$D$115,金額確認一覧!$B19),0)","v":0}]
["資材運搬費　計",null,{"$f":"SUM(C19)","v":0},{"$f":"SUM(D19)","v":0},{"$f":"SUM(E19)","v":0}]
["指導者経費","謝金等",{"$f":"IF(OR(事業認定申請書!$C$21=事業一覧!$A$3,事業認定申請書!$C$21=事業一覧!$A$5,事業認定申請書!$C$21=事業一覧!$A$6,事業認定申請書!$C$21=事業一覧!$A$13),SUMIFS(事業認定申請書!$K$57:$K$106,事業認定申請書!$C$57:$C$106,金額確認一覧!$A21,事業認定申請書!$F$57:$F$106,金額確認一覧!$B21),0)","v":0},{"$f":"IF(OR(事業変更申請書!$C$22=事業一覧!$A$3,事業変更申請書!$C$22=事業一覧!$A$5,事業変更申請書!$C$22=事業一覧!$A$6,事業変更申請書!$C$22=事業一覧!$A$13),SUMIFS(金額確認一覧計算用!$C$3:$C$52,金額確認一覧計算用!$A$3:$A$52,金額確認一覧!$A21,金額確認一覧計算用!$B$3:$B$52,金額確認一覧!$B21),0)","v":0},{"$f":"IF(OR(実績報告!$D$22=事業一覧!$A$3,実績報告!$D$22=事業一覧!$A$5,実績報告!$D$22=事業一覧!$A$6,実績報告!$D$22=事業一覧!$A$13),SUMIFS(実績報告!$K$66:$K$115,実績報告!$B$66:$B$115,金額確認一覧!$A21,実績報告!$D$66:$D$115,金額確認一覧!$B21),0)","v":0}]
["指導者経費　計",null,{"$f":"SUM(C21)","v":0},{"$f":"SUM(D21)","v":0},{"$f":"SUM(E21)","v":0}]
["普及啓発費","啓発資材費",{"$f":"IF(OR(事業認定申請書!$C$21=事業一覧!$A$3,事業認定申請書!$C$21=事業一覧!$A$5,事業認定申請書!$C$21=事業一覧!$A$6,事業認定申請書!$C$21=事業一覧!$A$13),SUMIFS(事業認定申請書!$K$57:$K$106,事業認定申請書!$C$57:$C$106,金額確認一覧!$A23,事業認定申請書!$F$57:$F$106,金額確認一覧!$B23),0)","v":0},{"$f":"IF(OR(事業変更申請書!$C$22=事業一覧!$A$3,事業変更申請書!$C$22=事業一覧!$A$5,事業変更申請書!$C$22=事業一覧!$A$6,事業変更申請書!$C$22=事業一覧!$A$13),SUMIFS(金額確認一覧計算用!$C$3:$C$52,金額確認一覧計算用!$A$3:$A$52,金額確認一覧!$A23,金額確認一覧計算用!$B$3:$B$52,金額確認一覧!$B23),0)","v":0},{"$f":"IF(OR(実績報告!$D$22=事業一覧!$A$3,実績報告!$D$22=事業一覧!$A$5,実績報告!$D$22=事業一覧!$A$6,実績報告!$D$22=事業一覧!$A$13),SUMIFS(実績報告!$K$66:$K$115,実績報告!$B$66:$B$115,金額確認一覧!$A23,実績報告!$D$66:$D$115,金額確認一覧!$B23),0)","v":0}]
["普及啓発費　計",null,{"$f":"SUM(C23)","v":0},{"$f":"SUM(D23)","v":0},{"$f":"SUM(E23)","v":0}]
["事務費","事務費全体",{"$f":"IF(OR(事業認定申請書!$C$21=事業一覧!$A$3,事業認定申請書!$C$21=事業一覧!$A$5,事業認定申請書!$C$21=事業一覧!$A$6,事業認定申請書!$C$21=事業一覧!$A$13),SUMIFS(事業認定申請書!$K$57:$K$106,事業認定申請書!$C$57:$C$106,金額確認一覧!$A25,事業認定申請書!$F$57:$F$106,金額確認一覧!$B25),0)","v":0},{"$f":"IF(OR(事業変更申請書!$C$22=事業一覧!$A$3,事業変更申請書!$C$22=事業一覧!$A$5,事業変更申請書!$C$22=事業一覧!$A$6,事業変更申請書!$C$22=事業一覧!$A$13),SUMIFS(金額確認一覧計算用!$C$3:$C$52,金額確認一覧計算用!$A$3:$A$52,金額確認一覧!$A25,金額確認一覧計算用!$B$3:$B$52,金額確認一覧!$B25),0)","v":0},{"$f":"IF(OR(実績報告!$D$22=事業一覧!$A$3,実績報告!$D$22=事業一覧!$A$5,実績報告!$D$22=事業一覧!$A$6,実績報告!$D$22=事業一覧!$A$13),SUMIFS(実績報告!$K$66:$K$115,実績報告!$B$66:$B$115,金額確認一覧!$A25,実績報告!$D$66:$D$115,金額確認一覧!$B25),0)","v":0}]
["事務費","消耗品",{"$f":"IF(OR(事業認定申請書!$C$21=事業一覧!$A$3,事業認定申請書!$C$21=事業一覧!$A$5,事業認定申請書!$C$21=事業一覧!$A$6,事業認定申請書!$C$21=事業一覧!$A$13),SUMIFS(事業認定申請書!$K$57:$K$106,事業認定申請書!$C$57:$C$106,金額確認一覧!$A26,事業認定申請書!$F$57:$F$106,金額確認一覧!$B26),0)","v":0},{"$f":"IF(OR(事業変更申請書!$C$22=事業一覧!$A$3,事業変更申請書!$C$22=事業一覧!$A$5,事業変更申請書!$C$22=事業一覧!$A$6,事業変更申請書!$C$22=事業一覧!$A$13),SUMIFS(金額確認一覧計算用!$C$3:$C$52,金額確認一覧計算用!$A$3:$A$52,金額確認一覧!$A26,金額確認一覧計算用!$B$3:$B$52,金額確認一覧!$B26),0)","v":0},{"$f":"IF(OR(実績報告!$D$22=事業一覧!$A$3,実績報告!$D$22=事業一覧!$A$5,実績報告!$D$22=事業一覧!$A$6,実績報告!$D$22=事業一覧!$A$13),SUMIFS(実績報告!$K$66:$K$115,実績報告!$B$66:$B$115,金額確認一覧!$A26,実績報告!$D$66:$D$115,金額確認一覧!$B26),0)","v":0}]
["事務費","印刷費",{"$f":"IF(OR(事業認定申請書!$C$21=事業一覧!$A$3,事業認定申請書!$C$21=事業一覧!$A$5,事業認定申請書!$C$21=事業一覧!$A$6,事業認定申請書!$C$21=事業一覧!$A$13),SUMIFS(事業認定申請書!$K$57:$K$106,事業認定申請書!$C$57:$C$106,金額確認一覧!$A27,事業認定申請書!$F$57:$F$106,金額確認一覧!$B27),0)","v":0},{"$f":"IF(OR(事業変更申請書!$C$22=事業一覧!$A$3,事業変更申請書!$C$22=事業一覧!$A$5,事業変更申請書!$C$22=事業一覧!$A$6,事業変更申請書!$C$22=事業一覧!$A$13),SUMIFS(金額確認一覧計算用!$C$3:$C$52,金額確認一覧計算用!$A$3:$A$52,金額確認一覧!$A27,金額確認一覧計算用!$B$3:$B$52,金額確認一覧!$B27),0)","v":0},{"$f":"IF(OR(実績報告!$D$22=事業一覧!$A$3,実績報告!$D$22=事業一覧!$A$5,実績報告!$D$22=事業一覧!$A$6,実績報告!$D$22=事業一覧!$A$13),SUMIFS(実績報告!$K$66:$K$115,実績報告!$B$66:$B$115,金額確認一覧!$A27,実績報告!$D$66:$D$115,金額確認一覧!$B27),0)","v":0}]
["事務費","通信費",{"$f":"IF(OR(事業認定申請書!$C$21=事業一覧!$A$3,事業認定申請書!$C$21=事業一覧!$A$5,事業認定申請書!$C$21=事業一覧!$A$6,事業認定申請書!$C$21=事業一覧!$A$13),SUMIFS(事業認定申請書!$K$57:$K$106,事業認定申請書!$C$57:$C$106,金額確認一覧!$A28,事業認定申請書!$F$57:$F$106,金額確認一覧!$B28),0)","v":0},{"$f":"IF(OR(事業変更申請書!$C$22=事業一覧!$A$3,事業変更申請書!$C$22=事業一覧!$A$5,事業変更申請書!$C$22=事業一覧!$A$6,事業変更申請書!$C$22=事業一覧!$A$13),SUMIFS(金額確認一覧計算用!$C$3:$C$52,金額確認一覧計算用!$A$3:$A$52,金額確認一覧!$A28,金額確認一覧計算用!$B$3:$B$52,金額確認一覧!$B28),0)","v":0},{"$f":"IF(OR(実績報告!$D$22=事業一覧!$A$3,実績報告!$D$22=事業一覧!$A$5,実績報告!$D$22=事業一覧!$A$6,実績報告!$D$22=事業一覧!$A$13),SUMIFS(実績報告!$K$66:$K$115,実績報告!$B$66:$B$115,金額確認一覧!$A28,実績報告!$D$66:$D$115,金額確認一覧!$B28),0)","v":0}]
["事務費","その他",{"$f":"IF(OR(事業認定申請書!$C$21=事業一覧!$A$3,事業認定申請書!$C$21=事業一覧!$A$5,事業認定申請書!$C$21=事業一覧!$A$6,事業認定申請書!$C$21=事業一覧!$A$13),SUMIFS(事業認定申請書!$K$57:$K$106,事業認定申請書!$C$57:$C$106,金額確認一覧!$A29,事業認定申請書!$F$57:$F$106,金額確認一覧!$B29),0)","v":0},{"$f":"IF(OR(事業変更申請書!$C$22=事業一覧!$A$3,事業変更申請書!$C$22=事業一覧!$A$5,事業変更申請書!$C$22=事業一覧!$A$6,事業変更申請書!$C$22=事業一覧!$A$13),SUMIFS(金額確認一覧計算用!$C$3:$C$52,金額確認一覧計算用!$A$3:$A$52,金額確認一覧!$A29,金額確認一覧計算用!$B$3:$B$52,金額確認一覧!$B29),0)","v":0},{"$f":"IF(OR(実績報告!$D$22=事業一覧!$A$3,実績報告!$D$22=事業一覧!$A$5,実績報告!$D$22=事業一覧!$A$6,実績報告!$D$22=事業一覧!$A$13),SUMIFS(実績報告!$K$66:$K$115,実績報告!$B$66:$B$115,金額確認一覧!$A29,実績報告!$D$66:$D$115,金額確認一覧!$B29),0)","v":0}]
["事務費　計",null,{"$f":"SUM(C25:C29)","v":0},{"$f":"SUM(D25:D29)","v":0},{"$f":"SUM(E25:E29)","v":0}]
["委託費","労賃",{"$f":"IF(OR(事業認定申請書!$C$21=事業一覧!$A$3,事業認定申請書!$C$21=事業一覧!$A$5,事業認定申請書!$C$21=事業一覧!$A$6,事業認定申請書!$C$21=事業一覧!$A$13),SUMIFS(事業認定申請書!$K$57:$K$106,事業認定申請書!$C$57:$C$106,金額確認一覧!$A31,事業認定申請書!$F$57:$F$106,金額確認一覧!$B31),0)","v":0},{"$f":"IF(OR(事業変更申請書!$C$22=事業一覧!$A$3,事業変更申請書!$C$22=事業一覧!$A$5,事業変更申請書!$C$22=事業一覧!$A$6,事業変更申請書!$C$22=事業一覧!$A$13),SUMIFS(金額確認一覧計算用!$C$3:$C$52,金額確認一覧計算用!$A$3:$A$52,金額確認一覧!$A31,金額確認一覧計算用!$B$3:$B$52,金額確認一覧!$B31),0)","v":0},{"$f":"IF(OR(実績報告!$D$22=事業一覧!$A$3,実績報告!$D$22=事業一覧!$A$5,実績報告!$D$22=事業一覧!$A$6,実績報告!$D$22=事業一覧!$A$13),SUMIFS(実績報告!$K$66:$K$115,実績報告!$B$66:$B$115,金額確認一覧!$A31,実績報告!$D$66:$D$115,金額確認一覧!$B31),0)","v":0}]
["委託費　計",null,{"$f":"SUM(C31)","v":0},{"$f":"SUM(D31)","v":0},{"$f":"SUM(E31)","v":0}]
["計",null,{"$f":"SUM(C11,C18,C20,C22,C24,C30,C32)","v":0},{"$f":"SUM(D11,D18,D20,D22,D24,D30,D32)","v":0},{"$f":"SUM(E11,E18,E20,E22,E24,E30,E32)","v":0}]
[]
["（２）森林の整備②"]
["　　　森林ボランティア団体活動支援事業"]
["経費区分",null,"予算額計"]
["科目","区分","認定申請","変更申請","実績報告"]
["会議費","借上料",{"$f":"IF(OR(事業認定申請書!$C$21=事業一覧!$A$4),SUMIFS(事業認定申請書!$K$57:$K$106,事業認定申請書!$C$57:$C$106,金額確認一覧!$A39,事業認定申請書!$F$57:$F$106,金額確認一覧!$B39),0)","v":0},{"$f":"IF(OR(事業変更申請書!$C$22=事業一覧!$A$4),SUMIFS(金額確認一覧計算用!$C$3:$C$52,金額確認一覧計算用!$A$3:$A$52,金額確認一覧!$A39,金額確認一覧計算用!$B$3:$B$52,金額確認一覧!$B39),0)","v":0},{"$f":"IF(OR(実績報告!$D$22=事業一覧!$A$4),SUMIFS(実績報告!$K$66:$K$115,実績報告!$B$66:$B$115,金額確認一覧!$A39,実績報告!$D$66:$D$115,金額確認一覧!$B39),0)","v":0}]
["会議費　計",null,{"$f":"SUM(C39)","v":0},{"$f":"SUM(D39)","v":0},{"$f":"SUM(E39)","v":0}]
["行動費","旅費",{"$f":"IF(OR(事業認定申請書!$C$21=事業一覧!$A$4),SUMIFS(事業認定申請書!$K$57:$K$106,事業認定申請書!$C$57:$C$106,金額確認一覧!$A41,事業認定申請書!$F$57:$F$106,金額確認一覧!$B41),0)","v":0},{"$f":"IF(OR(事業変更申請書!$C$22=事業一覧!$A$4),SUMIFS(金額確認一覧計算用!$C$3:$C$52,金額確認一覧計算用!$A$3:$A$52,金額確認一覧!$A41,金額確認一覧計算用!$B$3:$B$52,金額確認一覧!$B41),0)","v":0},{"$f":"IF(OR(実績報告!$D$22=事業一覧!$A$4),SUMIFS(実績報告!$K$66:$K$115,実績報告!$B$66:$B$115,金額確認一覧!$A41,実績報告!$D$66:$D$115,金額確認一覧!$B41),0)","v":0}]
["行動費　計",null,{"$f":"SUM(C41)","v":0},{"$f":"SUM(D41)","v":0},{"$f":"SUM(E41)","v":0}]
["謝金","講師謝金",{"$f":"IF(OR(事業認定申請書!$C$21=事業一覧!$A$4),SUMIFS(事業認定申請書!$K$57:$K$106,事業認定申請書!$C$57:$C$106,金額確認一覧!$A43,事業認定申請書!$F$57:$F$106,金額確認一覧!$B43),0)","v":0},{"$f":"IF(OR(事業変更申請書!$C$22=事業一覧!$A$4),SUMIFS(金額確認一覧計算用!$C$3:$C$52,金額確認一覧計算用!$A$3:$A$52,金額確認一覧!$A43,金額確認一覧計算用!$B$3:$B$52,金額確認一覧!$B43),0)","v":0},{"$f":"IF(OR(実績報告!$D$22=事業一覧!$A$4),SUMIFS(実績報告!$K$66:$K$115,実績報告!$B$66:$B$115,金額確認一覧!$A43,実績報告!$D$66:$D$115,金額確認一覧!$B43),0)","v":0}]
["謝金　計",null,{"$f":"SUM(C43)","v":0},{"$f":"SUM(D43)","v":0},{"$f":"SUM(E43)","v":0}]
["事務費","消耗品",{"$f":"IF(OR(事業認定申請書!$C$21=事業一覧!$A$4),SUMIFS(事業認定申請書!$K$57:$K$106,事業認定申請書!$C$57:$C$106,金額確認一覧!$A45,事業認定申請書!$F$57:$F$106,金額確認一覧!$B45),0)","v":0},{"$f":"IF(OR(事業変更申請書!$C$22=事業一覧!$A$4),SUMIFS(金額確認一覧計算用!$C$3:$C$52,金額確認一覧計算用!$A$3:$A$52,金額確認一覧!$A45,金額確認一覧計算用!$B$3:$B$52,金額確認一覧!$B45),0)","v":0},{"$f":"IF(OR(実績報告!$D$22=事業一覧!$A$4),SUMIFS(実績報告!$K$66:$K$115,実績報告!$B$66:$B$115,金額確認一覧!$A45,実績報告!$D$66:$D$115,金額確認一覧!$B45),0)","v":0}]
["事務費","印刷費",{"$f":"IF(OR(事業認定申請書!$C$21=事業一覧!$A$4),SUMIFS(事業認定申請書!$K$57:$K$106,事業認定申請書!$C$57:$C$106,金額確認一覧!$A46,事業認定申請書!$F$57:$F$106,金額確認一覧!$B46),0)","v":0},{"$f":"IF(OR(事業変更申請書!$C$22=事業一覧!$A$4),SUMIFS(金額確認一覧計算用!$C$3:$C$52,金額確認一覧計算用!$A$3:$A$52,金額確認一覧!$A46,金額確認一覧計算用!$B$3:$B$52,金額確認一覧!$B46),0)","v":0},{"$f":"IF(OR(実績報告!$D$22=事業一覧!$A$4),SUMIFS(実績報告!$K$66:$K$115,実績報告!$B$66:$B$115,金額確認一覧!$A46,実績報告!$D$66:$D$115,金額確認一覧!$B46),0)","v":0}]
["事務費","通信費",{"$f":"IF(OR(事業認定申請書!$C$21=事業一覧!$A$4),SUMIFS(事業認定申請書!$K$57:$K$106,事業認定申請書!$C$57:$C$106,金額確認一覧!$A47,事業認定申請書!$F$57:$F$106,金額確認一覧!$B47),0)","v":0},{"$f":"IF(OR(事業変更申請書!$C$22=事業一覧!$A$4),SUMIFS(金額確認一覧計算用!$C$3:$C$52,金額確認一覧計算用!$A$3:$A$52,金額確認一覧!$A47,金額確認一覧計算用!$B$3:$B$52,金額確認一覧!$B47),0)","v":0},{"$f":"IF(OR(実績報告!$D$22=事業一覧!$A$4),SUMIFS(実績報告!$K$66:$K$115,実績報告!$B$66:$B$115,金額確認一覧!$A47,実績報告!$D$66:$D$115,金額確認一覧!$B47),0)","v":0}]
["事務費　計",null,{"$f":"SUM(C45:C47)","v":0},{"$f":"SUM(D45:D47)","v":0},{"$f":"SUM(E45:E47)","v":0}]
["その他","その他",{"$f":"IF(OR(事業認定申請書!$C$21=事業一覧!$A$4),SUMIFS(事業認定申請書!$K$57:$K$106,事業認定申請書!$C$57:$C$106,金額確認一覧!$A49,事業認定申請書!$F$57:$F$106,金額確認一覧!$B49),0)","v":0},{"$f":"IF(OR(事業変更申請書!$C$22=事業一覧!$A$4),SUMIFS(金額確認一覧計算用!$C$3:$C$52,金額確認一覧計算用!$A$3:$A$52,金額確認一覧!$A49,金額確認一覧計算用!$B$3:$B$52,金額確認一覧!$B49),0)","v":0},{"$f":"IF(OR(実績報告!$D$22=事業一覧!$A$4),SUMIFS(実績報告!$K$66:$K$115,実績報告!$B$66:$B$115,金額確認一覧!$A49,実績報告!$D$66:$D$115,金額確認一覧!$B49),0)","v":0}]
["その他　計",null,{"$f":"SUM(C49)","v":0},{"$f":"SUM(D49)","v":0},{"$f":"SUM(E49)","v":0}]
["計",null,{"$f":"SUM(C40,C42,C44,C48,C50)","v":0},{"$f":"SUM(D40,D42,D44,D48,D50)","v":0},{"$f":"SUM(E40,E42,E44,E48,E50)","v":0}]
[]
["（３）森林の整備③"]
["　　　森林環境教育の森林整備事業"]
["経費区分",null,"予算額計"]
["科目","区分","認定申請","変更申請","実績報告"]
["会議費","借上料",{"$f":"IF(OR(事業認定申請書!$C$21=事業一覧!$A$7),SUMIFS(事業認定申請書!$K$57:$K$106,事業認定申請書!$C$57:$C$106,金額確認一覧!$A57,事業認定申請書!$F$57:$F$106,金額確認一覧!$B57),0)","v":0},{"$f":"IF(OR(事業変更申請書!$C$22=事業一覧!$A$7),SUMIFS(金額確認一覧計算用!$C$3:$C$52,金額確認一覧計算用!$A$3:$A$52,金額確認一覧!$A57,金額確認一覧計算用!$B$3:$B$52,金額確認一覧!$B57),0)","v":0},{"$f":"IF(OR(実績報告!$D$22=事業一覧!$A$7),SUMIFS(実績報告!$K$66:$K$115,実績報告!$B$66:$B$115,金額確認一覧!$A57,実績報告!$D$66:$D$115,金額確認一覧!$B57),0)","v":0}]
["会議費　計",null,{"$f":"SUM(C57)","v":0},{"$f":"SUM(D57)","v":0},{"$f":"SUM(E57)","v":0}]
["行動費","調査費",{"$f":"IF(OR(事業認定申請書!$C$21=事業一覧!$A$7),SUMIFS(事業認定申請書!$K$57:$K$106,事業認定申請書!$C$57:$C$106,金額確認一覧!$A59,事業認定申請書!$F$57:$F$106,金額確認一覧!$B59),0)","v":0},{"$f":"IF(OR(事業変更申請書!$C$22=事業一覧!$A$7),SUMIFS(金額確認一覧計算用!$C$3:$C$52,金額確認一覧計算用!$A$3:$A$52,金額確認一覧!$A59,金額確認一覧計算用!$B$3:$B$52,金額確認一覧!$B59),0)","v":0},{"$f":"IF(OR(実績報告!$D$22=事業一覧!$A$7),SUMIFS(実績報告!$K$66:$K$115,実績報告!$B$66:$B$115,金額確認一覧!$A59,実績報告!$D$66:$D$115,金額確認一覧!$B59),0)","v":0}]
["行動費　計",null,{"$f":"SUM(C59)","v":0},{"$f":"SUM(D59)","v":0},{"$f":"SUM(E59)","v":0}]
["環境整備費","施設整備費",{"$f":"IF(OR(事業認定申請書!$C$21=事業一覧!$A$7),SUMIFS(事業認定申請書!$K$57:$K$106,事業認定申請書!$C$57:$C$106,金額確認一覧!$A61,事業認定申請書!$F$57:$F$106,金額確認一覧!$B61),0)","v":0},{"$f":"IF(OR(事業変更申請書!$C$22=事業一覧!$A$7),SUMIFS(金額確認一覧計算用!$C$3:$C$52,金額確認一覧計算用!$A$3:$A$52,金額確認一覧!$A61,金額確認一覧計算用!$B$3:$B$52,金額確認一覧!$B61),0)","v":0},{"$f":"IF(OR(実績報告!$D$22=事業一覧!$A$7),SUMIFS(実績報告!$K$66:$K$115,実績報告!$B$66:$B$115,金額確認一覧!$A61,実績報告!$D$66:$D$115,金額確認一覧!$B61),0)","v":0}]
["施設整備費　計",null,{"$f":"SUM(C61)","v":0},{"$f":"SUM(D61)","v":0},{"$f":"SUM(E61)","v":0}]
["事務費","消耗品",{"$f":"IF(OR(事業認定申請書!$C$21=事業一覧!$A$7),SUMIFS(事業認定申請書!$K$57:$K$106,事業認定申請書!$C$57:$C$106,金額確認一覧!$A63,事業認定申請書!$F$57:$F$106,金額確認一覧!$B63),0)","v":0},{"$f":"IF(OR(事業変更申請書!$C$22=事業一覧!$A$7),SUMIFS(金額確認一覧計算用!$C$3:$C$52,金額確認一覧計算用!$A$3:$A$52,金額確認一覧!$A63,金額確認一覧計算用!$B$3:$B$52,金額確認一覧!$B63),0)","v":0},{"$f":"IF(OR(実績報告!$D$22=事業一覧!$A$7),SUMIFS(実績報告!$K$66:$K$115,実績報告!$B$66:$B$115,金額確認一覧!$A63,実績報告!$D$66:$D$115,金額確認一覧!$B63),0)","v":0}]
["事務費","印刷費",{"$f":"IF(OR(事業認定申請書!$C$21=事業一覧!$A$7),SUMIFS(事業認定申請書!$K$57:$K$106,事業認定申請書!$C$57:$C$106,金額確認一覧!$A64,事業認定申請書!$F$57:$F$106,金額確認一覧!$B64),0)","v":0},{"$f":"IF(OR(事業変更申請書!$C$22=事業一覧!$A$7),SUMIFS(金額確認一覧計算用!$C$3:$C$52,金額確認一覧計算用!$A$3:$A$52,金額確認一覧!$A64,金額確認一覧計算用!$B$3:$B$52,金額確認一覧!$B64),0)","v":0},{"$f":"IF(OR(実績報告!$D$22=事業一覧!$A$7),SUMIFS(実績報告!$K$66:$K$115,実績報告!$B$66:$B$115,金額確認一覧!$A64,実績報告!$D$66:$D$115,金額確認一覧!$B64),0)","v":0}]
["事務費","通信費",{"$f":"IF(OR(事業認定申請書!$C$21=事業一覧!$A$7),SUMIFS(事業認定申請書!$K$57:$K$106,事業認定申請書!$C$57:$C$106,金額確認一覧!$A65,事業認定申請書!$F$57:$F$106,金額確認一覧!$B65),0)","v":0},{"$f":"IF(OR(事業変更申請書!$C$22=事業一覧!$A$7),SUMIFS(金額確認一覧計算用!$C$3:$C$52,金額確認一覧計算用!$A$3:$A$52,金額確認一覧!$A65,金額確認一覧計算用!$B$3:$B$52,金額確認一覧!$B65),0)","v":0},{"$f":"IF(OR(実績報告!$D$22=事業一覧!$A$7),SUMIFS(実績報告!$K$66:$K$115,実績報告!$B$66:$B$115,金額確認一覧!$A65,実績報告!$D$66:$D$115,金額確認一覧!$B65),0)","v":0}]
["事務費","その他",{"$f":"IF(OR(事業認定申請書!$C$21=事業一覧!$A$7),SUMIFS(事業認定申請書!$K$57:$K$106,事業認定申請書!$C$57:$C$106,金額確認一覧!$A66,事業認定申請書!$F$57:$F$106,金額確認一覧!$B66),0)","v":0},{"$f":"IF(OR(事業変更申請書!$C$22=事業一覧!$A$7),SUMIFS(金額確認一覧計算用!$C$3:$C$52,金額確認一覧計算用!$A$3:$A$52,金額確認一覧!$A66,金額確認一覧計算用!$B$3:$B$52,金額確認一覧!$B66),0)","v":0},{"$f":"IF(OR(実績報告!$D$22=事業一覧!$A$7),SUMIFS(実績報告!$K$66:$K$115,実績報告!$B$66:$B$115,金額確認一覧!$A66,実績報告!$D$66:$D$115,金額確認一覧!$B66),0)","v":0}]
["事務費　計",null,{"$f":"SUM(C63:C66)","v":0},{"$f":"SUM(D63:D66)","v":0},{"$f":"SUM(E63:E66)","v":0}]
["賃借料等","賃借料・使用料",{"$f":"IF(OR(事業認定申請書!$C$21=事業一覧!$A$7),SUMIFS(事業認定申請書!$K$57:$K$106,事業認定申請書!$C$57:$C$106,金額確認一覧!$A68,事業認定申請書!$F$57:$F$106,金額確認一覧!$B68),0)","v":0},{"$f":"IF(OR(事業変更申請書!$C$22=事業一覧!$A$7),SUMIFS(金額確認一覧計算用!$C$3:$C$52,金額確認一覧計算用!$A$3:$A$52,金額確認一覧!$A68,金額確認一覧計算用!$B$3:$B$52,金額確認一覧!$B68),0)","v":0},{"$f":"IF(OR(実績報告!$D$22=事業一覧!$A$7),SUMIFS(実績報告!$K$66:$K$115,実績報告!$B$66:$B$115,金額確認一覧!$A68,実績報告!$D$66:$D$115,金額確認一覧!$B68),0)","v":0}]
["賃借料費　計",null,{"$f":"SUM(C68)","v":0},{"$f":"SUM(D68)","v":0},{"$f":"SUM(E68)","v":0}]
["委託費","労賃",{"$f":"IF(OR(事業認定申請書!$C$21=事業一覧!$A$7),SUMIFS(事業認定申請書!$K$57:$K$106,事業認定申請書!$C$57:$C$106,金額確認一覧!$A70,事業認定申請書!$F$57:$F$106,金額確認一覧!$B70),0)","v":0},{"$f":"IF(OR(事業変更申請書!$C$22=事業一覧!$A$7),SUMIFS(金額確認一覧計算用!$C$3:$C$52,金額確認一覧計算用!$A$3:$A$52,金額確認一覧!$A70,金額確認一覧計算用!$B$3:$B$52,金額確認一覧!$B70),0)","v":0},{"$f":"IF(OR(実績報告!$D$22=事業一覧!$A$7),SUMIFS(実績報告!$K$66:$K$115,実績報告!$B$66:$B$115,金額確認一覧!$A70,実績報告!$D$66:$D$115,金額確認一覧!$B70),0)","v":0}]
["委託費　計",null,{"$f":"SUM(C70)","v":0},{"$f":"SUM(D70)","v":0},{"$f":"SUM(E70)","v":0}]
["計",null,{"$f":"SUM(C58,C60,C62,C67,C69,C71)","v":0},{"$f":"SUM(D58,D60,D62,D67,D69,D71)","v":0},{"$f":"SUM(E58,E60,E62,E67,E69,E71)","v":0}]
[]
["（４）緑化の推進"]
["　　　地区緑推緑化推進事業、緑の少年隊育成事業、学校緑化の推進事業、学校緑化の推進事業_記念樹、地域緑化活動支援事業、市町村緑化推進組織活動事業"]
["経費区分",null,"予算額計"]
["科目","区分","認定申請","変更申請","実績報告"]
["行動費","交通費",{"$f":"IF(OR(事業認定申請書!$C$21=事業一覧!$A$8,事業認定申請書!$C$21=事業一覧!$A$9,事業認定申請書!$C$21=事業一覧!$A$10,事業認定申請書!$C$21=事業一覧!$A$11,事業認定申請書!$C$21=事業一覧!$A$12,事業認定申請書!$C$21=事業一覧!$A$13),SUMIFS(事業認定申請書!$K$57:$K$106,事業認定申請書!$C$57:$C$106,金額確認一覧!$A78,事業認定申請書!$F$57:$F$106,金額確認一覧!$B78),0)","v":0},{"$f":"IF(OR(事業変更申請書!$C$22=事業一覧!$A$8,事業変更申請書!$C$22=事業一覧!$A$9,事業変更申請書!$C$22=事業一覧!$A$10,事業変更申請書!$C$22=事業一覧!$A$11,事業変更申請書!$C$22=事業一覧!$A$12,事業変更申請書!$C$22=事業一覧!$A$13),SUMIFS(金額確認一覧計算用!$C$3:$C$52,金額確認一覧計算用!$A$3:$A$52,金額確認一覧!$A78,金額確認一覧計算用!$B$3:$B$52,金額確認一覧!$B78),0)","v":0},{"$f":"IF(OR(実績報告!$D$22=事業一覧!$A$8,実績報告!$D$22=事業一覧!$A$9,実績報告!$D$22=事業一覧!$A$10,実績報告!$D$22=事業一覧!$A$11,実績報告!$D$22=事業一覧!$A$12,実績報告!$D$22=事業一覧!$A$13),SUMIFS(実績報告!$K$66:$K$115,実績報告!$B$66:$B$115,金額確認一覧!$A78,実績報告!$D$66:$D$115,金額確認一覧!$B78),0)","v":0}]
["行動費","保険料",{"$f":"IF(OR(事業認定申請書!$C$21=事業一覧!$A$8,事業認定申請書!$C$21=事業一覧!$A$9,事業認定申請書!$C$21=事業一覧!$A$10,事業認定申請書!$C$21=事業一覧!$A$11,事業認定申請書!$C$21=事業一覧!$A$12,事業認定申請書!$C$21=事業一覧!$A$13),SUMIFS(事業認定申請書!$K$57:$K$106,事業認定申請書!$C$57:$C$106,金額確認一覧!$A79,事業認定申請書!$F$57:$F$106,金額確認一覧!$B79),0)","v":0},{"$f":"IF(OR(事業変更申請書!$C$22=事業一覧!$A$8,事業変更申請書!$C$22=事業一覧!$A$9,事業変更申請書!$C$22=事業一覧!$A$10,事業変更申請書!$C$22=事業一覧!$A$11,事業変更申請書!$C$22=事業一覧!$A$12,事業変更申請書!$C$22=事業一覧!$A$13),SUMIFS(金額確認一覧計算用!$C$3:$C$52,金額確認一覧計算用!$A$3:$A$52,金額確認一覧!$A79,金額確認一覧計算用!$B$3:$B$52,金額確認一覧!$B79),0)","v":0},{"$f":"IF(OR(実績報告!$D$22=事業一覧!$A$8,実績報告!$D$22=事業一覧!$A$9,実績報告!$D$22=事業一覧!$A$10,実績報告!$D$22=事業一覧!$A$11,実績報告!$D$22=事業一覧!$A$12,実績報告!$D$22=事業一覧!$A$13),SUMIFS(実績報告!$K$66:$K$115,実績報告!$B$66:$B$115,金額確認一覧!$A79,実績報告!$D$66:$D$115,金額確認一覧!$B79),0)","v":0}]
["行動費","調査費",{"$f":"IF(OR(事業認定申請書!$C$21=事業一覧!$A$8,事業認定申請書!$C$21=事業一覧!$A$9,事業認定申請書!$C$21=事業一覧!$A$10,事業認定申請書!$C$21=事業一覧!$A$11,事業認定申請書!$C$21=事業一覧!$A$12,事業認定申請書!$C$21=事業一覧!$A$13),SUMIFS(事業認定申請書!$K$57:$K$106,事業認定申請書!$C$57:$C$106,金額確認一覧!$A80,事業認定申請書!$F$57:$F$106,金額確認一覧!$B80),0)","v":0},{"$f":"IF(OR(事業変更申請書!$C$22=事業一覧!$A$8,事業変更申請書!$C$22=事業一覧!$A$9,事業変更申請書!$C$22=事業一覧!$A$10,事業変更申請書!$C$22=事業一覧!$A$11,事業変更申請書!$C$22=事業一覧!$A$12,事業変更申請書!$C$22=事業一覧!$A$13),SUMIFS(金額確認一覧計算用!$C$3:$C$52,金額確認一覧計算用!$A$3:$A$52,金額確認一覧!$A80,金額確認一覧計算用!$B$3:$B$52,金額確認一覧!$B80),0)","v":0},{"$f":"IF(OR(実績報告!$D$22=事業一覧!$A$8,実績報告!$D$22=事業一覧!$A$9,実績報告!$D$22=事業一覧!$A$10,実績報告!$D$22=事業一覧!$A$11,実績報告!$D$22=事業一覧!$A$12,実績報告!$D$22=事業一覧!$A$13),SUMIFS(実績報告!$K$66:$K$115,実績報告!$B$66:$B$115,金額確認一覧!$A80,実績報告!$D$66:$D$115,金額確認一覧!$B80),0)","v":0}]
["行動費","雑費",{"$f":"IF(OR(事業認定申請書!$C$21=事業一覧!$A$8,事業認定申請書!$C$21=事業一覧!$A$9,事業認定申請書!$C$21=事業一覧!$A$10,事業認定申請書!$C$21=事業一覧!$A$11,事業認定申請書!$C$21=事業一覧!$A$12,事業認定申請書!$C$21=事業一覧!$A$13),SUMIFS(事業認定申請書!$K$57:$K$106,事業認定申請書!$C$57:$C$106,金額確認一覧!$A81,事業認定申請書!$F$57:$F$106,金額確認一覧!$B81),0)","v":0},{"$f":"IF(OR(事業変更申請書!$C$22=事業一覧!$A$8,事業変更申請書!$C$22=事業一覧!$A$9,事業変更申請書!$C$22=事業一覧!$A$10,事業変更申請書!$C$22=事業一覧!$A$11,事業変更申請書!$C$22=事業一覧!$A$12,事業変更申請書!$C$22=事業一覧!$A$13),SUMIFS(金額確認一覧計算用!$C$3:$C$52,金額確認一覧計算用!$A$3:$A$52,金額確認一覧!$A81,金額確認一覧計算用!$B$3:$B$52,金額確認一覧!$B81),0)","v":0},{"$f":"IF(OR(実績報告!$D$22=事業一覧!$A$8,実績報告!$D$22=事業一覧!$A$9,実績報告!$D$22=事業一覧!$A$10,実績報告!$D$22=事業一覧!$A$11,実績報告!$D$22=事業一覧!$A$12,実績報告!$D$22=事業一覧!$A$13),SUMIFS(実績報告!$K$66:$K$115,実績報告!$B$66:$B$115,金額確認一覧!$A81,実績報告!$D$66:$D$115,金額確認一覧!$B81),0)","v":0}]
["行動費　計",null,{"$f":"SUM(C78:C81)","v":0},{"$f":"SUM(D78:D81)","v":0},{"$f":"SUM(E78:E81)","v":0}]
["資材費","苗木",{"$f":"IF(OR(事業認定申請書!$C$21=事業一覧!$A$8,事業認定申請書!$C$21=事業一覧!$A$9,事業認定申請書!$C$21=事業一覧!$A$10,事業認定申請書!$C$21=事業一覧!$A$11,事業認定申請書!$C$21=事業一覧!$A$12,事業認定申請書!$C$21=事業一覧!$A$13),SUMIFS(事業認定申請書!$K$57:$K$106,事業認定申請書!$C$57:$C$106,金額確認一覧!$A83,事業認定申請書!$F$57:$F$106,金額確認一覧!$B83),0)","v":0},{"$f":"IF(OR(事業変更申請書!$C$22=事業一覧!$A$8,事業変更申請書!$C$22=事業一覧!$A$9,事業変更申請書!$C$22=事業一覧!$A$10,事業変更申請書!$C$22=事業一覧!$A$11,事業変更申請書!$C$22=事業一覧!$A$12,事業変更申請書!$C$22=事業一覧!$A$13),SUMIFS(金額確認一覧計算用!$C$3:$C$52,金額確認一覧計算用!$A$3:$A$52,金額確認一覧!$A83,金額確認一覧計算用!$B$3:$B$52,金額確認一覧!$B83),0)","v":0},{"$f":"IF(OR(実績報告!$D$22=事業一覧!$A$8,実績報告!$D$22=事業一覧!$A$9,実績報告!$D$22=事業一覧!$A$10,実績報告!$D$22=事業一覧!$A$11,実績報告!$D$22=事業一覧!$A$12,実績報告!$D$22=事業一覧!$A$13),SUMIFS(実績報告!$K$66:$K$115,実績報告!$B$66:$B$115,金額確認一覧!$A83,実績報告!$D$66:$D$115,金額確認一覧!$B83),0)","v":0}]
["資材費","肥料",{"$f":"IF(OR(事業認定申請書!$C$21=事業一覧!$A$8,事業認定申請書!$C$21=事業一覧!$A$9,事業認定申請書!$C$21=事業一覧!$A$10,事業認定申請書!$C$21=事業一覧!$A$11,事業認定申請書!$C$21=事業一覧!$A$12,事業認定申請書!$C$21=事業一覧!$A$13),SUMIFS(事業認定申請書!$K$57:$K$106,事業認定申請書!$C$57:$C$106,金額確認一覧!$A84,事業認定申請書!$F$57:$F$106,金額確認一覧!$B84),0)","v":0},{"$f":"IF(OR(事業変更申請書!$C$22=事業一覧!$A$8,事業変更申請書!$C$22=事業一覧!$A$9,事業変更申請書!$C$22=事業一覧!$A$10,事業変更申請書!$C$22=事業一覧!$A$11,事業変更申請書!$C$22=事業一覧!$A$12,事業変更申請書!$C$22=事業一覧!$A$13),SUMIFS(金額確認一覧計算用!$C$3:$C$52,金額確認一覧計算用!$A$3:$A$52,金額確認一覧!$A84,金額確認一覧計算用!$B$3:$B$52,金額確認一覧!$B84),0)","v":0},{"$f":"IF(OR(実績報告!$D$22=事業一覧!$A$8,実績報告!$D$22=事業一覧!$A$9,実績報告!$D$22=事業一覧!$A$10,実績報告!$D$22=事業一覧!$A$11,実績報告!$D$22=事業一覧!$A$12,実績報告!$D$22=事業一覧!$A$13),SUMIFS(実績報告!$K$66:$K$115,実績報告!$B$66:$B$115,金額確認一覧!$A84,実績報告!$D$66:$D$115,金額確認一覧!$B84),0)","v":0}]
["資材費","機械・器具等購入費",{"$f":"IF(OR(事業認定申請書!$C$21=事業一覧!$A$8,事業認定申請書!$C$21=事業一覧!$A$9,事業認定申請書!$C$21=事業一覧!$A$10,事業認定申請書!$C$21=事業一覧!$A$11,事業認定申請書!$C$21=事業一覧!$A$12,事業認定申請書!$C$21=事業一覧!$A$13),SUMIFS(事業認定申請書!$K$57:$K$106,事業認定申請書!$C$57:$C$106,金額確認一覧!$A85,事業認定申請書!$F$57:$F$106,金額確認一覧!$B85),0)","v":0},{"$f":"IF(OR(事業変更申請書!$C$22=事業一覧!$A$8,事業変更申請書!$C$22=事業一覧!$A$9,事業変更申請書!$C$22=事業一覧!$A$10,事業変更申請書!$C$22=事業一覧!$A$11,事業変更申請書!$C$22=事業一覧!$A$12,事業変更申請書!$C$22=事業一覧!$A$13),SUMIFS(金額確認一覧計算用!$C$3:$C$52,金額確認一覧計算用!$A$3:$A$52,金額確認一覧!$A85,金額確認一覧計算用!$B$3:$B$52,金額確認一覧!$B85),0)","v":0},{"$f":"IF(OR(実績報告!$D$22=事業一覧!$A$8,実績報告!$D$22=事業一覧!$A$9,実績報告!$D$22=事業一覧!$A$10,実績報告!$D$22=事業一覧!$A$11,実績報告!$D$22=事業一覧!$A$12,実績報告!$D$22=事業一覧!$A$13),SUMIFS(実績報告!$K$66:$K$115,実績報告!$B$66:$B$115,金額確認一覧!$A85,実績報告!$D$66:$D$115,金額確認一覧!$B85),0)","v":0}]
["資材費","機械・器具等借上費",{"$f":"IF(OR(事業認定申請書!$C$21=事業一覧!$A$8,事業認定申請書!$C$21=事業一覧!$A$9,事業認定申請書!$C$21=事業一覧!$A$10,事業認定申請書!$C$21=事業一覧!$A$11,事業認定申請書!$C$21=事業一覧!$A$12,事業認定申請書!$C$21=事業一覧!$A$13),SUMIFS(事業認定申請書!$K$57:$K$106,事業認定申請書!$C$57:$C$106,金額確認一覧!$A86,事業認定申請書!$F$57:$F$106,金額確認一覧!$B86),0)","v":0},{"$f":"IF(OR(事業変更申請書!$C$22=事業一覧!$A$8,事業変更申請書!$C$22=事業一覧!$A$9,事業変更申請書!$C$22=事業一覧!$A$10,事業変更申請書!$C$22=事業一覧!$A$11,事業変更申請書!$C$22=事業一覧!$A$12,事業変更申請書!$C$22=事業一覧!$A$13),SUMIFS(金額確認一覧計算用!$C$3:$C$52,金額確認一覧計算用!$A$3:$A$52,金額確認一覧!$A86,金額確認一覧計算用!$B$3:$B$52,金額確認一覧!$B86),0)","v":0},{"$f":"IF(OR(実績報告!$D$22=事業一覧!$A$8,実績報告!$D$22=事業一覧!$A$9,実績報告!$D$22=事業一覧!$A$10,実績報告!$D$22=事業一覧!$A$11,実績報告!$D$22=事業一覧!$A$12,実績報告!$D$22=事業一覧!$A$13),SUMIFS(実績報告!$K$66:$K$115,実績報告!$B$66:$B$115,金額確認一覧!$A86,実績報告!$D$66:$D$115,金額確認一覧!$B86),0)","v":0}]
["資材費","看板表示板",{"$f":"IF(OR(事業認定申請書!$C$21=事業一覧!$A$8,事業認定申請書!$C$21=事業一覧!$A$9,事業認定申請書!$C$21=事業一覧!$A$10,事業認定申請書!$C$21=事業一覧!$A$11,事業認定申請書!$C$21=事業一覧!$A$12,事業認定申請書!$C$21=事業一覧!$A$13),SUMIFS(事業認定申請書!$K$57:$K$106,事業認定申請書!$C$57:$C$106,金額確認一覧!$A87,事業認定申請書!$F$57:$F$106,金額確認一覧!$B87),0)","v":0},{"$f":"IF(OR(事業変更申請書!$C$22=事業一覧!$A$8,事業変更申請書!$C$22=事業一覧!$A$9,事業変更申請書!$C$22=事業一覧!$A$10,事業変更申請書!$C$22=事業一覧!$A$11,事業変更申請書!$C$22=事業一覧!$A$12,事業変更申請書!$C$22=事業一覧!$A$13),SUMIFS(金額確認一覧計算用!$C$3:$C$52,金額確認一覧計算用!$A$3:$A$52,金額確認一覧!$A87,金額確認一覧計算用!$B$3:$B$52,金額確認一覧!$B87),0)","v":0},{"$f":"IF(OR(実績報告!$D$22=事業一覧!$A$8,実績報告!$D$22=事業一覧!$A$9,実績報告!$D$22=事業一覧!$A$10,実績報告!$D$22=事業一覧!$A$11,実績報告!$D$22=事業一覧!$A$12,実績報告!$D$22=事業一覧!$A$13),SUMIFS(実績報告!$K$66:$K$115,実績報告!$B$66:$B$115,金額確認一覧!$A87,実績報告!$D$66:$D$115,金額確認一覧!$B87),0)","v":0}]
["資材費","杭・支柱等",{"$f":"IF(OR(事業認定申請書!$C$21=事業一覧!$A$8,事業認定申請書!$C$21=事業一覧!$A$9,事業認定申請書!$C$21=事業一覧!$A$10,事業認定申請書!$C$21=事業一覧!$A$11,事業認定申請書!$C$21=事業一覧!$A$12,事業認定申請書!$C$21=事業一覧!$A$13),SUMIFS(事業認定申請書!$K$57:$K$106,事業認定申請書!$C$57:$C$106,金額確認一覧!$A88,事業認定申請書!$F$57:$F$106,金額確認一覧!$B88),0)","v":0},{"$f":"IF(OR(事業変更申請書!$C$22=事業一覧!$A$8,事業変更申請書!$C$22=事業一覧!$A$9,事業変更申請書!$C$22=事業一覧!$A$10,事業変更申請書!$C$22=事業一覧!$A$11,事業変更申請書!$C$22=事業一覧!$A$12,事業変更申請書!$C$22=事業一覧!$A$13),SUMIFS(金額確認一覧計算用!$C$3:$C$52,金額確認一覧計算用!$A$3:$A$52,金額確認一覧!$A88,金額確認一覧計算用!$B$3:$B$52,金額確認一覧!$B88),0)","v":0},{"$f":"IF(OR(実績報告!$D$22=事業一覧!$A$8,実績報告!$D$22=事業一覧!$A$9,実績報告!$D$22=事業一覧!$A$10,実績報告!$D$22=事業一覧!$A$11,実績報告!$D$22=事業一覧!$A$12,実績報告!$D$22=事業一覧!$A$13),SUMIFS(実績報告!$K$66:$K$115,実績報告!$B$66:$B$115,金額確認一覧!$A88,実績報告!$D$66:$D$115,金額確認一覧!$B88),0)","v":0}]
["資材費　計",null,{"$f":"SUM(C83:C88)","v":0},{"$f":"SUM(D83:D88)","v":0},{"$f":"SUM(E83:E88)","v":0}]
["資材運搬費","借上費",{"$f":"IF(OR(事業認定申請書!$C$21=事業一覧!$A$8,事業認定申請書!$C$21=事業一覧!$A$9,事業認定申請書!$C$21=事業一覧!$A$10,事業認定申請書!$C$21=事業一覧!$A$11,事業認定申請書!$C$21=事業一覧!$A$12,事業認定申請書!$C$21=事業一覧!$A$13),SUMIFS(事業認定申請書!$K$57:$K$106,事業認定申請書!$C$57:$C$106,金額確認一覧!$A90,事業認定申請書!$F$57:$F$106,金額確認一覧!$B90),0)","v":0},{"$f":"IF(OR(事業変更申請書!$C$22=事業一覧!$A$8,事業変更申請書!$C$22=事業一覧!$A$9,事業変更申請書!$C$22=事業一覧!$A$10,事業変更申請書!$C$22=事業一覧!$A$11,事業変更申請書!$C$22=事業一覧!$A$12,事業変更申請書!$C$22=事業一覧!$A$13),SUMIFS(金額確認一覧計算用!$C$3:$C$52,金額確認一覧計算用!$A$3:$A$52,金額確認一覧!$A90,金額確認一覧計算用!$B$3:$B$52,金額確認一覧!$B90),0)","v":0},{"$f":"IF(OR(実績報告!$D$22=事業一覧!$A$8,実績報告!$D$22=事業一覧!$A$9,実績報告!$D$22=事業一覧!$A$10,実績報告!$D$22=事業一覧!$A$11,実績報告!$D$22=事業一覧!$A$12,実績報告!$D$22=事業一覧!$A$13),SUMIFS(実績報告!$K$66:$K$115,実績報告!$B$66:$B$115,金額確認一覧!$A90,実績報告!$D$66:$D$115,金額確認一覧!$B90),0)","v":0}]
["資材運搬費　計",null,{"$f":"SUM(C90)","v":0},{"$f":"SUM(D90)","v":0},{"$f":"SUM(E90)","v":0}]
["指導者経費","謝金等",{"$f":"IF(OR(事業認定申請書!$C$21=事業一覧!$A$8,事業認定申請書!$C$21=事業一覧!$A$9,事業認定申請書!$C$21=事業一覧!$A$10,事業認定申請書!$C$21=事業一覧!$A$11,事業認定申請書!$C$21=事業一覧!$A$12,事業認定申請書!$C$21=事業一覧!$A$13),SUMIFS(事業認定申請書!$K$57:$K$106,事業認定申請書!$C$57:$C$106,金額確認一覧!$A92,事業認定申請書!$F$57:$F$106,金額確認一覧!$B92),0)","v":0},{"$f":"IF(OR(事業変更申請書!$C$22=事業一覧!$A$8,事業変更申請書!$C$22=事業一覧!$A$9,事業変更申請書!$C$22=事業一覧!$A$10,事業変更申請書!$C$22=事業一覧!$A$11,事業変更申請書!$C$22=事業一覧!$A$12,事業変更申請書!$C$22=事業一覧!$A$13),SUMIFS(金額確認一覧計算用!$C$3:$C$52,金額確認一覧計算用!$A$3:$A$52,金額確認一覧!$A92,金額確認一覧計算用!$B$3:$B$52,金額確認一覧!$B92),0)","v":0},{"$f":"IF(OR(実績報告!$D$22=事業一覧!$A$8,実績報告!$D$22=事業一覧!$A$9,実績報告!$D$22=事業一覧!$A$10,実績報告!$D$22=事業一覧!$A$11,実績報告!$D$22=事業一覧!$A$12,実績報告!$D$22=事業一覧!$A$13),SUMIFS(実績報告!$K$66:$K$115,実績報告!$B$66:$B$115,金額確認一覧!$A92,実績報告!$D$66:$D$115,金額確認一覧!$B92),0)","v":0}]
["指導者経費　計",null,{"$f":"SUM(C92)","v":0},{"$f":"SUM(D92)","v":0},{"$f":"SUM(E92)","v":0}]
["普及啓発費","啓発資材費",{"$f":"IF(OR(事業認定申請書!$C$21=事業一覧!$A$8,事業認定申請書!$C$21=事業一覧!$A$9,事業認定申請書!$C$21=事業一覧!$A$10,事業認定申請書!$C$21=事業一覧!$A$11,事業認定申請書!$C$21=事業一覧!$A$12,事業認定申請書!$C$21=事業一覧!$A$13),SUMIFS(事業認定申請書!$K$57:$K$106,事業認定申請書!$C$57:$C$106,金額確認一覧!$A94,事業認定申請書!$F$57:$F$106,金額確認一覧!$B94),0)","v":0},{"$f":"IF(OR(事業変更申請書!$C$22=事業一覧!$A$8,事業変更申請書!$C$22=事業一覧!$A$9,事業変更申請書!$C$22=事業一覧!$A$10,事業変更申請書!$C$22=事業一覧!$A$11,事業変更申請書!$C$22=事業一覧!$A$12,事業変更申請書!$C$22=事業一覧!$A$13),SUMIFS(金額確認一覧計算用!$C$3:$C$52,金額確認一覧計算用!$A$3:$A$52,金額確認一覧!$A94,金額確認一覧計算用!$B$3:$B$52,金額確認一覧!$B94),0)","v":0},{"$f":"IF(OR(実績報告!$D$22=事業一覧!$A$8,実績報告!$D$22=事業一覧!$A$9,実績報告!$D$22=事業一覧!$A$10,実績報告!$D$22=事業一覧!$A$11,実績報告!$D$22=事業一覧!$A$12,実績報告!$D$22=事業一覧!$A$13),SUMIFS(実績報告!$K$66:$K$115,実績報告!$B$66:$B$115,金額確認一覧!$A94,実績報告!$D$66:$D$115,金額確認一覧!$B94),0)","v":0}]
["普及啓発費　計",null,{"$f":"SUM(C94)","v":0},{"$f":"SUM(D94)","v":0},{"$f":"SUM(E94)","v":0}]
["委託費","労賃",{"$f":"IF(OR(事業認定申請書!$C$21=事業一覧!$A$8,事業認定申請書!$C$21=事業一覧!$A$9,事業認定申請書!$C$21=事業一覧!$A$10,事業認定申請書!$C$21=事業一覧!$A$11,事業認定申請書!$C$21=事業一覧!$A$12,事業認定申請書!$C$21=事業一覧!$A$13),SUMIFS(事業認定申請書!$K$57:$K$106,事業認定申請書!$C$57:$C$106,金額確認一覧!$A96,事業認定申請書!$F$57:$F$106,金額確認一覧!$B96),0)","v":0},{"$f":"IF(OR(事業変更申請書!$C$22=事業一覧!$A$8,事業変更申請書!$C$22=事業一覧!$A$9,事業変更申請書!$C$22=事業一覧!$A$10,事業変更申請書!$C$22=事業一覧!$A$11,事業変更申請書!$C$22=事業一覧!$A$12,事業変更申請書!$C$22=事業一覧!$A$13),SUMIFS(金額確認一覧計算用!$C$3:$C$52,金額確認一覧計算用!$A$3:$A$52,金額確認一覧!$A96,金額確認一覧計算用!$B$3:$B$52,金額確認一覧!$B96),0)","v":0},{"$f":"IF(OR(実績報告!$D$22=事業一覧!$A$8,実績報告!$D$22=事業一覧!$A$9,実績報告!$D$22=事業一覧!$A$10,実績報告!$D$22=事業一覧!$A$11,実績報告!$D$22=事業一覧!$A$12,実績報告!$D$22=事業一覧!$A$13),SUMIFS(実績報告!$K$66:$K$115,実績報告!$B$66:$B$115,金額確認一覧!$A96,実績報告!$D$66:$D$115,金額確認一覧!$B96),0)","v":0}]
["委託費　計",null,{"$f":"SUM(C96)","v":0},{"$f":"SUM(D96)","v":0},{"$f":"SUM(E96)","v":0}]
["事務費","事務費全体",{"$f":"IF(OR(事業認定申請書!$C$21=事業一覧!$A$8,事業認定申請書!$C$21=事業一覧!$A$9,事業認定申請書!$C$21=事業一覧!$A$10,事業認定申請書!$C$21=事業一覧!$A$11,事業認定申請書!$C$21=事業一覧!$A$12,事業認定申請書!$C$21=事業一覧!$A$13),SUMIFS(事業認定申請書!$K$57:$K$106,事業認定申請書!$C$57:$C$106,金額確認一覧!$A98,事業認定申請書!$F$57:$F$106,金額確認一覧!$B98),0)","v":0},{"$f":"IF(OR(事業変更申請書!$C$22=事業一覧!$A$8,事業変更申請書!$C$22=事業一覧!$A$9,事業変更申請書!$C$22=事業一覧!$A$10,事業変更申請書!$C$22=事業一覧!$A$11,事業変更申請書!$C$22=事業一覧!$A$12,事業変更申請書!$C$22=事業一覧!$A$13),SUMIFS(金額確認一覧計算用!$C$3:$C$52,金額確認一覧計算用!$A$3:$A$52,金額確認一覧!$A98,金額確認一覧計算用!$B$3:$B$52,金額確認一覧!$B98),0)","v":0},{"$f":"IF(OR(実績報告!$D$22=事業一覧!$A$8,実績報告!$D$22=事業一覧!$A$9,実績報告!$D$22=事業一覧!$A$10,実績報告!$D$22=事業一覧!$A$11,実績報告!$D$22=事業一覧!$A$12,実績報告!$D$22=事業一覧!$A$13),SUMIFS(実績報告!$K$66:$K$115,実績報告!$B$66:$B$115,金額確認一覧!$A98,実績報告!$D$66:$D$115,金額確認一覧!$B98),0)","v":0}]
["事務費","消耗品",{"$f":"IF(OR(事業認定申請書!$C$21=事業一覧!$A$8,事業認定申請書!$C$21=事業一覧!$A$9,事業認定申請書!$C$21=事業一覧!$A$10,事業認定申請書!$C$21=事業一覧!$A$11,事業認定申請書!$C$21=事業一覧!$A$12,事業認定申請書!$C$21=事業一覧!$A$13),SUMIFS(事業認定申請書!$K$57:$K$106,事業認定申請書!$C$57:$C$106,金額確認一覧!$A99,事業認定申請書!$F$57:$F$106,金額確認一覧!$B99),0)","v":0},{"$f":"IF(OR(事業変更申請書!$C$22=事業一覧!$A$8,事業変更申請書!$C$22=事業一覧!$A$9,事業変更申請書!$C$22=事業一覧!$A$10,事業変更申請書!$C$22=事業一覧!$A$11,事業変更申請書!$C$22=事業一覧!$A$12,事業変更申請書!$C$22=事業一覧!$A$13),SUMIFS(金額確認一覧計算用!$C$3:$C$52,金額確認一覧計算用!$A$3:$A$52,金額確認一覧!$A99,金額確認一覧計算用!$B$3:$B$52,金額確認一覧!$B99),0)","v":0},{"$f":"IF(OR(実績報告!$D$22=事業一覧!$A$8,実績報告!$D$22=事業一覧!$A$9,実績報告!$D$22=事業一覧!$A$10,実績報告!$D$22=事業一覧!$A$11,実績報告!$D$22=事業一覧!$A$12,実績報告!$D$22=事業一覧!$A$13),SUMIFS(実績報告!$K$66:$K$115,実績報告!$B$66:$B$115,金額確認一覧!$A99,実績報告!$D$66:$D$115,金額確認一覧!$B99),0)","v":0}]
["事務費","印刷費",{"$f":"IF(OR(事業認定申請書!$C$21=事業一覧!$A$8,事業認定申請書!$C$21=事業一覧!$A$9,事業認定申請書!$C$21=事業一覧!$A$10,事業認定申請書!$C$21=事業一覧!$A$11,事業認定申請書!$C$21=事業一覧!$A$12,事業認定申請書!$C$21=事業一覧!$A$13),SUMIFS(事業認定申請書!$K$57:$K$106,事業認定申請書!$C$57:$C$106,金額確認一覧!$A100,事業認定申請書!$F$57:$F$106,金額確認一覧!$B100),0)","v":0},{"$f":"IF(OR(事業変更申請書!$C$22=事業一覧!$A$8,事業変更申請書!$C$22=事業一覧!$A$9,事業変更申請書!$C$22=事業一覧!$A$10,事業変更申請書!$C$22=事業一覧!$A$11,事業変更申請書!$C$22=事業一覧!$A$12,事業変更申請書!$C$22=事業一覧!$A$13),SUMIFS(金額確認一覧計算用!$C$3:$C$52,金額確認一覧計算用!$A$3:$A$52,金額確認一覧!$A100,金額確認一覧計算用!$B$3:$B$52,金額確認一覧!$B100),0)","v":0},{"$f":"IF(OR(実績報告!$D$22=事業一覧!$A$8,実績報告!$D$22=事業一覧!$A$9,実績報告!$D$22=事業一覧!$A$10,実績報告!$D$22=事業一覧!$A$11,実績報告!$D$22=事業一覧!$A$12,実績報告!$D$22=事業一覧!$A$13),SUMIFS(実績報告!$K$66:$K$115,実績報告!$B$66:$B$115,金額確認一覧!$A100,実績報告!$D$66:$D$115,金額確認一覧!$B100),0)","v":0}]
["事務費","通信費",{"$f":"IF(OR(事業認定申請書!$C$21=事業一覧!$A$8,事業認定申請書!$C$21=事業一覧!$A$9,事業認定申請書!$C$21=事業一覧!$A$10,事業認定申請書!$C$21=事業一覧!$A$11,事業認定申請書!$C$21=事業一覧!$A$12,事業認定申請書!$C$21=事業一覧!$A$13),SUMIFS(事業認定申請書!$K$57:$K$106,事業認定申請書!$C$57:$C$106,金額確認一覧!$A101,事業認定申請書!$F$57:$F$106,金額確認一覧!$B101),0)","v":0},{"$f":"IF(OR(事業変更申請書!$C$22=事業一覧!$A$8,事業変更申請書!$C$22=事業一覧!$A$9,事業変更申請書!$C$22=事業一覧!$A$10,事業変更申請書!$C$22=事業一覧!$A$11,事業変更申請書!$C$22=事業一覧!$A$12,事業変更申請書!$C$22=事業一覧!$A$13),SUMIFS(金額確認一覧計算用!$C$3:$C$52,金額確認一覧計算用!$A$3:$A$52,金額確認一覧!$A101,金額確認一覧計算用!$B$3:$B$52,金額確認一覧!$B101),0)","v":0},{"$f":"IF(OR(実績報告!$D$22=事業一覧!$A$8,実績報告!$D$22=事業一覧!$A$9,実績報告!$D$22=事業一覧!$A$10,実績報告!$D$22=事業一覧!$A$11,実績報告!$D$22=事業一覧!$A$12,実績報告!$D$22=事業一覧!$A$13),SUMIFS(実績報告!$K$66:$K$115,実績報告!$B$66:$B$115,金額確認一覧!$A101,実績報告!$D$66:$D$115,金額確認一覧!$B101),0)","v":0}]
["事務費","その他",{"$f":"IF(OR(事業認定申請書!$C$21=事業一覧!$A$8,事業認定申請書!$C$21=事業一覧!$A$9,事業認定申請書!$C$21=事業一覧!$A$10,事業認定申請書!$C$21=事業一覧!$A$11,事業認定申請書!$C$21=事業一覧!$A$12,事業認定申請書!$C$21=事業一覧!$A$13),SUMIFS(事業認定申請書!$K$57:$K$106,事業認定申請書!$C$57:$C$106,金額確認一覧!$A102,事業認定申請書!$F$57:$F$106,金額確認一覧!$B102),0)","v":0},{"$f":"IF(OR(事業変更申請書!$C$22=事業一覧!$A$8,事業変更申請書!$C$22=事業一覧!$A$9,事業変更申請書!$C$22=事業一覧!$A$10,事業変更申請書!$C$22=事業一覧!$A$11,事業変更申請書!$C$22=事業一覧!$A$12,事業変更申請書!$C$22=事業一覧!$A$13),SUMIFS(金額確認一覧計算用!$C$3:$C$52,金額確認一覧計算用!$A$3:$A$52,金額確認一覧!$A102,金額確認一覧計算用!$B$3:$B$52,金額確認一覧!$B102),0)","v":0},{"$f":"IF(OR(実績報告!$D$22=事業一覧!$A$8,実績報告!$D$22=事業一覧!$A$9,実績報告!$D$22=事業一覧!$A$10,実績報告!$D$22=事業一覧!$A$11,実績報告!$D$22=事業一覧!$A$12,実績報告!$D$22=事業一覧!$A$13),SUMIFS(実績報告!$K$66:$K$115,実績報告!$B$66:$B$115,金額確認一覧!$A102,実績報告!$D$66:$D$115,金額確認一覧!$B102),0)","v":0}]
["事務費　計",null,{"$f":"SUM(C98:C102)","v":0},{"$f":"SUM(D98:D102)","v":0},{"$f":"SUM(E98:E102)","v":0}]
["計",null,{"$f":"SUM(C82,C89,C91,C93,C95,C97,C103)","v":0},{"$f":"SUM(D82,D89,D91,D93,D95,D97,D103)","v":0},{"$f":"SUM(E82,E89,E91,E93,E95,E97,E103)","v":0}]
[]
["（５）国際緑化"]
["　　　国際緑化協力事業、その他の国際緑化推進事業"]
["経費区分",null,"予算額計"]
["科目","区分","認定申請","変更申請","実績報告"]
["資材費","苗木等",{"$f":"IF(OR(事業認定申請書!$C$21=事業一覧!$A$14,事業認定申請書!$C$21=事業一覧!$A$15),SUMIFS(事業認定申請書!$K$57:$K$106,事業認定申請書!$C$57:$C$106,金額確認一覧!$A110,事業認定申請書!$F$57:$F$106,金額確認一覧!$B110),0)","v":0},{"$f":"IF(OR(事業変更申請書!$C$22=事業一覧!$A$14,事業変更申請書!$C$22=事業一覧!$A$15),SUMIFS(金額確認一覧計算用!$C$3:$C$52,金額確認一覧計算用!$A$3:$A$52,金額確認一覧!$A110,金額確認一覧計算用!$B$3:$B$52,金額確認一覧!$B110),0)","v":0},{"$f":"IF(OR(実績報告!$D$22=事業一覧!$A$14,実績報告!$D$22=事業一覧!$A$15),SUMIFS(実績報告!$K$66:$K$115,実績報告!$B$66:$B$115,金額確認一覧!$A110,実績報告!$D$66:$D$115,金額確認一覧!$B110),0)","v":0}]
["資材費","その他",{"$f":"IF(OR(事業認定申請書!$C$21=事業一覧!$A$14,事業認定申請書!$C$21=事業一覧!$A$15),SUMIFS(事業認定申請書!$K$57:$K$106,事業認定申請書!$C$57:$C$106,金額確認一覧!$A111,事業認定申請書!$F$57:$F$106,金額確認一覧!$B111),0)","v":0},{"$f":"IF(OR(事業変更申請書!$C$22=事業一覧!$A$14,事業変更申請書!$C$22=事業一覧!$A$15),SUMIFS(金額確認一覧計算用!$C$3:$C$52,金額確認一覧計算用!$A$3:$A$52,金額確認一覧!$A111,金額確認一覧計算用!$B$3:$B$52,金額確認一覧!$B111),0)","v":0},{"$f":"IF(OR(実績報告!$D$22=事業一覧!$A$14,実績報告!$D$22=事業一覧!$A$15),SUMIFS(実績報告!$K$66:$K$115,実績報告!$B$66:$B$115,金額確認一覧!$A111,実績報告!$D$66:$D$115,金額確認一覧!$B111),0)","v":0}]
["資材費　計",null,{"$f":"SUM(C110:C111)","v":0},{"$f":"SUM(D110:D111)","v":0},{"$f":"SUM(E110:E111)","v":0}]
["事務費","事務費",{"$f":"IF(OR(事業認定申請書!$C$21=事業一覧!$A$14,事業認定申請書!$C$21=事業一覧!$A$15),SUMIFS(事業認定申請書!$K$57:$K$106,事業認定申請書!$C$57:$C$106,金額確認一覧!$A113,事業認定申請書!$F$57:$F$106,金額確認一覧!$B113),0)","v":0},{"$f":"IF(OR(事業変更申請書!$C$22=事業一覧!$A$14,事業変更申請書!$C$22=事業一覧!$A$15),SUMIFS(金額確認一覧計算用!$C$3:$C$52,金額確認一覧計算用!$A$3:$A$52,金額確認一覧!$A113,金額確認一覧計算用!$B$3:$B$52,金額確認一覧!$B113),0)","v":0},{"$f":"IF(OR(実績報告!$D$22=事業一覧!$A$14,実績報告!$D$22=事業一覧!$A$15),SUMIFS(実績報告!$K$66:$K$115,実績報告!$B$66:$B$115,金額確認一覧!$A113,実績報告!$D$66:$D$115,金額確認一覧!$B113),0)","v":0}]
["事務費","その他",{"$f":"IF(OR(事業認定申請書!$C$21=事業一覧!$A$14,事業認定申請書!$C$21=事業一覧!$A$15),SUMIFS(事業認定申請書!$K$57:$K$106,事業認定申請書!$C$57:$C$106,金額確認一覧!$A114,事業認定申請書!$F$57:$F$106,金額確認一覧!$B114),0)","v":0},{"$f":"IF(OR(事業変更申請書!$C$22=事業一覧!$A$14,事業変更申請書!$C$22=事業一覧!$A$15),SUMIFS(金額確認一覧計算用!$C$3:$C$52,金額確認一覧計算用!$A$3:$A$52,金額確認一覧!$A114,金額確認一覧計算用!$B$3:$B$52,金額確認一覧!$B114),0)","v":0},{"$f":"IF(OR(実績報告!$D$22=事業一覧!$A$14,実績報告!$D$22=事業一覧!$A$15),SUMIFS(実績報告!$K$66:$K$115,実績報告!$B$66:$B$115,金額確認一覧!$A114,実績報告!$D$66:$D$115,金額確認一覧!$B114),0)","v":0}]
["事務費　計",null,{"$f":"SUM(C113:C114)","v":0},{"$f":"SUM(D113:D114)","v":0},{"$f":"SUM(E113:E114)","v":0}]
["計",null,{"$f":"SUM(C112,C115)","v":0},{"$f":"SUM(D112,D115)","v":0},{"$f":"SUM(E112,E115)","v":0}]

{"sheet":"バージョン","index":9,"n_rows":2,"n_cols":2,"rows_kept":2,"cut":false,"hidden":true,"merged":[]}
["最終更新日","2024-09-18"]
["バージョン",3]

{"sheet":"金額確認一覧計算用","index":10,"n_rows":52,"n_cols":3,"rows_kept":52,"cut":false,"hidden":true,"merged":[[0,0,0,1]]}
["経費区分"]
["科目","区分","予算額（円）"]
[{"$f":"IF(事業変更申請書!C46<>\"\",事業変更申請書!C46,\"\")","v":""},{"$f":"IF(事業変更申請書!F46<>\"\",事業変更申請書!F46,\"\")","v":""},{"$f":"IF(事業変更申請書!L47<>\"\",事業変更申請書!L47,\"\")","v":0}]
[{"$f":"IF(事業変更申請書!C48<>\"\",事業変更申請書!C48,\"\")","v":""},{"$f":"IF(事業変更申請書!F48<>\"\",事業変更申請書!F48,\"\")","v":""},{"$f":"IF(事業変更申請書!L49<>\"\",事業変更申請書!L49,\"\")","v":0}]
[{"$f":"IF(事業変更申請書!C50<>\"\",事業変更申請書!C50,\"\")","v":""},{"$f":"IF(事業変更申請書!F50<>\"\",事業変更申請書!F50,\"\")","v":""},{"$f":"IF(事業変更申請書!L51<>\"\",事業変更申請書!L51,\"\")","v":0}]
[{"$f":"IF(事業変更申請書!C52<>\"\",事業変更申請書!C52,\"\")","v":""},{"$f":"IF(事業変更申請書!F52<>\"\",事業変更申請書!F52,\"\")","v":""},{"$f":"IF(事業変更申請書!L53<>\"\",事業変更申請書!L53,\"\")","v":0}]
[{"$f":"IF(事業変更申請書!C54<>\"\",事業変更申請書!C54,\"\")","v":""},{"$f":"IF(事業変更申請書!F54<>\"\",事業変更申請書!F54,\"\")","v":""},{"$f":"IF(事業変更申請書!L55<>\"\",事業変更申請書!L55,\"\")","v":0}]
[{"$f":"IF(事業変更申請書!C56<>\"\",事業変更申請書!C56,\"\")","v":""},{"$f":"IF(事業変更申請書!F56<>\"\",事業変更申請書!F56,\"\")","v":""},{"$f":"IF(事業変更申請書!L57<>\"\",事業変更申請書!L57,\"\")","v":0}]
[{"$f":"IF(事業変更申請書!C58<>\"\",事業変更申請書!C58,\"\")","v":""},{"$f":"IF(事業変更申請書!F58<>\"\",事業変更申請書!F58,\"\")","v":""},{"$f":"IF(事業変更申請書!L59<>\"\",事業変更申請書!L59,\"\")","v":0}]
[{"$f":"IF(事業変更申請書!C60<>\"\",事業変更申請書!C60,\"\")","v":""},{"$f":"IF(事業変更申請書!F60<>\"\",事業変更申請書!F60,\"\")","v":""},{"$f":"IF(事業変更申請書!L61<>\"\",事業変更申請書!L61,\"\")","v":0}]
[{"$f":"IF(事業変更申請書!C62<>\"\",事業変更申請書!C62,\"\")","v":""},{"$f":"IF(事業変更申請書!F62<>\"\",事業変更申請書!F62,\"\")","v":""},{"$f":"IF(事業変更申請書!L63<>\"\",事業変更申請書!L63,\"\")","v":0}]
[{"$f":"IF(事業変更申請書!C64<>\"\",事業変更申請書!C64,\"\")","v":""},{"$f":"IF(事業変更申請書!F64<>\"\",事業変更申請書!F64,\"\")","v":""},{"$f":"IF(事業変更申請書!L65<>\"\",事業変更申請書!L65,\"\")","v":0}]
[{"$f":"IF(事業変更申請書!C66<>\"\",事業変更申請書!C66,\"\")","v":""},{"$f":"IF(事業変更申請書!F66<>\"\",事業変更申請書!F66,\"\")","v":""},{"$f":"IF(事業変更申請書!L67<>\"\",事業変更申請書!L67,\"\")","v":0}]
[{"$f":"IF(事業変更申請書!C68<>\"\",事業変更申請書!C68,\"\")","v":""},{"$f":"IF(事業変更申請書!F68<>\"\",事業変更申請書!F68,\"\")","v":""},{"$f":"IF(事業変更申請書!L69<>\"\",事業変更申請書!L69,\"\")","v":0}]
[{"$f":"IF(事業変更申請書!C70<>\"\",事業変更申請書!C70,\"\")","v":""},{"$f":"IF(事業変更申請書!F70<>\"\",事業変更申請書!F70,\"\")","v":""},{"$f":"IF(事業変更申請書!L71<>\"\",事業変更申請書!L71,\"\")","v":0}]
[{"$f":"IF(事業変更申請書!C72<>\"\",事業変更申請書!C72,\"\")","v":""},{"$f":"IF(事業変更申請書!F72<>\"\",事業変更申請書!F72,\"\")","v":""},{"$f":"IF(事業変更申請書!L73<>\"\",事業変更申請書!L73,\"\")","v":0}]
[{"$f":"IF(事業変更申請書!C74<>\"\",事業変更申請書!C74,\"\")","v":""},{"$f":"IF(事業変更申請書!F74<>\"\",事業変更申請書!F74,\"\")","v":""},{"$f":"IF(事業変更申請書!L75<>\"\",事業変更申請書!L75,\"\")","v":0}]
[{"$f":"IF(事業変更申請書!C76<>\"\",事業変更申請書!C76,\"\")","v":""},{"$f":"IF(事業変更申請書!F76<>\"\",事業変更申請書!F76,\"\")","v":""},{"$f":"IF(事業変更申請書!L77<>\"\",事業変更申請書!L77,\"\")","v":0}]
[{"$f":"IF(事業変更申請書!C78<>\"\",事業変更申請書!C78,\"\")","v":""},{"$f":"IF(事業変更申請書!F78<>\"\",事業変更申請書!F78,\"\")","v":""},{"$f":"IF(事業変更申請書!L79<>\"\",事業変更申請書!L79,\"\")","v":0}]
[{"$f":"IF(事業変更申請書!C80<>\"\",事業変更申請書!C80,\"\")","v":""},{"$f":"IF(事業変更申請書!F80<>\"\",事業変更申請書!F80,\"\")","v":""},{"$f":"IF(事業変更申請書!L81<>\"\",事業変更申請書!L81,\"\")","v":0}]
[{"$f":"IF(事業変更申請書!C82<>\"\",事業変更申請書!C82,\"\")","v":""},{"$f":"IF(事業変更申請書!F82<>\"\",事業変更申請書!F82,\"\")","v":""},{"$f":"IF(事業変更申請書!L83<>\"\",事業変更申請書!L83,\"\")","v":0}]
[{"$f":"IF(事業変更申請書!C84<>\"\",事業変更申請書!C84,\"\")","v":""},{"$f":"IF(事業変更申請書!F84<>\"\",事業変更申請書!F84,\"\")","v":""},{"$f":"IF(事業変更申請書!L85<>\"\",事業変更申請書!L85,\"\")","v":0}]
[{"$f":"IF(事業変更申請書!C86<>\"\",事業変更申請書!C86,\"\")","v":""},{"$f":"IF(事業変更申請書!F86<>\"\",事業変更申請書!F86,\"\")","v":""},{"$f":"IF(事業変更申請書!L87<>\"\",事業変更申請書!L87,\"\")","v":0}]
[{"$f":"IF(事業変更申請書!C88<>\"\",事業変更申請書!C88,\"\")","v":""},{"$f":"IF(事業変更申請書!F88<>\"\",事業変更申請書!F88,\"\")","v":""},{"$f":"IF(事業変更申請書!L89<>\"\",事業変更申請書!L89,\"\")","v":0}]
[{"$f":"IF(事業変更申請書!C90<>\"\",事業変更申請書!C90,\"\")","v":""},{"$f":"IF(事業変更申請書!F90<>\"\",事業変更申請書!F90,\"\")","v":""},{"$f":"IF(事業変更申請書!L91<>\"\",事業変更申請書!L91,\"\")","v":0}]
[{"$f":"IF(事業変更申請書!C92<>\"\",事業変更申請書!C92,\"\")","v":""},{"$f":"IF(事業変更申請書!F92<>\"\",事業変更申請書!F92,\"\")","v":""},{"$f":"IF(事業変更申請書!L93<>\"\",事業変更申請書!L93,\"\")","v":0}]
[{"$f":"IF(事業変更申請書!C94<>\"\",事業変更申請書!C94,\"\")","v":""},{"$f":"IF(事業変更申請書!F94<>\"\",事業変更申請書!F94,\"\")","v":""},{"$f":"IF(事業変更申請書!L95<>\"\",事業変更申請書!L95,\"\")","v":0}]
[{"$f":"IF(事業変更申請書!C96<>\"\",事業変更申請書!C96,\"\")","v":""},{"$f":"IF(事業変更申請書!F96<>\"\",事業変更申請書!F96,\"\")","v":""},{"$f":"IF(事業変更申請書!L97<>\"\",事業変更申請書!L97,\"\")","v":0}]
[{"$f":"IF(事業変更申請書!C98<>\"\",事業変更申請書!C98,\"\")","v":""},{"$f":"IF(事業変更申請書!F98<>\"\",事業変更申請書!F98,\"\")","v":""},{"$f":"IF(事業変更申請書!L99<>\"\",事業変更申請書!L99,\"\")","v":0}]
[{"$f":"IF(事業変更申請書!C100<>\"\",事業変更申請書!C100,\"\")","v":""},{"$f":"IF(事業変更申請書!F100<>\"\",事業変更申請書!F100,\"\")","v":""},{"$f":"IF(事業変更申請書!L101<>\"\",事業変更申請書!L101,\"\")","v":0}]
[{"$f":"IF(事業変更申請書!C102<>\"\",事業変更申請書!C102,\"\")","v":""},{"$f":"IF(事業変更申請書!F102<>\"\",事業変更申請書!F102,\"\")","v":""},{"$f":"IF(事業変更申請書!L103<>\"\",事業変更申請書!L103,\"\")","v":0}]
[{"$f":"IF(事業変更申請書!C104<>\"\",事業変更申請書!C104,\"\")","v":""},{"$f":"IF(事業変更申請書!F104<>\"\",事業変更申請書!F104,\"\")","v":""},{"$f":"IF(事業変更申請書!L105<>\"\",事業変更申請書!L105,\"\")","v":0}]
[{"$f":"IF(事業変更申請書!C106<>\"\",事業変更申請書!C106,\"\")","v":""},{"$f":"IF(事業変更申請書!F106<>\"\",事業変更申請書!F106,\"\")","v":""},{"$f":"IF(事業変更申請書!L107<>\"\",事業変更申請書!L107,\"\")","v":0}]
[{"$f":"IF(事業変更申請書!C108<>\"\",事業変更申請書!C108,\"\")","v":""},{"$f":"IF(事業変更申請書!F108<>\"\",事業変更申請書!F108,\"\")","v":""},{"$f":"IF(事業変更申請書!L109<>\"\",事業変更申請書!L109,\"\")","v":0}]
[{"$f":"IF(事業変更申請書!C110<>\"\",事業変更申請書!C110,\"\")","v":""},{"$f":"IF(事業変更申請書!F110<>\"\",事業変更申請書!F110,\"\")","v":""},{"$f":"IF(事業変更申請書!L111<>\"\",事業変更申請書!L111,\"\")","v":0}]
[{"$f":"IF(事業変更申請書!C112<>\"\",事業変更申請書!C112,\"\")","v":""},{"$f":"IF(事業変更申請書!F112<>\"\",事業変更申請書!F112,\"\")","v":""},{"$f":"IF(事業変更申請書!L113<>\"\",事業変更申請書!L113,\"\")","v":0}]
[{"$f":"IF(事業変更申請書!C114<>\"\",事業変更申請書!C114,\"\")","v":""},{"$f":"IF(事業変更申請書!F114<>\"\",事業変更申請書!F114,\"\")","v":""},{"$f":"IF(事業変更申請書!L115<>\"\",事業変更申請書!L115,\"\")","v":0}]
[{"$f":"IF(事業変更申請書!C116<>\"\",事業変更申請書!C116,\"\")","v":""},{"$f":"IF(事業変更申請書!F116<>\"\",事業変更申請書!F116,\"\")","v":""},{"$f":"IF(事業変更申請書!L117<>\"\",事業変更申請書!L117,\"\")","v":0}]
[{"$f":"IF(事業変更申請書!C118<>\"\",事業変更申請書!C118,\"\")","v":""},{"$f":"IF(事業変更申請書!F118<>\"\",事業変更申請書!F118,\"\")","v":""},{"$f":"IF(事業変更申請書!L119<>\"\",事業変更申請書!L119,\"\")","v":0}]
[{"$f":"IF(事業変更申請書!C120<>\"\",事業変更申請書!C120,\"\")","v":""},{"$f":"IF(事業変更申請書!F120<>\"\",事業変更申請書!F120,\"\")","v":""},{"$f":"IF(事業変更申請書!L121<>\"\",事業変更申請書!L121,\"\")","v":0}]
[{"$f":"IF(事業変更申請書!C122<>\"\",事業変更申請書!C122,\"\")","v":""},{"$f":"IF(事業変更申請書!F122<>\"\",事業変更申請書!F122,\"\")","v":""},{"$f":"IF(事業変更申請書!L123<>\"\",事業変更申請書!L123,\"\")","v":0}]
[{"$f":"IF(事業変更申請書!C124<>\"\",事業変更申請書!C124,\"\")","v":""},{"$f":"IF(事業変更申請書!F124<>\"\",事業変更申請書!F124,\"\")","v":""},{"$f":"IF(事業変更申請書!L125<>\"\",事業変更申請書!L125,\"\")","v":0}]
[{"$f":"IF(事業変更申請書!C126<>\"\",事業変更申請書!C126,\"\")","v":""},{"$f":"IF(事業変更申請書!F126<>\"\",事業変更申請書!F126,\"\")","v":""},{"$f":"IF(事業変更申請書!L127<>\"\",事業変更申請書!L127,\"\")","v":0}]
[{"$f":"IF(事業変更申請書!C128<>\"\",事業変更申請書!C128,\"\")","v":""},{"$f":"IF(事業変更申請書!F128<>\"\",事業変更申請書!F128,\"\")","v":""},{"$f":"IF(事業変更申請書!L129<>\"\",事業変更申請書!L129,\"\")","v":0}]
[{"$f":"IF(事業変更申請書!C130<>\"\",事業変更申請書!C130,\"\")","v":""},{"$f":"IF(事業変更申請書!F130<>\"\",事業変更申請書!F130,\"\")","v":""},{"$f":"IF(事業変更申請書!L131<>\"\",事業変更申請書!L131,\"\")","v":0}]
[{"$f":"IF(事業変更申請書!C132<>\"\",事業変更申請書!C132,\"\")","v":""},{"$f":"IF(事業変更申請書!F132<>\"\",事業変更申請書!F132,\"\")","v":""},{"$f":"IF(事業変更申請書!L133<>\"\",事業変更申請書!L133,\"\")","v":0}]
[{"$f":"IF(事業変更申請書!C134<>\"\",事業変更申請書!C134,\"\")","v":""},{"$f":"IF(事業変更申請書!F134<>\"\",事業変更申請書!F134,\"\")","v":""},{"$f":"IF(事業変更申請書!L135<>\"\",事業変更申請書!L135,\"\")","v":0}]
[{"$f":"IF(事業変更申請書!C136<>\"\",事業変更申請書!C136,\"\")","v":""},{"$f":"IF(事業変更申請書!F136<>\"\",事業変更申請書!F136,\"\")","v":""},{"$f":"IF(事業変更申請書!L137<>\"\",事業変更申請書!L137,\"\")","v":0}]
[{"$f":"IF(事業変更申請書!C138<>\"\",事業変更申請書!C138,\"\")","v":""},{"$f":"IF(事業変更申請書!F138<>\"\",事業変更申請書!F138,\"\")","v":""},{"$f":"IF(事業変更申請書!L139<>\"\",事業変更申請書!L139,\"\")","v":0}]
[{"$f":"IF(事業変更申請書!C140<>\"\",事業変更申請書!C140,\"\")","v":""},{"$f":"IF(事業変更申請書!F140<>\"\",事業変更申請書!F140,\"\")","v":""},{"$f":"IF(事業変更申請書!L141<>\"\",事業変更申請書!L141,\"\")","v":0}]
[{"$f":"IF(事業変更申請書!C142<>\"\",事業変更申請書!C142,\"\")","v":""},{"$f":"IF(事業変更申請書!F142<>\"\",事業変更申請書!F142,\"\")","v":""},{"$f":"IF(事業変更申請書!L143<>\"\",事業変更申請書!L143,\"\")","v":0}]
[{"$f":"IF(事業変更申請書!C144<>\"\",事業変更申請書!C144,\"\")","v":""},{"$f":"IF(事業変更申請書!F144<>\"\",事業変更申請書!F144,\"\")","v":""},{"$f":"IF(事業変更申請書!L145<>\"\",事業変更申請書!L145,\"\")","v":0}]

{"sheet":"事業一覧","index":11,"n_rows":15,"n_cols":3,"rows_kept":15,"cut":false,"hidden":true,"merged":[]}
["＜事業一覧＞"]
["事業名","科目区分","事業区分"]
["地区緑推森林整備事業",1,"森林の整備"]
["森林ボランティア団体活動支援事業",2,"森林の整備"]
["森づくり活動支援事業",1,"森林の整備"]
["学校林整備・保全推進事業",1,"森林の整備"]
["森林環境教育の森整備事業",3,"森林の整備"]
["地区緑推緑化推進事業",4,"緑化の推進"]
["緑の少年隊育成事業",4,"緑化の推進"]
["学校緑化の推進事業",4,"緑化の推進"]
["学校緑化の推進事業_記念樹",4,"緑化の推進"]
["地域緑化活動支援事業",4,"緑化の推進"]
["市町村緑化推進組織活動事業",1,"森林の整備等"]
["国際緑化協力事業",5,"国際緑化の推進"]
["その他の国際緑化推進事業",5,"国際緑化の推進"]

{"sheet":"科目一覧","index":12,"n_rows":10,"n_cols":14,"rows_kept":10,"cut":false,"hidden":true,"merged":[]}
["＜科目一覧＞"]
[null,"地区緑推森林整備事業","森林ボランティア団体活動支援事業","森づくり活動支援事業","学校林整備・保全推進事業","森林環境教育の森整備事業","地区緑推緑化推進事業","緑の少年隊育成事業","学校緑化の推進事業","学校緑化の推進事業_記念樹","地域緑化活動支援事業","市町村緑化推進組織活動事業","国際緑化協力事業","その他の国際緑化推進事業"]
[]
[null,"行動費","会議費","行動費","行動費","会議費","行動費","行動費","行動費","行動費","行動費","行動費","資材費","資材費"]
[null,"資材費","行動費","資材費","資材費","行動費","資材費","資材費","資材費","資材費","資材費","資材費","事務費","事務費"]
[null,"資材運搬費","謝金","資材運搬費","資材運搬費","環境整備費","資材運搬費","資材運搬費","資材運搬費","資材運搬費","資材運搬費","資材運搬費"]
[null,"指導者経費","事務費","指導者経費","指導者経費","事務費","指導者経費","指導者経費","指導者経費","指導者経費","指導者経費","指導者経費"]
[null,"普及啓発費","その他","普及啓発費","普及啓発費","賃借料等","普及啓発費","普及啓発費","普及啓発費","普及啓発費","普及啓発費","普及啓発費"]
[null,"事務費",null,"事務費","事務費","委託費","委託費","委託費","委託費","委託費","委託費","事務費"]
[null,"委託費",null,"委託費","委託費",null,"事務費","事務費","事務費","事務費","事務費","委託費"]

{"sheet":"区分一覧","index":13,"n_rows":10,"n_cols":27,"rows_kept":10,"cut":false,"hidden":true,"merged":[[1,0,1,6],[1,7,1,11],[1,12,1,17],[1,18,1,24],[1,25,1,26]]}
["区分一覧"]
["森林の整備①",null,null,null,null,null,null,"森林の整備②",null,null,null,null,"森林の整備③",null,null,null,null,null,"緑化の推進",null,null,null,null,null,null,"国際緑化"]
["行動費1","資材費1","資材運搬費1","指導者経費1","普及啓発費1","事務費1","委託費1","会議費2","行動費2","謝金2","事務費2","その他2","会議費3","行動費3","環境整備費3","事務費3","賃借料等3","委託費3","行動費4","資材費4","資材運搬費4","指導者経費4","普及啓発費4","委託費4","事務費4","資材費5","事務費5"]
[]
["交通費","苗木","借上費","謝金等","啓発資材費","事務費全体","労賃","借上料","旅費","講師謝金","消耗品","その他","借上料","調査費","施設整備費","消耗品","賃借料・使用料","労賃","交通費","苗木","借上費","謝金等","啓発資材費","労賃","事務費全体","苗木等","事務費"]
["保険料","肥料",null,null,null,"消耗品",null,null,null,null,"印刷費",null,null,null,null,"印刷費",null,null,"保険料","肥料",null,null,null,null,"消耗品","その他","その他"]
["調査費","機械・器具等購入費",null,null,null,"印刷費",null,null,null,null,"通信費",null,null,null,null,"通信費",null,null,"調査費","機械・器具等購入費",null,null,null,null,"印刷費"]
["雑費","機械・器具等借上費",null,null,null,"通信費",null,null,null,null,null,null,null,null,null,"その他",null,null,"雑費","機械・器具等借上費",null,null,null,null,"通信費"]
[null,"看板・表示板",null,null,null,"その他",null,null,null,null,null,null,null,null,null,null,null,null,null,"看板表示板",null,null,null,null,"その他"]
[null,"杭・支柱等",null,null,null,null,null,null,null,null,null,null,null,null,null,null,null,null,null,"杭・支柱等"]

{"sheet":"郵便番号一覧","index":14,"n_rows":951,"n_cols":2,"rows_kept":951,"cut":false,"hidden":true,"merged":[]}
["郵便番号","住所"]
["4000000","山梨県甲府市"]
["4000858","山梨県甲府市相生"]
["4000867","山梨県甲府市青沼"]
["4000828","山梨県甲府市青葉町"]
["4000862","山梨県甲府市朝気"]
["4000025","山梨県甲府市朝日"]
["4000023","山梨県甲府市愛宕町"]
["4000061","山梨県甲府市荒川"]
["4000035","山梨県甲府市飯田"]
["4001217","山梨県甲府市猪狩町"]
["4000062","山梨県甲府市池田"]
["4000856","山梨県甲府市伊勢"]
["4000013","山梨県甲府市岩窪町"]
["4000045","山梨県甲府市後屋町"]
["4001504","山梨県甲府市右左口町"]
["4000053","山梨県甲府市大里町"]
["4000865","山梨県甲府市太田町"]
["4000055","山梨県甲府市大津町"]
["4000015","山梨県甲府市大手"]
["4000834","山梨県甲府市落合町"]
["4000028","山梨県甲府市音羽町"]
["4000841","山梨県甲府市小曲町"]
["4093711","山梨県甲府市梯町"]
["4000063","山梨県甲府市金竹町"]
["4000814","山梨県甲府市上阿原町"]
["4000041","山梨県甲府市上石田"]
["4000845","山梨県甲府市上今井町"]
["4000081","山梨県甲府市上帯那町"]
["4000044","山梨県甲府市上小河原町"]
["4000052","山梨県甲府市上条新居町"]
["4000011","山梨県甲府市上積翠寺町"]
["4001501","山梨県甲府市上曽根町"]
["4000831","山梨県甲府市上町"]
["4001506","山梨県甲府市上向山町"]
["4001213","山梨県甲府市川窪町"]
["4000811","山梨県甲府市川田町"]
["4000024","山梨県甲府市北口"]
["4000005","山梨県甲府市北新"]
["4000065","山梨県甲府市貢川"]
["4000048","山梨県甲府市貢川本町"]
["4000815","山梨県甲府市国玉町"]
["4001211","山梨県甲府市黒平町"]
["4000043","山梨県甲府市国母"]
["4000836","山梨県甲府市小瀬町"]
["4000033","山梨県甲府市寿町"]
["4000014","山梨県甲府市古府中町"]
["4000002","山梨県甲府市小松町"]
["4000857","山梨県甲府市幸町"]
["4000805","山梨県甲府市酒折"]
["4000804","山梨県甲府市酒折町"]
["4000803","山梨県甲府市桜井町"]
["4000822","山梨県甲府市里吉"]
["4000823","山梨県甲府市里吉町"]
["4000026","山梨県甲府市塩部"]
["4000064","山梨県甲府市下飯田"]
["4000046","山梨県甲府市下石田"]
["4000842","山梨県甲府市下今井町"]
["4000082","山梨県甲府市下帯那町"]
["4000835","山梨県甲府市下鍛冶屋町"]
["4000068","山梨県甲府市下河原町"]
["4000853","山梨県甲府市下小河原町"]
["4000012","山梨県甲府市下積翠寺町"]
["4001508","山梨県甲府市下曽根町"]
["4001507","山梨県甲府市下向山町"]
["4000861","山梨県甲府市城東"]
["4001502","山梨県甲府市白井町"]
["4001503","山梨県甲府市心経寺町"]
["4000066","山梨県甲府市新田町"]
["4000821","山梨県甲府市砂田町"]
["4000851","山梨県甲府市住吉"]
["4000852","山梨県甲府市住吉本町"]
["4000806","山梨県甲府市善光寺"]
["4000801","山梨県甲府市善光寺町"]
["4001219","山梨県甲府市草鹿沢町"]
["4000072","山梨県甲府市大和町"]
["4001214","山梨県甲府市高成町"]
["4000042","山梨県甲府市高畑"]
["4001212","山梨県甲府市高町"]
["4000057","山梨県甲府市高室町"]
["4000034","山梨県甲府市宝"]
["4000016","山梨県甲府市武田"]
["4001215","山梨県甲府市竹日向町"]
["4000074","山梨県甲府市千塚"]
["4000032","山梨県甲府市中央"]
["4000067","山梨県甲府市長松寺町"]
["4000003","山梨県甲府市塚原町"]
["4000006","山梨県甲府市天神町"]
["4001216","山梨県甲府市塔岩町"]
["4000807","山梨県甲府市東光寺"]
["4000808","山梨県甲府市東光寺町"]
["4000047","山梨県甲府市徳行"]
["4000049","山梨県甲府市富竹"]
["4000855","山梨県甲府市中小河原"]
["4000854","山梨県甲府市中小河原町"]
["4000844","山梨県甲府市中町"]
["4001505","山梨県甲府市中畑町"]
["4000069","山梨県甲府市中村町"]
["4000825","山梨県甲府市七沢町"]
["4000833","山梨県甲府市西油川町"]
["4000054","山梨県甲府市西下条町"]
["4000826","山梨県甲府市西高橋町"]
["4000004","山梨県甲府市西田町"]
["4000071","山梨県甲府市羽黒町"]
["4000843","山梨県甲府市東下条町"]
["4000083","山梨県甲府市平瀬町"]
["4000027","山梨県甲府市富士見"]
["4000051","山梨県甲府市古上条町"]
["4093712","山梨県甲府市古関町"]
["4000056","山梨県甲府市堀之内町"]
["4000832","山梨県甲府市増坪町"]
["4000031","山梨県甲府市丸の内"]
["4000007","山梨県甲府市美咲"]
["4001218","山梨県甲府市御岳町"]
["4000008","山梨県甲府市緑が丘"]
["4000863","山梨県甲府市南口町"]
["4000058","山梨県甲府市宮原町"]
["4000021","山梨県甲府市宮前町"]
["4000813","山梨県甲府市向町"]
["4000022","山梨県甲府市元紺屋町"]
["4000017","山梨県甲府市屋形"]
["4000075","山梨県甲府市山宮町"]
["4000864","山梨県甲府市湯田"]
["4000073","山梨県甲府市湯村"]
["4000802","山梨県甲府市横根町"]
["4000827","山梨県甲府市蓬沢"]
["4000824","山梨県甲府市蓬沢町"]
["4000866","山梨県甲府市若松町"]
["4000001","山梨県甲府市和田町"]
["4000812","山梨県甲府市和戸町"]
["4030000","山梨県富士吉田市"]
["4030012","山梨県富士吉田市旭"]
["4030031","山梨県富士吉田市浅間"]
["4030011","山梨県富士吉田市新倉"]
["4030006","山梨県富士吉田市新屋"]
["4030003","山梨県富士吉田市大明見"]
["4030001","山梨県富士吉田市上暮地"]
["4030005","山梨県富士吉田市上吉田"]
["4030032","山梨県富士吉田市上吉田東"]
["4030002","山梨県富士吉田市小明見"]
["4030004","山梨県富士吉田市下吉田"]
["4030008","山梨県富士吉田市下吉田東"]
["4030017","山梨県富士吉田市新西原"]
["4030019","山梨県富士吉田市新町"]
["4030014","山梨県富士吉田市竜ケ丘"]
["4030015","山梨県富士吉田市ときわ台"]
["4030007","山梨県富士吉田市中曽根"]
["4030009","山梨県富士吉田市富士見"]
["4030016","山梨県富士吉田市松山"]
["4030013","山梨県富士吉田市緑ケ丘"]
["4030018","山梨県富士吉田市向原"]
["4020000","山梨県都留市"]
["4020015","山梨県都留市朝日曽雌"]
["4020014","山梨県都留市朝日馬場"]
["4020042","山梨県都留市厚原"]
["4020011","山梨県都留市井倉"]
["4020023","山梨県都留市大野"]
["4020045","山梨県都留市大幡"]
["4020002","山梨県都留市大原"]
["4020006","山梨県都留市小形山"]
["4020024","山梨県都留市小野"]
["4020034","山梨県都留市桂町"]
["4020041","山梨県都留市金井"]
["4020044","山梨県都留市加畑"]
["4020053","山梨県都留市上谷"]
["4020055","山梨県都留市川棚"]
["4020003","山梨県都留市川茂"]
["4020033","山梨県都留市境"]
["4020032","山梨県都留市鹿留"]
["4020051","山梨県都留市下谷"]
["4020001","山梨県都留市田野倉"]
["4020054","山梨県都留市田原"]
["4020021","山梨県都留市玉川"]
["4020052","山梨県都留市中央"]
["4020056","山梨県都留市つる"]
["4020031","山梨県都留市十日市場"]
["4020022","山梨県都留市戸沢"]
["4020046","山梨県都留市中津森"]
["4020035","山梨県都留市夏狩"]
["4020043","山梨県都留市平栗"]
["4020004","山梨県都留市古川渡"]
["4020025","山梨県都留市法能"]
["4020013","山梨県都留市盛里"]
["4020005","山梨県都留市四日市場"]
["4020012","山梨県都留市与縄"]
["4050000","山梨県山梨市"]
["4050044","山梨県山梨市市川"]
["4050025","山梨県山梨市一町田中"]
["4050024","山梨県山梨市歌田"]
["4050043","山梨県山梨市江曽原"]
["4050016","山梨県山梨市大野"]
["4050033","山梨県山梨市落合"]
["4050014","山梨県山梨市上石森"]
["4050034","山梨県山梨市上岩下"]
["4050018","山梨県山梨市上神内川"]
["4050022","山梨県山梨市上栗原"]
["4050004","山梨県山梨市上之割"]
["4050013","山梨県山梨市鴨居寺"]
["4050041","山梨県山梨市北"]
["4050048","山梨県山梨市切差"]
["4050005","山梨県山梨市小原東"]
["4050006","山梨県山梨市小原西"]
["4050011","山梨県山梨市三ケ所"]
["4050015","山梨県山梨市下石森"]
["4050003","山梨県山梨市下井尻"]
["4050017","山梨県山梨市下神内川"]
["4050023","山梨県山梨市下栗原"]
["4050032","山梨県山梨市正徳寺"]
["4050045","山梨県山梨市大工"]
["4050021","山梨県山梨市中村"]
["4050007","山梨県山梨市七日市場"]
["4050001","山梨県山梨市西"]
["4050002","山梨県山梨市東"]
["4050012","山梨県山梨市東後屋敷"]
["4050046","山梨県山梨市堀内"]
["4040007","山梨県山梨市牧丘町北原"]
["4040013","山梨県山梨市牧丘町窪平"]
["4040003","山梨県山梨市牧丘町倉科"]
["4040015","山梨県山梨市牧丘町城古寺"]
["4040002","山梨県山梨市牧丘町杣口"]
["4040016","山梨県山梨市牧丘町千野々宮"]
["4040011","山梨県山梨市牧丘町成沢"]
["4040004","山梨県山梨市牧丘町西保下"]
["4040005","山梨県山梨市牧丘町西保中"]
["4040014","山梨県山梨市牧丘町隼"]
["4040006","山梨県山梨市牧丘町牧平"]
["4040012","山梨県山梨市牧丘町室伏"]
["4040001","山梨県山梨市牧丘町柳平"]
["4050031","山梨県山梨市万力"]
["4050047","山梨県山梨市水口"]
["4040206","山梨県山梨市三富上釜口"]
["4040202","山梨県山梨市三富上柚木"]
["4040201","山梨県山梨市三富川浦"]
["4040203","山梨県山梨市三富下荻原"]
["4040204","山梨県山梨市三富下釜口"]
["4040205","山梨県山梨市三富徳和"]
["4050042","山梨県山梨市南"]
["4050036","山梨県山梨市矢坪"]
["4050035","山梨県山梨市山根"]
["4010000","山梨県大月市"]
["4010013","山梨県大月市大月（１～３丁目）"]
["4010014","山梨県大月市大月町大月"]
["4010015","山梨県大月市大月町花咲"]
["4010016","山梨県大月市大月町真木"]
["4010011","山梨県大月市駒橋"]
["4010025","山梨県大月市笹子町黒野田"]
["4010023","山梨県大月市笹子町白野"]
["4010024","山梨県大月市笹子町吉久保"]
["4090615","山梨県大月市猿橋町朝日小沢"]
["4090613","山梨県大月市猿橋町伊良原"]
["4090616","山梨県大月市猿橋町小沢"]
["4090611","山梨県大月市猿橋町小篠"]
["4090618","山梨県大月市猿橋町桂台"]
["4090614","山梨県大月市猿橋町猿橋"]
["4090617","山梨県大月市猿橋町殿上"]
["4090612","山梨県大月市猿橋町藤崎"]
["4090502","山梨県大月市富浜町鳥沢"]
["4090501","山梨県大月市富浜町宮谷"]
["4090621","山梨県大月市七保町浅川"]
["4090623","山梨県大月市七保町葛野"]
["4090627","山梨県大月市七保町駒宮"]
["4090622","山梨県大月市七保町下和田"]
["4090626","山梨県大月市七保町瀬戸"]
["4090625","山梨県大月市七保町奈良子"]
["4090624","山梨県大月市七保町林"]
["4010005","山梨県大月市賑岡町浅利"]
["4010002","山梨県大月市賑岡町岩殿"]
["4010006","山梨県大月市賑岡町奥山"]
["4010004","山梨県大月市賑岡町強瀬"]
["4010001","山梨県大月市賑岡町畑倉"]
["4010003","山梨県大月市賑岡町ゆりケ丘"]
["4010021","山梨県大月市初狩町下初狩"]
["4010022","山梨県大月市初狩町中初狩"]
["4010012","山梨県大月市御太刀"]
["4090504","山梨県大月市梁川町新倉"]
["4090505","山梨県大月市梁川町塩瀬"]
["4090506","山梨県大月市梁川町立野"]
["4090503","山梨県大月市梁川町綱の上"]
["4070000","山梨県韮崎市"]
["4070045","山梨県韮崎市旭町上條中割"]
["4070046","山梨県韮崎市旭町上條南割"]
["4070044","山梨県韮崎市旭町上條北割"]
["4070263","山梨県韮崎市穴山町"]
["4070012","山梨県韮崎市岩下"]
["4070011","山梨県韮崎市上ノ山"]
["4070036","山梨県韮崎市大草町上條東割"]
["4070035","山梨県韮崎市大草町下條西割"]
["4070034","山梨県韮崎市大草町下條中割"]
["4070037","山梨県韮崎市大草町若尾"]
["4070007","山梨県韮崎市上祖母石"]
["4070042","山梨県韮崎市神山町北宮地"]
["4070041","山梨県韮崎市神山町武田"]
["4070043","山梨県韮崎市神山町鍋山"]
["4070025","山梨県韮崎市栄"]
["4070006","山梨県韮崎市下祖母石"]
["4070022","山梨県韮崎市水神"]
["4070055","山梨県韮崎市清哲町青木"]
["4070054","山梨県韮崎市清哲町折居"]
["4070057","山梨県韮崎市清哲町樋口"]
["4070058","山梨県韮崎市清哲町水上"]
["4070032","山梨県韮崎市龍岡町下條東割"]
["4070033","山梨県韮崎市龍岡町下條南割"]
["4070031","山梨県韮崎市龍岡町若尾新田"]
["4070023","山梨県韮崎市中央町"]
["4070013","山梨県韮崎市中島"]
["4070261","山梨県韮崎市中田町小田川"]
["4070262","山梨県韮崎市中田町中條"]
["4070005","山梨県韮崎市一ツ谷"]
["4070001","山梨県韮崎市藤井町駒井"]
["4070002","山梨県韮崎市藤井町坂井"]
["4070004","山梨県韮崎市藤井町南下條"]
["4070003","山梨県韮崎市藤井町北下條"]
["4070014","山梨県韮崎市富士見"]
["4070021","山梨県韮崎市富士見ケ丘"]
["4070172","山梨県韮崎市穂坂町上今井"]
["4070176","山梨県韮崎市穂坂町三之蔵"]
["4070173","山梨県韮崎市穂坂町長久保"]
["4070174","山梨県韮崎市穂坂町三ツ沢"]
["4070175","山梨県韮崎市穂坂町宮久保"]
["4070171","山梨県韮崎市穂坂町柳平"]
["4070024","山梨県韮崎市本町"]
["4070051","山梨県韮崎市円野町上円井"]
["4070052","山梨県韮崎市円野町下円井"]
["4070053","山梨県韮崎市円野町入戸野"]
["4070015","山梨県韮崎市若宮"]
["4000400","山梨県南アルプス市"]
["4000424","山梨県南アルプス市秋山"]
["4000333","山梨県南アルプス市浅原"]
["4000241","山梨県南アルプス市芦安芦倉"]
["4000242","山梨県南アルプス市芦安安通"]
["4000319","山梨県南アルプス市あやめが丘"]
["4000403","山梨県南アルプス市鮎沢"]
["4000226","山梨県南アルプス市有野"]
["4000222","山梨県南アルプス市飯野"]
["4000224","山梨県南アルプス市飯野新田"]
["4000413","山梨県南アルプス市和泉"]
["4000315","山梨県南アルプス市上野"]
["4000215","山梨県南アルプス市上八田"]
["4000204","山梨県南アルプス市榎原"]
["4000401","山梨県南アルプス市江原"]
["4000234","山梨県南アルプス市大嵐"]
["4000306","山梨県南アルプス市小笠原"]
["4000423","山梨県南アルプス市落合"]
["4000335","山梨県南アルプス市加賀美"]
["4000332","山梨県南アルプス市鏡中條"]
["4000317","山梨県南アルプス市上市之瀬"]
["4000303","山梨県南アルプス市上今井"]
["4000211","山梨県南アルプス市上今諏訪"]
["4000201","山梨県南アルプス市上高砂"]
["4000312","山梨県南アルプス市上宮地"]
["4000421","山梨県南アルプス市川上"]
["4000311","山梨県南アルプス市曲輪田"]
["4000223","山梨県南アルプス市曲輪田新田"]
["4000232","山梨県南アルプス市駒場"]
["4000221","山梨県南アルプス市在家塚"]
["4000302","山梨県南アルプス市沢登"]
["4000231","山梨県南アルプス市塩前"]
["4000417","山梨県南アルプス市清水"]
["4000314","山梨県南アルプス市下市之瀬"]
["4000331","山梨県南アルプス市下今井"]
["4000212","山梨県南アルプス市下今諏訪"]
["4000202","山梨県南アルプス市下高砂"]
["4000405","山梨県南アルプス市下宮地"]
["4000305","山梨県南アルプス市十五所"]
["4000233","山梨県南アルプス市須沢"]
["4000416","山梨県南アルプス市大師"]
["4000318","山梨県南アルプス市高尾"]
["4000402","山梨県南アルプス市田島"]
["4000426","山梨県南アルプス市塚原"]
["4000225","山梨県南アルプス市築山"]
["4000337","山梨県南アルプス市寺部"]
["4000334","山梨県南アルプス市藤田"]
["4000214","山梨県南アルプス市百々"]
["4000336","山梨県南アルプス市十日市場"]
["4000203","山梨県南アルプス市徳永"]
["4000414","山梨県南アルプス市戸田"]
["4000316","山梨県南アルプス市中野"]
["4000411","山梨県南アルプス市西南湖"]
["4000213","山梨県南アルプス市西野"]
["4000422","山梨県南アルプス市荊沢"]
["4000412","山梨県南アルプス市東南湖"]
["4000313","山梨県南アルプス市平岡"]
["4000404","山梨県南アルプス市古市場"]
["4000415","山梨県南アルプス市宮沢"]
["4000206","山梨県南アルプス市六科"]
["4000301","山梨県南アルプス市桃園"]
["4000205","山梨県南アルプス市野牛島"]
["4000308","山梨県南アルプス市山寺"]
["4000425","山梨県南アルプス市湯沢"]
["4000304","山梨県南アルプス市吉田"]
["4080000","山梨県北杜市"]
["4080201","山梨県北杜市明野町浅尾"]
["4080205","山梨県北杜市明野町浅尾新田"]
["4080204","山梨県北杜市明野町上手"]
["4080202","山梨県北杜市明野町小笠原"]
["4080207","山梨県北杜市明野町上神取"]
["4080203","山梨県北杜市明野町三之蔵"]
["4080206","山梨県北杜市明野町下神取"]
["4070311","山梨県北杜市大泉町西井出８２４０－１（美森、たかね荘、清泉寮、サンメドウズスキー場）"]
["4091501","山梨県北杜市大泉町西井出（その他）"]
["4091502","山梨県北杜市大泉町谷戸"]
["4080044","山梨県北杜市小淵沢町"]
["4080041","山梨県北杜市小淵沢町上笹尾"]
["4080043","山梨県北杜市小淵沢町下笹尾"]
["4080042","山梨県北杜市小淵沢町松向"]
["4080111","山梨県北杜市須玉町穴平"]
["4080103","山梨県北杜市須玉町江草"]
["4080113","山梨県北杜市須玉町大蔵"]
["4080101","山梨県北杜市須玉町小尾"]
["4070321","山梨県北杜市須玉町上津金"]
["4080104","山梨県北杜市須玉町小倉"]
["4080116","山梨県北杜市須玉町境之澤"]
["4070322","山梨県北杜市須玉町下津金"]
["4080114","山梨県北杜市須玉町藤田"]
["4080105","山梨県北杜市須玉町東向"]
["4080102","山梨県北杜市須玉町比志"]
["4080115","山梨県北杜市須玉町大豆生田"]
["4080112","山梨県北杜市須玉町若神子"]
["4080117","山梨県北杜市須玉町若神子新町"]
["4070302","山梨県北杜市高根町浅川"]
["4080016","山梨県北杜市高根町上黒澤"]
["4070301","山梨県北杜市高根町清里"]
["4080013","山梨県北杜市高根町蔵原"]
["4080014","山梨県北杜市高根町小池"]
["4080017","山梨県北杜市高根町五町田"]
["4080015","山梨県北杜市高根町下黒澤"]
["4080004","山梨県北杜市高根町堤"]
["4080001","山梨県北杜市高根町長沢"]
["4080003","山梨県北杜市高根町東井出"]
["4080012","山梨県北杜市高根町箕輪"]
["4080011","山梨県北杜市高根町箕輪新町"]
["4080002","山梨県北杜市高根町村山北割"]
["4080018","山梨県北杜市高根町村山西割"]
["4080019","山梨県北杜市高根町村山東割"]
["4080032","山梨県北杜市長坂町大井ケ森"]
["4080034","山梨県北杜市長坂町大八田"]
["4080031","山梨県北杜市長坂町小荒間"]
["4080023","山梨県北杜市長坂町渋沢"]
["4080033","山梨県北杜市長坂町白井沢"]
["4080022","山梨県北杜市長坂町塚川"]
["4080024","山梨県北杜市長坂町富岡"]
["4080021","山梨県北杜市長坂町長坂上条"]
["4080025","山梨県北杜市長坂町長坂下条"]
["4080037","山梨県北杜市長坂町中島"]
["4080036","山梨県北杜市長坂町中丸"]
["4080035","山梨県北杜市長坂町夏秋"]
["4080026","山梨県北杜市長坂町日野"]
["4080319","山梨県北杜市白州町大武川"]
["4080318","山梨県北杜市白州町上教来石"]
["4080317","山梨県北杜市白州町下教来石"]
["4080315","山梨県北杜市白州町白須"]
["4080312","山梨県北杜市白州町台ケ原"]
["4080314","山梨県北杜市白州町大坊"]
["4080316","山梨県北杜市白州町鳥原"]
["4080311","山梨県北杜市白州町花水"]
["4080313","山梨県北杜市白州町横手"]
["4080305","山梨県北杜市武川町黒澤"]
["4080304","山梨県北杜市武川町新奥"]
["4080302","山梨県北杜市武川町牧原"]
["4080301","山梨県北杜市武川町三吹"]
["4080303","山梨県北杜市武川町宮脇"]
["4080307","山梨県北杜市武川町柳澤"]
["4080306","山梨県北杜市武川町山高"]
["4000100","山梨県甲斐市"]
["4001126","山梨県甲斐市安寺"]
["4000106","山梨県甲斐市岩森"]
["4000121","山梨県甲斐市牛句"]
["4001114","山梨県甲斐市打返"]
["4000108","山梨県甲斐市宇津谷"]
["4001115","山梨県甲斐市漆戸"]
["4000128","山梨県甲斐市大久保"]
["4000126","山梨県甲斐市大下条"]
["4000103","山梨県甲斐市大垈"]
["4001121","山梨県甲斐市上芦沢"]
["4001117","山梨県甲斐市上菅口"]
["4001123","山梨県甲斐市上福沢"]
["4001113","山梨県甲斐市亀沢（その他）"]
["4001131","山梨県甲斐市亀沢（大明神、６９４９番地）"]
["4001112","山梨県甲斐市吉沢"]
["4001127","山梨県甲斐市神戸"]
["4000122","山梨県甲斐市境"]
["4001116","山梨県甲斐市獅子平"]
["4000107","山梨県甲斐市志田"]
["4000115","山梨県甲斐市篠原"]
["4000123","山梨県甲斐市島上条"]
["4001122","山梨県甲斐市下芦沢"]
["4000105","山梨県甲斐市下今井"]
["4001125","山梨県甲斐市下菅口"]
["4001124","山梨県甲斐市下福沢"]
["4000101","山梨県甲斐市菖蒲沢"]
["4001111","山梨県甲斐市千田"]
["4000116","山梨県甲斐市玉川"]
["4000102","山梨県甲斐市団子新居"]
["4000127","山梨県甲斐市天狗沢"]
["4000113","山梨県甲斐市富竹新田"]
["4000124","山梨県甲斐市中下条"]
["4000125","山梨県甲斐市長塚"]
["4000112","山梨県甲斐市名取"]
["4000117","山梨県甲斐市西八幡"]
["4000114","山梨県甲斐市万才"]
["4000118","山梨県甲斐市竜王"]
["4000111","山梨県甲斐市竜王新町"]
["4000104","山梨県甲斐市龍地"]
["4060000","山梨県笛吹市"]
["4093702","山梨県笛吹市芦川町新井原"]
["4093704","山梨県笛吹市芦川町鶯宿"]
["4093701","山梨県笛吹市芦川町上芦川"]
["4093703","山梨県笛吹市芦川町中芦川"]
["4060031","山梨県笛吹市石和町市部"]
["4060045","山梨県笛吹市石和町井戸"]
["4060042","山梨県笛吹市石和町今井"]
["4060028","山梨県笛吹市石和町駅前"]
["4060025","山梨県笛吹市石和町上平井"]
["4060034","山梨県笛吹市石和町唐柏"]
["4060024","山梨県笛吹市石和町川中島"]
["4060036","山梨県笛吹市石和町窪中島"]
["4060033","山梨県笛吹市石和町小石和"]
["4060043","山梨県笛吹市石和町河内"]
["4060027","山梨県笛吹市石和町下平井"]
["4060044","山梨県笛吹市石和町砂原"]
["4060026","山梨県笛吹市石和町中川"]
["4060023","山梨県笛吹市石和町八田"]
["4060046","山梨県笛吹市石和町東油川"]
["4060041","山梨県笛吹市石和町東高橋"]
["4060035","山梨県笛吹市石和町広瀬"]
["4060021","山梨県笛吹市石和町松本"]
["4060022","山梨県笛吹市石和町山崎"]
["4060032","山梨県笛吹市石和町四日市場"]
["4050065","山梨県笛吹市一宮町新巻"]
["4050061","山梨県笛吹市一宮町石"]
["4050063","山梨県笛吹市一宮町市之蔵"]
["4050056","山梨県笛吹市一宮町一ノ宮"]
["4050062","山梨県笛吹市一宮町金沢"]
["4050079","山梨県笛吹市一宮町金田"]
["4050059","山梨県笛吹市一宮町上矢作"]
["4050066","山梨県笛吹市一宮町神沢"]
["4050051","山梨県笛吹市一宮町北野呂"]
["4050071","山梨県笛吹市一宮町北都塚"]
["4050068","山梨県笛吹市一宮町狐新居"]
["4050074","山梨県笛吹市一宮町国分"]
["4050058","山梨県笛吹市一宮町小城"]
["4050064","山梨県笛吹市一宮町塩田"]
["4050055","山梨県笛吹市一宮町地蔵堂"]
["4050057","山梨県笛吹市一宮町下矢作"]
["4050073","山梨県笛吹市一宮町末木"]
["4050054","山梨県笛吹市一宮町千米寺"]
["4050076","山梨県笛吹市一宮町竹原田"]
["4050078","山梨県笛吹市一宮町田中"]
["4050067","山梨県笛吹市一宮町土塚"]
["4050077","山梨県笛吹市一宮町坪井"]
["4050053","山梨県笛吹市一宮町中尾"]
["4050075","山梨県笛吹市一宮町橋立"]
["4050069","山梨県笛吹市一宮町東新居"]
["4050075","山梨県笛吹市一宮町東原"]
["4050052","山梨県笛吹市一宮町南野呂"]
["4050072","山梨県笛吹市一宮町本都塚"]
["4060005","山梨県笛吹市春日居町加茂"]
["4060012","山梨県笛吹市春日居町熊野堂"]
["4060003","山梨県笛吹市春日居町桑戸"]
["4060014","山梨県笛吹市春日居町国府"]
["4060004","山梨県笛吹市春日居町小松"]
["4060015","山梨県笛吹市春日居町鎮目"]
["4060001","山梨県笛吹市春日居町下岩下"]
["4060013","山梨県笛吹市春日居町寺本"]
["4060011","山梨県笛吹市春日居町徳条"]
["4060002","山梨県笛吹市春日居町別田"]
["4060842","山梨県笛吹市境川町石橋"]
["4060855","山梨県笛吹市境川町大窪"]
["4060852","山梨県笛吹市境川町大黒坂"]
["4060841","山梨県笛吹市境川町大坪"]
["4060851","山梨県笛吹市境川町小黒坂"]
["4060844","山梨県笛吹市境川町小山"]
["4060854","山梨県笛吹市境川町寺尾"]
["4060853","山梨県笛吹市境川町藤垈"]
["4060845","山梨県笛吹市境川町坊ケ峰"]
["4060843","山梨県笛吹市境川町前間田"]
["4060846","山梨県笛吹市境川町三椚"]
["4060803","山梨県笛吹市御坂町井之上"]
["4060817","山梨県笛吹市御坂町大野寺"]
["4060815","山梨県笛吹市御坂町尾山"]
["4060802","山梨県笛吹市御坂町金川原"]
["4060813","山梨県笛吹市御坂町上黒駒"]
["4060805","山梨県笛吹市御坂町栗合"]
["4060808","山梨県笛吹市御坂町国衙"]
["4060812","山梨県笛吹市御坂町下黒駒"]
["4060811","山梨県笛吹市御坂町下野原"]
["4060818","山梨県笛吹市御坂町蕎麦塚"]
["4060816","山梨県笛吹市御坂町竹居"]
["4060814","山梨県笛吹市御坂町藤野木"]
["4060804","山梨県笛吹市御坂町夏目原"]
["4060801","山梨県笛吹市御坂町成田"]
["4060807","山梨県笛吹市御坂町二之宮"]
["4060806","山梨県笛吹市御坂町八千蔵"]
["4060825","山梨県笛吹市八代町大間田"]
["4060834","山梨県笛吹市八代町岡"]
["4060821","山梨県笛吹市八代町北"]
["4060831","山梨県笛吹市八代町高家"]
["4060832","山梨県笛吹市八代町竹居"]
["4060823","山梨県笛吹市八代町永井"]
["4060833","山梨県笛吹市八代町奈良原"]
["4060824","山梨県笛吹市八代町増利"]
["4060822","山梨県笛吹市八代町南"]
["4060835","山梨県笛吹市八代町米倉"]
["4090100","山梨県上野原市"]
["4010201","山梨県上野原市秋山"]
["4090135","山梨県上野原市芦垣"]
["4090113","山梨県上野原市新田"]
["4090124","山梨県上野原市犬目"]
["4090112","山梨県上野原市上野原"]
["4090134","山梨県上野原市大椚"]
["4090138","山梨県上野原市大倉"]
["4090131","山梨県上野原市大曽根"]
["4090123","山梨県上野原市大野"]
["4090122","山梨県上野原市川合"]
["4090136","山梨県上野原市桑久保"]
["4090126","山梨県上野原市コモアしおつ"]
["4090141","山梨県上野原市西原"]
["4090121","山梨県上野原市四方津"]
["4090132","山梨県上野原市鶴川"]
["4090114","山梨県上野原市鶴島"]
["4090125","山梨県上野原市野田尻"]
["4090115","山梨県上野原市松留"]
["4090133","山梨県上野原市八ツ沢"]
["4090111","山梨県上野原市棡原"]
["4090137","山梨県上野原市和見"]
["4040000","山梨県甲州市"]
["4040033","山梨県甲州市塩山赤尾"]
["4040021","山梨県甲州市塩山一之瀬高橋"]
["4091213","山梨県甲州市塩山牛奥（５５３２～５５５０、奥野田開拓、嵯峨塩開拓、嵯峨塩温泉）"]
["4091321","山梨県甲州市塩山牛奥（５２８８、５２８８－１、５２８８－３、５２８９、５２８９"]
["4091321","山梨県甲州市－２、５２８９－１５）"]
["4040034","山梨県甲州市塩山牛奥（その他）"]
["4040211","山梨県甲州市塩山小屋敷（滑沢）"]
["4040053","山梨県甲州市塩山小屋敷（その他）"]
["4040031","山梨県甲州市塩山上粟生野"]
["4040046","山梨県甲州市塩山上井尻"]
["4040042","山梨県甲州市塩山上於曽"]
["4040026","山梨県甲州市塩山上小田原"]
["4040045","山梨県甲州市塩山上塩後"]
["4091211","山梨県甲州市塩山上萩原（４０５１、４７８３、４７８４、すずらん荘、東電上部ダム）"]
["4040022","山梨県甲州市塩山上萩原（その他）"]
["4040037","山梨県甲州市塩山西広門田"]
["4040036","山梨県甲州市塩山熊野"]
["4040032","山梨県甲州市塩山下粟生野"]
["4040043","山梨県甲州市塩山下於曽"]
["4040025","山梨県甲州市塩山下小田原"]
["4040044","山梨県甲州市塩山下塩後"]
["4040024","山梨県甲州市塩山下萩原"]
["4040055","山梨県甲州市塩山下柚木"]
["4040051","山梨県甲州市塩山竹森"]
["4040041","山梨県甲州市塩山千野"]
["4091212","山梨県甲州市塩山中萩原（日川小屋）"]
["4040023","山梨県甲州市塩山中萩原（その他）"]
["4040035","山梨県甲州市塩山西野原"]
["4040052","山梨県甲州市塩山平沢"]
["4040056","山梨県甲州市塩山福生里"]
["4040054","山梨県甲州市塩山藤木"]
["4040047","山梨県甲州市塩山三日市場"]
["4091303","山梨県甲州市勝沼町小佐手"]
["4091316","山梨県甲州市勝沼町勝沼"]
["4091312","山梨県甲州市勝沼町上岩崎"]
["4091304","山梨県甲州市勝沼町休息"]
["4091313","山梨県甲州市勝沼町下岩崎"]
["4091315","山梨県甲州市勝沼町等々力"]
["4091301","山梨県甲州市勝沼町中原"]
["4091302","山梨県甲州市勝沼町菱山"]
["4091311","山梨県甲州市勝沼町深沢"]
["4091314","山梨県甲州市勝沼町藤井"]
["4091306","山梨県甲州市勝沼町山"]
["4091305","山梨県甲州市勝沼町綿塚"]
["4091202","山梨県甲州市大和町田野"]
["4091205","山梨県甲州市大和町鶴瀬"]
["4091201","山梨県甲州市大和町木賊"]
["4091203","山梨県甲州市大和町初鹿野"]
["4091204","山梨県甲州市大和町日影"]
["4093800","山梨県中央市"]
["4001514","山梨県中央市浅利"]
["4093813","山梨県中央市一町畑"]
["4093804","山梨県中央市井之口"]
["4093834","山梨県中央市今福"]
["4093835","山梨県中央市今福新田"]
["4093844","山梨県中央市臼井阿原"]
["4093831","山梨県中央市大田和"]
["4001513","山梨県中央市大鳥居"]
["4093812","山梨県中央市乙黒"]
["4093823","山梨県中央市上三條"]
["4001511","山梨県中央市木原"]
["4093811","山梨県中央市極楽寺"]
["4093821","山梨県中央市下河東"]
["4093822","山梨県中央市下三條"]
["4001512","山梨県中央市関原"]
["4001515","山梨県中央市高部"]
["4093801","山梨県中央市中楯"]
["4093815","山梨県中央市成島"]
["4093802","山梨県中央市西新居"]
["4093843","山梨県中央市西花輪"]
["4093842","山梨県中央市東花輪"]
["4093833","山梨県中央市藤巻"]
["4093841","山梨県中央市布施"]
["4093832","山梨県中央市馬籠"]
["4093814","山梨県中央市町之田"]
["4093845","山梨県中央市山之神"]
["4093803","山梨県中央市若宮"]
["4093600","山梨県西八代郡市川三郷町"]
["4093601","山梨県西八代郡市川三郷町市川大門"]
["4093234","山梨県西八代郡市川三郷町岩下"]
["4093244","山梨県西八代郡市川三郷町岩間"]
["4093607","山梨県西八代郡市川三郷町印沢"]
["4093612","山梨県西八代郡市川三郷町上野"]
["4093611","山梨県西八代郡市川三郷町大塚"]
["4093231","山梨県西八代郡市川三郷町落居"]
["4093243","山梨県西八代郡市川三郷町鴨狩津向"]
["4093245","山梨県西八代郡市川三郷町楠甫"]
["4093603","山梨県西八代郡市川三郷町黒沢"]
["4093233","山梨県西八代郡市川三郷町五八"]
["4093622","山梨県西八代郡市川三郷町三帳"]
["4093621","山梨県西八代郡市川三郷町下芦川"]
["4093605","山梨県西八代郡市川三郷町下大鳥居"]
["4093606","山梨県西八代郡市川三郷町高田"]
["4093623","山梨県西八代郡市川三郷町高萩"]
["4093241","山梨県西八代郡市川三郷町葛籠沢"]
["4093232","山梨県西八代郡市川三郷町寺所"]
["4093625","山梨県西八代郡市川三郷町中山"]
["4093624","山梨県西八代郡市川三郷町垈"]
["4093626","山梨県西八代郡市川三郷町畑熊"]
["4093604","山梨県西八代郡市川三郷町八之尻"]
["4093242","山梨県西八代郡市川三郷町宮原"]
["4093602","山梨県西八代郡市川三郷町山保"]
["4092700","山梨県南巨摩郡早川町"]
["4092733","山梨県南巨摩郡早川町赤沢"]
["4092734","山梨県南巨摩郡早川町雨畑"]
["4092703","山梨県南巨摩郡早川町新倉"]
["4092731","山梨県南巨摩郡早川町大島"]
["4092704","山梨県南巨摩郡早川町大原野"]
["4092715","山梨県南巨摩郡早川町京ケ島"]
["4092714","山梨県南巨摩郡早川町草塩"]
["4092723","山梨県南巨摩郡早川町榑坪"]
["4092732","山梨県南巨摩郡早川町高住"]
["4092725","山梨県南巨摩郡早川町小縄"]
["4092722","山梨県南巨摩郡早川町笹走"]
["4092721","山梨県南巨摩郡早川町塩之上"]
["4092726","山梨県南巨摩郡早川町千須和"]
["4092711","山梨県南巨摩郡早川町黒桂"]
["4092701","山梨県南巨摩郡早川町奈良田"]
["4092712","山梨県南巨摩郡早川町西之宮"]
["4092724","山梨県南巨摩郡早川町初鹿島"]
["4092705","山梨県南巨摩郡早川町早川"]
["4092713","山梨県南巨摩郡早川町保"]
["4092727","山梨県南巨摩郡早川町薬袋"]
["4092702","山梨県南巨摩郡早川町湯島"]
["4092500","山梨県南巨摩郡身延町"]
["4092536","山梨県南巨摩郡身延町相又"]
["4092521","山梨県南巨摩郡身延町粟倉"]
["4093423","山梨県南巨摩郡身延町飯富"]
["4092938","山梨県南巨摩郡身延町市之瀬"]
["4092937","山梨県南巨摩郡身延町一色"]
["4093424","山梨県南巨摩郡身延町伊沼"]
["4092933","山梨県南巨摩郡身延町岩欠"]
["4092947","山梨県南巨摩郡身延町上之平"]
["4092531","山梨県南巨摩郡身延町梅平"]
["4093434","山梨県南巨摩郡身延町江尻窪"]
["4092934","山梨県南巨摩郡身延町大炊平"]
["4093111","山梨県南巨摩郡身延町大磯小磯"]
["4092406","山梨県南巨摩郡身延町大崩"]
["4093311","山梨県南巨摩郡身延町大塩"]
["4092415","山梨県南巨摩郡身延町大島"]
["4092537","山梨県南巨摩郡身延町大城"]
["4092404","山梨県南巨摩郡身延町大垈"]
["4092532","山梨県南巨摩郡身延町大野"]
["4093121","山梨県南巨摩郡身延町大山"]
["4093433","山梨県南巨摩郡身延町遅沢"]
["4092539","山梨県南巨摩郡身延町小田船原"]
["4092403","山梨県南巨摩郡身延町帯金"]
["4093101","山梨県南巨摩郡身延町折門"]
["4092538","山梨県南巨摩郡身延町門野"]
["4093105","山梨県南巨摩郡身延町釜額"]
["4093118","山梨県南巨摩郡身延町上田原"]
["4092401","山梨県南巨摩郡身延町上八木沢"]
["4092943","山梨県南巨摩郡身延町川向"]
["4092931","山梨県南巨摩郡身延町北川"]
["4092935","山梨県南巨摩郡身延町清沢"]
["4093304","山梨県南巨摩郡身延町切石"]
["4093115","山梨県南巨摩郡身延町切房木"]
["4093312","山梨県南巨摩郡身延町久成"]
["4093122","山梨県南巨摩郡身延町久保"]
["4093123","山梨県南巨摩郡身延町熊沢"]
["4093116","山梨県南巨摩郡身延町車田"]
["4093112","山梨県南巨摩郡身延町芝草"]
["4093305","山梨県南巨摩郡身延町下田原"]
["4092942","山梨県南巨摩郡身延町下部"]
["4092402","山梨県南巨摩郡身延町下八木沢"]
["4092522","山梨県南巨摩郡身延町下山"]
["4092932","山梨県南巨摩郡身延町杉山"]
["4092533","山梨県南巨摩郡身延町清子"]
["4093107","山梨県南巨摩郡身延町瀬戸"]
["4092946","山梨県南巨摩郡身延町大子"]
["4092412","山梨県南巨摩郡身延町角打"]
["4092405","山梨県南巨摩郡身延町椿草里"]
["4093302","山梨県南巨摩郡身延町手打沢"]
["4093303","山梨県南巨摩郡身延町寺沢"]
["4093124","山梨県南巨摩郡身延町樋田"]
["4092936","山梨県南巨摩郡身延町常葉"]
["4093104","山梨県南巨摩郡身延町中之倉"]
["4093432","山梨県南巨摩郡身延町中山"]
["4093435","山梨県南巨摩郡身延町梨子"]
["4093301","山梨県南巨摩郡身延町西嶋"]
["4093103","山梨県南巨摩郡身延町根子"]
["4092523","山梨県南巨摩郡身延町波木井"]
["4092945","山梨県南巨摩郡身延町波高島"]
["4093102","山梨県南巨摩郡身延町八坂"]
["4093307","山梨県南巨摩郡身延町日向南沢"]
["4092414","山梨県南巨摩郡身延町樋之上"]
["4093313","山梨県南巨摩郡身延町平須"]
["4093436","山梨県南巨摩郡身延町福原"]
["4093106","山梨県南巨摩郡身延町古関"]
["4093437","山梨県南巨摩郡身延町古長谷"]
["4092411","山梨県南巨摩郡身延町丸滝"]
["4093117","山梨県南巨摩郡身延町三沢"]
["4093113","山梨県南巨摩郡身延町水船"]
["4093114","山梨県南巨摩郡身延町道"]
["4092534","山梨県南巨摩郡身延町光子沢"]
["4093125","山梨県南巨摩郡身延町嶺"]
["4092524","山梨県南巨摩郡身延町身延"]
["4093422","山梨県南巨摩郡身延町宮木"]
["4092944","山梨県南巨摩郡身延町桃ケ窪"]
["4093431","山梨県南巨摩郡身延町矢細工"]
["4093126","山梨県南巨摩郡身延町山家"]
["4092941","山梨県南巨摩郡身延町湯之奥"]
["4093421","山梨県南巨摩郡身延町八日市場"]
["4093306","山梨県南巨摩郡身延町夜子沢"]
["4092535","山梨県南巨摩郡身延町横根中"]
["4092413","山梨県南巨摩郡身延町和田"]
["4092100","山梨県南巨摩郡南部町"]
["4092304","山梨県南巨摩郡南部町井出"]
["4092305","山梨県南巨摩郡南部町内船"]
["4092213","山梨県南巨摩郡南部町大和"]
["4092101","山梨県南巨摩郡南部町楮根"]
["4092301","山梨県南巨摩郡南部町上佐野"]
["4092214","山梨県南巨摩郡南部町塩沢"]
["4092302","山梨県南巨摩郡南部町下佐野"]
["4092303","山梨県南巨摩郡南部町十島"]
["4092211","山梨県南巨摩郡南部町中野"]
["4092216","山梨県南巨摩郡南部町成島"]
["4092212","山梨県南巨摩郡南部町南部"]
["4092102","山梨県南巨摩郡南部町福士"]
["4092217","山梨県南巨摩郡南部町本郷"]
["4092103","山梨県南巨摩郡南部町万沢"]
["4092215","山梨県南巨摩郡南部町柳島"]
["4000500","山梨県南巨摩郡富士川町"]
["4000501","山梨県南巨摩郡富士川町青柳町"]
["4000602","山梨県南巨摩郡富士川町駅前通"]
["4000506","山梨県南巨摩郡富士川町大椚"]
["4000511","山梨県南巨摩郡富士川町大久保"]
["4000601","山梨県南巨摩郡富士川町鰍沢"]
["4000603","山梨県南巨摩郡富士川町鹿島"]
["4000504","山梨県南巨摩郡富士川町小林"]
["4000512","山梨県南巨摩郡富士川町小室"]
["4000502","山梨県南巨摩郡富士川町最勝寺"]
["4000606","山梨県南巨摩郡富士川町十谷"]
["4000513","山梨県南巨摩郡富士川町高下"]
["4000608","山梨県南巨摩郡富士川町長知沢"]
["4000515","山梨県南巨摩郡富士川町舂米"]
["4000503","山梨県南巨摩郡富士川町天神中條"]
["4000607","山梨県南巨摩郡富士川町鳥屋"]
["4000505","山梨県南巨摩郡富士川町長澤"]
["4000604","山梨県南巨摩郡富士川町箱原"]
["4000514","山梨県南巨摩郡富士川町平林"]
["4000605","山梨県南巨摩郡富士川町柳川"]
["4093800","山梨県中巨摩郡昭和町"]
["4093852","山梨県中巨摩郡昭和町飯喰"]
["4093864","山梨県中巨摩郡昭和町押越"]
["4093851","山梨県中巨摩郡昭和町河西"]
["4093863","山梨県中巨摩郡昭和町河東中島"]
["4093862","山梨県中巨摩郡昭和町上河東"]
["4093861","山梨県中巨摩郡昭和町紙漉阿原"]
["4093866","山梨県中巨摩郡昭和町西条"]
["4093865","山梨県中巨摩郡昭和町西条新田"]
["4093867","山梨県中巨摩郡昭和町清水新居"]
["4093853","山梨県中巨摩郡昭和町築地新居"]
["4093854","山梨県中巨摩郡昭和町築地新田"]
["4020200","山梨県南都留郡道志村"]
["4020225","山梨県南都留郡道志村板橋"]
["4020207","山梨県南都留郡道志村大栗"]
["4020215","山梨県南都留郡道志村大指"]
["4020202","山梨県南都留郡道志村大野"]
["4020204","山梨県南都留郡道志村大室指"]
["4020214","山梨県南都留郡道志村川原畑"]
["4020216","山梨県南都留郡道志村釜之前"]
["4020227","山梨県南都留郡道志村上白井平"]
["4020223","山梨県南都留郡道志村上善之木"]
["4020221","山梨県南都留郡道志村上中山"]
["4020224","山梨県南都留郡道志村川村"]
["4020203","山梨県南都留郡道志村久保"]
["4020206","山梨県南都留郡道志村小善地"]
["4020226","山梨県南都留郡道志村下白井平"]
["4020222","山梨県南都留郡道志村下善之木"]
["4020219","山梨県南都留郡道志村下中山"]
["4020209","山梨県南都留郡道志村竹之本"]
["4020201","山梨県南都留郡道志村月夜野"]
["4020205","山梨県南都留郡道志村椿"]
["4020218","山梨県南都留郡道志村中神地"]
["4020228","山梨県南都留郡道志村長又"]
["4020212","山梨県南都留郡道志村西和出村"]
["4020208","山梨県南都留郡道志村馬場"]
["4020217","山梨県南都留郡道志村東神地"]
["4020211","山梨県南都留郡道志村東和出村"]
["4020213","山梨県南都留郡道志村谷相"]
["4030000","山梨県南都留郡西桂町"]
["4030022","山梨県南都留郡西桂町小沼"]
["4030023","山梨県南都留郡西桂町倉見"]
["4030021","山梨県南都留郡西桂町下暮地"]
["4010500","山梨県南都留郡忍野村"]
["4010512","山梨県南都留郡忍野村内野"]
["4010511","山梨県南都留郡忍野村忍草"]
["4010500","山梨県南都留郡山中湖村"]
["4010502","山梨県南都留郡山中湖村平野"]
["4010501","山梨県南都留郡山中湖村山中"]
["4010320","山梨県南都留郡鳴沢村鳴沢村一円"]
["4010300","山梨県南都留郡富士河口湖町"]
["4010303","山梨県南都留郡富士河口湖町浅川"]
["4010335","山梨県南都留郡富士河口湖町大嵐"]
["4010305","山梨県南都留郡富士河口湖町大石"]
["4010310","山梨県南都留郡富士河口湖町勝山"]
["4010304","山梨県南都留郡富士河口湖町河口"]
["4010302","山梨県南都留郡富士河口湖町小立"]
["4010332","山梨県南都留郡富士河口湖町西湖"]
["4010333","山梨県南都留郡富士河口湖町西湖西"]
["4010334","山梨県南都留郡富士河口湖町西湖南"]
["4010336","山梨県南都留郡富士河口湖町精進"]
["4010331","山梨県南都留郡富士河口湖町長浜"]
["4010338","山梨県南都留郡富士河口湖町富士ケ嶺"]
["4010301","山梨県南都留郡富士河口湖町船津"]
["4010337","山梨県南都留郡富士河口湖町本栖"]
["4090200","山梨県北都留郡小菅村"]
["4090142","山梨県北都留郡小菅村小菅村（１～６６３）"]
["4090211","山梨県北都留郡小菅村小菅村（６６４以上）"]
["4090300","山梨県北都留郡丹波山村"]
["4090301","山梨県北都留郡丹波山村奥秋"]
["4090306","山梨県北都留郡丹波山村押垣外"]
["4090314","山梨県北都留郡丹波山村御祭"]
["4090313","山梨県北都留郡丹波山村親川"]
["4090302","山梨県北都留郡丹波山村上組"]
["4090318","山梨県北都留郡丹波山村鴨沢"]
["4090317","山梨県北都留郡丹波山村小袖"]
["4090304","山梨県北都留郡丹波山村下組"]
["4090315","山梨県北都留郡丹波山村杉奈久保"]
["4090305","山梨県北都留郡丹波山村高尾"]
["4090312","山梨県北都留郡丹波山村高畑"]
["4090316","山梨県北都留郡丹波山村所畑"]
["4090303","山梨県北都留郡丹波山村中組"]
["4090311","山梨県北都留郡丹波山村保之瀬"]

{"sheet":"地区緑推一覧","index":15,"n_rows":7,"n_cols":3,"rows_kept":7,"cut":false,"hidden":true,"merged":[]}
["＜地区緑推一覧＞"]
["地区緑化推進組織名","地区番号","文書種別"]
[]
["中北地区緑化推進会議",1,"中北緑推"]
["峡東地区緑化推進会議",2,"峡東緑推"]
["峡南地区緑化推進会議",3,"峡南緑推"]
["富士・東部地区緑化推進会議",4,"富東緑推"]

{"sheet":"市町村一覧","index":16,"n_rows":30,"n_cols":2,"rows_kept":30,"cut":false,"hidden":true,"merged":[]}
["＜市町村一覧＞"]
["市町村緑化推進組織名","市町村番号"]
[]
["甲府市緑化推進会議",1]
["韮崎市緑化推進会議",2]
["南アルプス市緑化推進会議",3]
["北杜市緑化推進会議",4]
["甲斐市緑化推進協議会",5]
["中央市緑化推進会議",{"$f":"B8+1","v":6}]
["昭和町緑化推進委員会",{"$f":"B9+1","v":7}]
["山梨市緑化推進委員会",8]
["笛吹市緑化推進会議",9]
["甲州市緑化推進会議　",10]
["市川三郷町緑化推進委員会",11]
["富士川町緑化推進会議",12]
["早川町緑化推進会議",13]
["身延町緑化推進委員会",14]
["南部町緑化推進委員会",15]
["富士吉田市緑化推進委員会",16]
["都留市緑化推進会議",17]
["大月市緑化推進会議",18]
["上野原市緑化推進会議",19]
["道志村緑化推進会議",20]
["西桂町緑化推進会議",21]
["忍野村緑化推進委員会",22]
["山中湖村緑化推進委員会",23]
["鳴沢村緑化推進委員会",24]
["富士河口湖町緑化推進会議　",25]
["小菅村緑化推進会議",26]
["丹波山村緑化推進会議",27]

{"sheet":"申請区分","index":17,"n_rows":6,"n_cols":2,"rows_kept":6,"cut":false,"hidden":true,"merged":[]}
["＜申請区分＞"]
["申請区分","番号"]
[]
["変更",1]
["中止",2]
["廃止",3]